BEGIN:VCALENDAR
VERSION:2.0
PRODID:-//Ashtanga Anyways - ECPv6.15.18//NONSGML v1.0//EN
CALSCALE:GREGORIAN
METHOD:PUBLISH
X-WR-CALNAME:Ashtanga Anyways
X-ORIGINAL-URL:https://ashtangaanyways.com
X-WR-CALDESC:Wydarzenia dla Ashtanga Anyways
REFRESH-INTERVAL;VALUE=DURATION:PT1H
X-Robots-Tag:noindex
X-PUBLISHED-TTL:PT1H
BEGIN:VTIMEZONE
TZID:Europe/Warsaw
BEGIN:DAYLIGHT
TZOFFSETFROM:+0100
TZOFFSETTO:+0200
TZNAME:CEST
DTSTART:20250330T010000
END:DAYLIGHT
BEGIN:STANDARD
TZOFFSETFROM:+0200
TZOFFSETTO:+0100
TZNAME:CET
DTSTART:20251026T010000
END:STANDARD
BEGIN:DAYLIGHT
TZOFFSETFROM:+0100
TZOFFSETTO:+0200
TZNAME:CEST
DTSTART:20260329T010000
END:DAYLIGHT
BEGIN:STANDARD
TZOFFSETFROM:+0200
TZOFFSETTO:+0100
TZNAME:CET
DTSTART:20261025T010000
END:STANDARD
BEGIN:DAYLIGHT
TZOFFSETFROM:+0100
TZOFFSETTO:+0200
TZNAME:CEST
DTSTART:20270328T010000
END:DAYLIGHT
BEGIN:STANDARD
TZOFFSETFROM:+0200
TZOFFSETTO:+0100
TZNAME:CET
DTSTART:20271031T010000
END:STANDARD
END:VTIMEZONE
BEGIN:VEVENT
DTSTART;TZID=Europe/Warsaw:20260410T110000
DTEND;TZID=Europe/Warsaw:20260417T110000
DTSTAMP:20260421T105035
CREATED:20260110T205739Z
LAST-MODIFIED:20260110T205827Z
UID:10004330-1775818800-1776423600@ashtangaanyways.com
SUMMARY:ESSAOUIRA YOGA CAMP | zanurzenie w spokoju
DESCRIPTION:Joga w Essaouirze to wyjazd dla tych\, którzy szukają równowagi między energią miasta a bliskością natury. Artystyczna medina\, muzyczne festiwale i spokojny rytm życia sprzyjają regeneracji\, zwolnieniu tempa i prawdziwemu resetowi. \n\n\n\nPoranne praktyki jogi dodadzą energii na cały dzień — na spacery po urokliwych uliczkach\, plażowanie i trekkingi przez ogrody arganowe\, wydmy i klify z widokiem na ocean\, w łagodnym świetle marokańskiego słońca. \n\n\n\nW programie: \n\n\n\n\ndodatkowy czas wolny na trekkingi\, lekcje kite lub jazdę konno.\n\n\n\nporanna ashtanga joga (dla początkujących i praktykujących)\,\n\n\n\npraktyki relaksacyjne i regeneracyjne: yin\, joga nidra\, koncert gongów i mis tybetańskich\,\n\n\n\nczas na hammam\, odkrywanie mediny\, plaże\, chill na tarasie riadu i lokalną kuchnię\,
URL:https://ashtangaanyways.com/grafik/essaessaouira-yoga-camp-zanurzenie-w-spokojuessa/
END:VEVENT
END:VCALENDAR