BEGIN:VCALENDAR
VERSION:2.0
PRODID:-//Ashtanga Anyways - ECPv6.15.18//NONSGML v1.0//EN
CALSCALE:GREGORIAN
METHOD:PUBLISH
X-WR-CALNAME:Ashtanga Anyways
X-ORIGINAL-URL:https://ashtangaanyways.com
X-WR-CALDESC:Wydarzenia dla Ashtanga Anyways
REFRESH-INTERVAL;VALUE=DURATION:PT1H
X-Robots-Tag:noindex
X-PUBLISHED-TTL:PT1H
BEGIN:VTIMEZONE
TZID:Europe/Warsaw
BEGIN:DAYLIGHT
TZOFFSETFROM:+0100
TZOFFSETTO:+0200
TZNAME:CEST
DTSTART:20250330T010000
END:DAYLIGHT
BEGIN:STANDARD
TZOFFSETFROM:+0200
TZOFFSETTO:+0100
TZNAME:CET
DTSTART:20251026T010000
END:STANDARD
BEGIN:DAYLIGHT
TZOFFSETFROM:+0100
TZOFFSETTO:+0200
TZNAME:CEST
DTSTART:20260329T010000
END:DAYLIGHT
BEGIN:STANDARD
TZOFFSETFROM:+0200
TZOFFSETTO:+0100
TZNAME:CET
DTSTART:20261025T010000
END:STANDARD
BEGIN:DAYLIGHT
TZOFFSETFROM:+0100
TZOFFSETTO:+0200
TZNAME:CEST
DTSTART:20270328T010000
END:DAYLIGHT
BEGIN:STANDARD
TZOFFSETFROM:+0200
TZOFFSETTO:+0100
TZNAME:CET
DTSTART:20271031T010000
END:STANDARD
END:VTIMEZONE
BEGIN:VEVENT
DTSTART;TZID=Europe/Warsaw:20261201T170000
DTEND;TZID=Europe/Warsaw:20261201T183000
DTSTAMP:20260422T012134
CREATED:20251228T102742Z
LAST-MODIFIED:20251228T102744Z
UID:10003329-1796144400-1796149800@ashtangaanyways.com
SUMMARY:Mysore
DESCRIPTION:Zajęcia odbywają się w każdy wtorek o 17:00-18:30 w Ashtanga Yoga Wrocław (ul. Trzebnicka 12/1\, 50-246 Wrocław). \n\n\n\n>> WIĘCEJ SZCZEGÓŁÓW <<
URL:https://ashtangaanyways.com/grafik/mysore-10/2026-12-01/
CATEGORIES:ashtanga joga,mysore,praktyka
END:VEVENT
BEGIN:VEVENT
DTSTART;TZID=Europe/Warsaw:20261201T183000
DTEND;TZID=Europe/Warsaw:20261201T193000
DTSTAMP:20260422T012134
CREATED:20240813T095954Z
LAST-MODIFIED:20251215T193627Z
UID:10002811-1796149800-1796153400@ashtangaanyways.com
SUMMARY:Ashtanga joga dla początkujących
DESCRIPTION:Zajęcia odbywają się w każdy wtorek od 18:30 do 19:30 w Ashtanga Yoga Wrocław (ul. Trzebnicka 12/1\, 50-246 Wrocław). \n\n\n\n>> WIĘCEJ SZCZEGÓŁÓW <<
URL:https://ashtangaanyways.com/grafik/ashtanga-joga-dla-poczatkujacych/2026-12-01/
CATEGORIES:ashtanga joga,praktyka
END:VEVENT
BEGIN:VEVENT
DTSTART;TZID=Europe/Warsaw:20261202T173000
DTEND;TZID=Europe/Warsaw:20261202T190000
DTSTAMP:20260422T012134
CREATED:20260110T204055Z
LAST-MODIFIED:20260110T204056Z
UID:10003592-1796232600-1796238000@ashtangaanyways.com
SUMMARY:Pierwsza seria prowadzona
DESCRIPTION:Zajęcia odbywają się w każdą środę od 17:30 do 19:00 w Ashtanga Yoga Wrocław (ul. Trzebnicka 12/1\, 50-246 Wrocław).
URL:https://ashtangaanyways.com/grafik/pierwsza-seria-prowadzona-5/2026-12-02/
END:VEVENT
BEGIN:VEVENT
DTSTART;TZID=Europe/Warsaw:20261203T170000
DTEND;TZID=Europe/Warsaw:20261203T190000
DTSTAMP:20260422T012134
CREATED:20260110T204803Z
LAST-MODIFIED:20260110T204805Z
UID:10003853-1796317200-1796324400@ashtangaanyways.com
SUMMARY:mysore
DESCRIPTION:Zajęcia odbywają się w każdą środę od 18:30 do 20:00 w Ashtanga Yoga Wrocław (ul. Trzebnicka 12/1\, 50-246 Wrocław). Praktyka Mysore jest dostępna dla wszystkich\, zarówno dla początkujących\, jak i zaawansowanych\, choć często kojarzona jest z bardziej zaawansowaną praktyką Ashtanga Jogi. W praktyce Mysore każdy uczestnik wykonuje asany we własnym tempie\, zgodnie z indywidualnymi możliwościami\, a nauczyciel pomaga poprzez korekty i dostosowanie praktyki do poziomu ucznia. Dobrze jest znać sekwencję Pierwszej Serii\, ale nie jest to konieczne. Jeśli jesteś osobą początkującą poprowadzę Cię krok po kroku.
URL:https://ashtangaanyways.com/grafik/mysore-12/2026-12-03/
LOCATION:Ashtanga Yoga Wrocław\, Trzebnicka 12/1\, Wrocław\, Dolnośląskie\, Poland
END:VEVENT
BEGIN:VEVENT
DTSTART;TZID=Europe/Warsaw:20261203T190000
DTEND;TZID=Europe/Warsaw:20261203T193000
DTSTAMP:20260422T012134
CREATED:20260110T205201Z
LAST-MODIFIED:20260110T205232Z
UID:10004115-1796324400-1796326200@ashtangaanyways.com
SUMMARY:Pół Pierwszej Serii prowadzonej
DESCRIPTION:Zajęcia odbywają się w każdy czwartek od 19:00 do 20:15 w Ashtanga Yoga Wrocław (ul. Trzebnicka 12/1\, 50-246 Wrocław).
URL:https://ashtangaanyways.com/grafik/pol-pierwszej-serii-ashtanga-jogi/2026-12-03/
LOCATION:Ashtanga Yoga Wrocław\, Trzebnicka 12/1\, Wrocław\, Dolnośląskie\, Poland
END:VEVENT
BEGIN:VEVENT
DTSTART;TZID=Europe/Warsaw:20261206T180000
DTEND;TZID=Europe/Warsaw:20261206T190000
DTSTAMP:20260422T012134
CREATED:20250703T051838Z
LAST-MODIFIED:20250921T074333Z
UID:10002458-1796580000-1796583600@ashtangaanyways.com
SUMMARY:Joga regeneracyjna i techniki relaksacji
DESCRIPTION:Łagodna\, spokojna praktyka dostosowuje się do indywidualnych potrzeb i możliwości każdego uczestnika i jest idealna dla wszystkich poszukujących spowolnienia i relaksu\, niezależnie od poziomu zaawansowania\, kondycji fizycznej czy wieku. Podczas zajęć jogi regeneracyjnej będziemy poznawać wyciszające i równoważące techniki Pranayamy a także praktykować łagodną i medytacyjną Yin jogę\, kończąc praktyki asan długim relaksem z elementami jogi Nidry. \n\n\n\n>> WIĘCEJ SZCZEGÓŁÓW <<
URL:https://ashtangaanyways.com/grafik/joga-regeneracyjna-i-techniki-relaksacji-2/2026-12-06/
CATEGORIES:joga regeneracyjna,nidra joga,yin joga
END:VEVENT
BEGIN:VEVENT
DTSTART;TZID=Europe/Warsaw:20261208T170000
DTEND;TZID=Europe/Warsaw:20261208T183000
DTSTAMP:20260422T012134
CREATED:20251228T102742Z
LAST-MODIFIED:20251228T102744Z
UID:10003330-1796749200-1796754600@ashtangaanyways.com
SUMMARY:Mysore
DESCRIPTION:Zajęcia odbywają się w każdy wtorek o 17:00-18:30 w Ashtanga Yoga Wrocław (ul. Trzebnicka 12/1\, 50-246 Wrocław). \n\n\n\n>> WIĘCEJ SZCZEGÓŁÓW <<
URL:https://ashtangaanyways.com/grafik/mysore-10/2026-12-08/
CATEGORIES:ashtanga joga,mysore,praktyka
END:VEVENT
BEGIN:VEVENT
DTSTART;TZID=Europe/Warsaw:20261208T183000
DTEND;TZID=Europe/Warsaw:20261208T193000
DTSTAMP:20260422T012134
CREATED:20240813T095954Z
LAST-MODIFIED:20251215T193627Z
UID:10002812-1796754600-1796758200@ashtangaanyways.com
SUMMARY:Ashtanga joga dla początkujących
DESCRIPTION:Zajęcia odbywają się w każdy wtorek od 18:30 do 19:30 w Ashtanga Yoga Wrocław (ul. Trzebnicka 12/1\, 50-246 Wrocław). \n\n\n\n>> WIĘCEJ SZCZEGÓŁÓW <<
URL:https://ashtangaanyways.com/grafik/ashtanga-joga-dla-poczatkujacych/2026-12-08/
CATEGORIES:ashtanga joga,praktyka
END:VEVENT
BEGIN:VEVENT
DTSTART;TZID=Europe/Warsaw:20261209T173000
DTEND;TZID=Europe/Warsaw:20261209T190000
DTSTAMP:20260422T012134
CREATED:20260110T204055Z
LAST-MODIFIED:20260110T204056Z
UID:10003593-1796837400-1796842800@ashtangaanyways.com
SUMMARY:Pierwsza seria prowadzona
DESCRIPTION:Zajęcia odbywają się w każdą środę od 17:30 do 19:00 w Ashtanga Yoga Wrocław (ul. Trzebnicka 12/1\, 50-246 Wrocław).
URL:https://ashtangaanyways.com/grafik/pierwsza-seria-prowadzona-5/2026-12-09/
END:VEVENT
BEGIN:VEVENT
DTSTART;TZID=Europe/Warsaw:20261210T170000
DTEND;TZID=Europe/Warsaw:20261210T190000
DTSTAMP:20260422T012134
CREATED:20260110T204803Z
LAST-MODIFIED:20260110T204805Z
UID:10003854-1796922000-1796929200@ashtangaanyways.com
SUMMARY:mysore
DESCRIPTION:Zajęcia odbywają się w każdą środę od 18:30 do 20:00 w Ashtanga Yoga Wrocław (ul. Trzebnicka 12/1\, 50-246 Wrocław). Praktyka Mysore jest dostępna dla wszystkich\, zarówno dla początkujących\, jak i zaawansowanych\, choć często kojarzona jest z bardziej zaawansowaną praktyką Ashtanga Jogi. W praktyce Mysore każdy uczestnik wykonuje asany we własnym tempie\, zgodnie z indywidualnymi możliwościami\, a nauczyciel pomaga poprzez korekty i dostosowanie praktyki do poziomu ucznia. Dobrze jest znać sekwencję Pierwszej Serii\, ale nie jest to konieczne. Jeśli jesteś osobą początkującą poprowadzę Cię krok po kroku.
URL:https://ashtangaanyways.com/grafik/mysore-12/2026-12-10/
LOCATION:Ashtanga Yoga Wrocław\, Trzebnicka 12/1\, Wrocław\, Dolnośląskie\, Poland
END:VEVENT
BEGIN:VEVENT
DTSTART;TZID=Europe/Warsaw:20261210T190000
DTEND;TZID=Europe/Warsaw:20261210T193000
DTSTAMP:20260422T012134
CREATED:20260110T205201Z
LAST-MODIFIED:20260110T205232Z
UID:10004116-1796929200-1796931000@ashtangaanyways.com
SUMMARY:Pół Pierwszej Serii prowadzonej
DESCRIPTION:Zajęcia odbywają się w każdy czwartek od 19:00 do 20:15 w Ashtanga Yoga Wrocław (ul. Trzebnicka 12/1\, 50-246 Wrocław).
URL:https://ashtangaanyways.com/grafik/pol-pierwszej-serii-ashtanga-jogi/2026-12-10/
LOCATION:Ashtanga Yoga Wrocław\, Trzebnicka 12/1\, Wrocław\, Dolnośląskie\, Poland
END:VEVENT
BEGIN:VEVENT
DTSTART;TZID=Europe/Warsaw:20261213T180000
DTEND;TZID=Europe/Warsaw:20261213T190000
DTSTAMP:20260422T012134
CREATED:20250703T051838Z
LAST-MODIFIED:20250921T074333Z
UID:10002459-1797184800-1797188400@ashtangaanyways.com
SUMMARY:Joga regeneracyjna i techniki relaksacji
DESCRIPTION:Łagodna\, spokojna praktyka dostosowuje się do indywidualnych potrzeb i możliwości każdego uczestnika i jest idealna dla wszystkich poszukujących spowolnienia i relaksu\, niezależnie od poziomu zaawansowania\, kondycji fizycznej czy wieku. Podczas zajęć jogi regeneracyjnej będziemy poznawać wyciszające i równoważące techniki Pranayamy a także praktykować łagodną i medytacyjną Yin jogę\, kończąc praktyki asan długim relaksem z elementami jogi Nidry. \n\n\n\n>> WIĘCEJ SZCZEGÓŁÓW <<
URL:https://ashtangaanyways.com/grafik/joga-regeneracyjna-i-techniki-relaksacji-2/2026-12-13/
CATEGORIES:joga regeneracyjna,nidra joga,yin joga
END:VEVENT
BEGIN:VEVENT
DTSTART;TZID=Europe/Warsaw:20261215T170000
DTEND;TZID=Europe/Warsaw:20261215T183000
DTSTAMP:20260422T012134
CREATED:20251228T102742Z
LAST-MODIFIED:20251228T102744Z
UID:10003331-1797354000-1797359400@ashtangaanyways.com
SUMMARY:Mysore
DESCRIPTION:Zajęcia odbywają się w każdy wtorek o 17:00-18:30 w Ashtanga Yoga Wrocław (ul. Trzebnicka 12/1\, 50-246 Wrocław). \n\n\n\n>> WIĘCEJ SZCZEGÓŁÓW <<
URL:https://ashtangaanyways.com/grafik/mysore-10/2026-12-15/
CATEGORIES:ashtanga joga,mysore,praktyka
END:VEVENT
BEGIN:VEVENT
DTSTART;TZID=Europe/Warsaw:20261215T183000
DTEND;TZID=Europe/Warsaw:20261215T193000
DTSTAMP:20260422T012134
CREATED:20240813T095954Z
LAST-MODIFIED:20251215T193627Z
UID:10002813-1797359400-1797363000@ashtangaanyways.com
SUMMARY:Ashtanga joga dla początkujących
DESCRIPTION:Zajęcia odbywają się w każdy wtorek od 18:30 do 19:30 w Ashtanga Yoga Wrocław (ul. Trzebnicka 12/1\, 50-246 Wrocław). \n\n\n\n>> WIĘCEJ SZCZEGÓŁÓW <<
URL:https://ashtangaanyways.com/grafik/ashtanga-joga-dla-poczatkujacych/2026-12-15/
CATEGORIES:ashtanga joga,praktyka
END:VEVENT
BEGIN:VEVENT
DTSTART;TZID=Europe/Warsaw:20261216T173000
DTEND;TZID=Europe/Warsaw:20261216T190000
DTSTAMP:20260422T012134
CREATED:20260110T204055Z
LAST-MODIFIED:20260110T204056Z
UID:10003594-1797442200-1797447600@ashtangaanyways.com
SUMMARY:Pierwsza seria prowadzona
DESCRIPTION:Zajęcia odbywają się w każdą środę od 17:30 do 19:00 w Ashtanga Yoga Wrocław (ul. Trzebnicka 12/1\, 50-246 Wrocław).
URL:https://ashtangaanyways.com/grafik/pierwsza-seria-prowadzona-5/2026-12-16/
END:VEVENT
BEGIN:VEVENT
DTSTART;TZID=Europe/Warsaw:20261217T170000
DTEND;TZID=Europe/Warsaw:20261217T190000
DTSTAMP:20260422T012134
CREATED:20260110T204803Z
LAST-MODIFIED:20260110T204805Z
UID:10003855-1797526800-1797534000@ashtangaanyways.com
SUMMARY:mysore
DESCRIPTION:Zajęcia odbywają się w każdą środę od 18:30 do 20:00 w Ashtanga Yoga Wrocław (ul. Trzebnicka 12/1\, 50-246 Wrocław). Praktyka Mysore jest dostępna dla wszystkich\, zarówno dla początkujących\, jak i zaawansowanych\, choć często kojarzona jest z bardziej zaawansowaną praktyką Ashtanga Jogi. W praktyce Mysore każdy uczestnik wykonuje asany we własnym tempie\, zgodnie z indywidualnymi możliwościami\, a nauczyciel pomaga poprzez korekty i dostosowanie praktyki do poziomu ucznia. Dobrze jest znać sekwencję Pierwszej Serii\, ale nie jest to konieczne. Jeśli jesteś osobą początkującą poprowadzę Cię krok po kroku.
URL:https://ashtangaanyways.com/grafik/mysore-12/2026-12-17/
LOCATION:Ashtanga Yoga Wrocław\, Trzebnicka 12/1\, Wrocław\, Dolnośląskie\, Poland
END:VEVENT
BEGIN:VEVENT
DTSTART;TZID=Europe/Warsaw:20261217T190000
DTEND;TZID=Europe/Warsaw:20261217T193000
DTSTAMP:20260422T012134
CREATED:20260110T205201Z
LAST-MODIFIED:20260110T205232Z
UID:10004117-1797534000-1797535800@ashtangaanyways.com
SUMMARY:Pół Pierwszej Serii prowadzonej
DESCRIPTION:Zajęcia odbywają się w każdy czwartek od 19:00 do 20:15 w Ashtanga Yoga Wrocław (ul. Trzebnicka 12/1\, 50-246 Wrocław).
URL:https://ashtangaanyways.com/grafik/pol-pierwszej-serii-ashtanga-jogi/2026-12-17/
LOCATION:Ashtanga Yoga Wrocław\, Trzebnicka 12/1\, Wrocław\, Dolnośląskie\, Poland
END:VEVENT
BEGIN:VEVENT
DTSTART;TZID=Europe/Warsaw:20261220T180000
DTEND;TZID=Europe/Warsaw:20261220T190000
DTSTAMP:20260422T012134
CREATED:20250703T051838Z
LAST-MODIFIED:20250921T074333Z
UID:10002460-1797789600-1797793200@ashtangaanyways.com
SUMMARY:Joga regeneracyjna i techniki relaksacji
DESCRIPTION:Łagodna\, spokojna praktyka dostosowuje się do indywidualnych potrzeb i możliwości każdego uczestnika i jest idealna dla wszystkich poszukujących spowolnienia i relaksu\, niezależnie od poziomu zaawansowania\, kondycji fizycznej czy wieku. Podczas zajęć jogi regeneracyjnej będziemy poznawać wyciszające i równoważące techniki Pranayamy a także praktykować łagodną i medytacyjną Yin jogę\, kończąc praktyki asan długim relaksem z elementami jogi Nidry. \n\n\n\n>> WIĘCEJ SZCZEGÓŁÓW <<
URL:https://ashtangaanyways.com/grafik/joga-regeneracyjna-i-techniki-relaksacji-2/2026-12-20/
CATEGORIES:joga regeneracyjna,nidra joga,yin joga
END:VEVENT
BEGIN:VEVENT
DTSTART;TZID=Europe/Warsaw:20261222T170000
DTEND;TZID=Europe/Warsaw:20261222T183000
DTSTAMP:20260422T012134
CREATED:20251228T102742Z
LAST-MODIFIED:20251228T102744Z
UID:10003332-1797958800-1797964200@ashtangaanyways.com
SUMMARY:Mysore
DESCRIPTION:Zajęcia odbywają się w każdy wtorek o 17:00-18:30 w Ashtanga Yoga Wrocław (ul. Trzebnicka 12/1\, 50-246 Wrocław). \n\n\n\n>> WIĘCEJ SZCZEGÓŁÓW <<
URL:https://ashtangaanyways.com/grafik/mysore-10/2026-12-22/
CATEGORIES:ashtanga joga,mysore,praktyka
END:VEVENT
BEGIN:VEVENT
DTSTART;TZID=Europe/Warsaw:20261222T183000
DTEND;TZID=Europe/Warsaw:20261222T193000
DTSTAMP:20260422T012134
CREATED:20240813T095954Z
LAST-MODIFIED:20251215T193627Z
UID:10002814-1797964200-1797967800@ashtangaanyways.com
SUMMARY:Ashtanga joga dla początkujących
DESCRIPTION:Zajęcia odbywają się w każdy wtorek od 18:30 do 19:30 w Ashtanga Yoga Wrocław (ul. Trzebnicka 12/1\, 50-246 Wrocław). \n\n\n\n>> WIĘCEJ SZCZEGÓŁÓW <<
URL:https://ashtangaanyways.com/grafik/ashtanga-joga-dla-poczatkujacych/2026-12-22/
CATEGORIES:ashtanga joga,praktyka
END:VEVENT
BEGIN:VEVENT
DTSTART;TZID=Europe/Warsaw:20261223T173000
DTEND;TZID=Europe/Warsaw:20261223T190000
DTSTAMP:20260422T012134
CREATED:20260110T204055Z
LAST-MODIFIED:20260110T204056Z
UID:10003595-1798047000-1798052400@ashtangaanyways.com
SUMMARY:Pierwsza seria prowadzona
DESCRIPTION:Zajęcia odbywają się w każdą środę od 17:30 do 19:00 w Ashtanga Yoga Wrocław (ul. Trzebnicka 12/1\, 50-246 Wrocław).
URL:https://ashtangaanyways.com/grafik/pierwsza-seria-prowadzona-5/2026-12-23/
END:VEVENT
BEGIN:VEVENT
DTSTART;TZID=Europe/Warsaw:20261224T170000
DTEND;TZID=Europe/Warsaw:20261224T190000
DTSTAMP:20260422T012134
CREATED:20260110T204803Z
LAST-MODIFIED:20260110T204805Z
UID:10003856-1798131600-1798138800@ashtangaanyways.com
SUMMARY:mysore
DESCRIPTION:Zajęcia odbywają się w każdą środę od 18:30 do 20:00 w Ashtanga Yoga Wrocław (ul. Trzebnicka 12/1\, 50-246 Wrocław). Praktyka Mysore jest dostępna dla wszystkich\, zarówno dla początkujących\, jak i zaawansowanych\, choć często kojarzona jest z bardziej zaawansowaną praktyką Ashtanga Jogi. W praktyce Mysore każdy uczestnik wykonuje asany we własnym tempie\, zgodnie z indywidualnymi możliwościami\, a nauczyciel pomaga poprzez korekty i dostosowanie praktyki do poziomu ucznia. Dobrze jest znać sekwencję Pierwszej Serii\, ale nie jest to konieczne. Jeśli jesteś osobą początkującą poprowadzę Cię krok po kroku.
URL:https://ashtangaanyways.com/grafik/mysore-12/2026-12-24/
LOCATION:Ashtanga Yoga Wrocław\, Trzebnicka 12/1\, Wrocław\, Dolnośląskie\, Poland
END:VEVENT
BEGIN:VEVENT
DTSTART;TZID=Europe/Warsaw:20261224T190000
DTEND;TZID=Europe/Warsaw:20261224T193000
DTSTAMP:20260422T012134
CREATED:20260110T205201Z
LAST-MODIFIED:20260110T205232Z
UID:10004118-1798138800-1798140600@ashtangaanyways.com
SUMMARY:Pół Pierwszej Serii prowadzonej
DESCRIPTION:Zajęcia odbywają się w każdy czwartek od 19:00 do 20:15 w Ashtanga Yoga Wrocław (ul. Trzebnicka 12/1\, 50-246 Wrocław).
URL:https://ashtangaanyways.com/grafik/pol-pierwszej-serii-ashtanga-jogi/2026-12-24/
LOCATION:Ashtanga Yoga Wrocław\, Trzebnicka 12/1\, Wrocław\, Dolnośląskie\, Poland
END:VEVENT
BEGIN:VEVENT
DTSTART;TZID=Europe/Warsaw:20261227T180000
DTEND;TZID=Europe/Warsaw:20261227T190000
DTSTAMP:20260422T012134
CREATED:20250703T051838Z
LAST-MODIFIED:20250921T074333Z
UID:10002461-1798394400-1798398000@ashtangaanyways.com
SUMMARY:Joga regeneracyjna i techniki relaksacji
DESCRIPTION:Łagodna\, spokojna praktyka dostosowuje się do indywidualnych potrzeb i możliwości każdego uczestnika i jest idealna dla wszystkich poszukujących spowolnienia i relaksu\, niezależnie od poziomu zaawansowania\, kondycji fizycznej czy wieku. Podczas zajęć jogi regeneracyjnej będziemy poznawać wyciszające i równoważące techniki Pranayamy a także praktykować łagodną i medytacyjną Yin jogę\, kończąc praktyki asan długim relaksem z elementami jogi Nidry. \n\n\n\n>> WIĘCEJ SZCZEGÓŁÓW <<
URL:https://ashtangaanyways.com/grafik/joga-regeneracyjna-i-techniki-relaksacji-2/2026-12-27/
CATEGORIES:joga regeneracyjna,nidra joga,yin joga
END:VEVENT
BEGIN:VEVENT
DTSTART;TZID=Europe/Warsaw:20261229T170000
DTEND;TZID=Europe/Warsaw:20261229T183000
DTSTAMP:20260422T012134
CREATED:20251228T102742Z
LAST-MODIFIED:20251228T102744Z
UID:10003333-1798563600-1798569000@ashtangaanyways.com
SUMMARY:Mysore
DESCRIPTION:Zajęcia odbywają się w każdy wtorek o 17:00-18:30 w Ashtanga Yoga Wrocław (ul. Trzebnicka 12/1\, 50-246 Wrocław). \n\n\n\n>> WIĘCEJ SZCZEGÓŁÓW <<
URL:https://ashtangaanyways.com/grafik/mysore-10/2026-12-29/
CATEGORIES:ashtanga joga,mysore,praktyka
END:VEVENT
BEGIN:VEVENT
DTSTART;TZID=Europe/Warsaw:20261229T183000
DTEND;TZID=Europe/Warsaw:20261229T193000
DTSTAMP:20260422T012134
CREATED:20240813T095954Z
LAST-MODIFIED:20251215T193627Z
UID:10002815-1798569000-1798572600@ashtangaanyways.com
SUMMARY:Ashtanga joga dla początkujących
DESCRIPTION:Zajęcia odbywają się w każdy wtorek od 18:30 do 19:30 w Ashtanga Yoga Wrocław (ul. Trzebnicka 12/1\, 50-246 Wrocław). \n\n\n\n>> WIĘCEJ SZCZEGÓŁÓW <<
URL:https://ashtangaanyways.com/grafik/ashtanga-joga-dla-poczatkujacych/2026-12-29/
CATEGORIES:ashtanga joga,praktyka
END:VEVENT
BEGIN:VEVENT
DTSTART;TZID=Europe/Warsaw:20261230T173000
DTEND;TZID=Europe/Warsaw:20261230T190000
DTSTAMP:20260422T012134
CREATED:20260110T204055Z
LAST-MODIFIED:20260110T204056Z
UID:10003596-1798651800-1798657200@ashtangaanyways.com
SUMMARY:Pierwsza seria prowadzona
DESCRIPTION:Zajęcia odbywają się w każdą środę od 17:30 do 19:00 w Ashtanga Yoga Wrocław (ul. Trzebnicka 12/1\, 50-246 Wrocław).
URL:https://ashtangaanyways.com/grafik/pierwsza-seria-prowadzona-5/2026-12-30/
END:VEVENT
BEGIN:VEVENT
DTSTART;TZID=Europe/Warsaw:20261231T170000
DTEND;TZID=Europe/Warsaw:20261231T190000
DTSTAMP:20260422T012134
CREATED:20260110T204803Z
LAST-MODIFIED:20260110T204805Z
UID:10003857-1798736400-1798743600@ashtangaanyways.com
SUMMARY:mysore
DESCRIPTION:Zajęcia odbywają się w każdą środę od 18:30 do 20:00 w Ashtanga Yoga Wrocław (ul. Trzebnicka 12/1\, 50-246 Wrocław). Praktyka Mysore jest dostępna dla wszystkich\, zarówno dla początkujących\, jak i zaawansowanych\, choć często kojarzona jest z bardziej zaawansowaną praktyką Ashtanga Jogi. W praktyce Mysore każdy uczestnik wykonuje asany we własnym tempie\, zgodnie z indywidualnymi możliwościami\, a nauczyciel pomaga poprzez korekty i dostosowanie praktyki do poziomu ucznia. Dobrze jest znać sekwencję Pierwszej Serii\, ale nie jest to konieczne. Jeśli jesteś osobą początkującą poprowadzę Cię krok po kroku.
URL:https://ashtangaanyways.com/grafik/mysore-12/2026-12-31/
LOCATION:Ashtanga Yoga Wrocław\, Trzebnicka 12/1\, Wrocław\, Dolnośląskie\, Poland
END:VEVENT
BEGIN:VEVENT
DTSTART;TZID=Europe/Warsaw:20261231T190000
DTEND;TZID=Europe/Warsaw:20261231T193000
DTSTAMP:20260422T012134
CREATED:20260110T205201Z
LAST-MODIFIED:20260110T205232Z
UID:10004119-1798743600-1798745400@ashtangaanyways.com
SUMMARY:Pół Pierwszej Serii prowadzonej
DESCRIPTION:Zajęcia odbywają się w każdy czwartek od 19:00 do 20:15 w Ashtanga Yoga Wrocław (ul. Trzebnicka 12/1\, 50-246 Wrocław).
URL:https://ashtangaanyways.com/grafik/pol-pierwszej-serii-ashtanga-jogi/2026-12-31/
LOCATION:Ashtanga Yoga Wrocław\, Trzebnicka 12/1\, Wrocław\, Dolnośląskie\, Poland
END:VEVENT
END:VCALENDAR