BEGIN:VCALENDAR
VERSION:2.0
PRODID:-//Ashtanga Anyways - ECPv6.15.18//NONSGML v1.0//EN
CALSCALE:GREGORIAN
METHOD:PUBLISH
X-WR-CALNAME:Ashtanga Anyways
X-ORIGINAL-URL:https://ashtangaanyways.com
X-WR-CALDESC:Wydarzenia dla Ashtanga Anyways
REFRESH-INTERVAL;VALUE=DURATION:PT1H
X-Robots-Tag:noindex
X-PUBLISHED-TTL:PT1H
BEGIN:VTIMEZONE
TZID:Europe/Warsaw
BEGIN:DAYLIGHT
TZOFFSETFROM:+0100
TZOFFSETTO:+0200
TZNAME:CEST
DTSTART:20270328T010000
END:DAYLIGHT
BEGIN:STANDARD
TZOFFSETFROM:+0200
TZOFFSETTO:+0100
TZNAME:CET
DTSTART:20271031T010000
END:STANDARD
BEGIN:DAYLIGHT
TZOFFSETFROM:+0100
TZOFFSETTO:+0200
TZNAME:CEST
DTSTART:20280326T010000
END:DAYLIGHT
BEGIN:STANDARD
TZOFFSETFROM:+0200
TZOFFSETTO:+0100
TZNAME:CET
DTSTART:20281029T010000
END:STANDARD
BEGIN:DAYLIGHT
TZOFFSETFROM:+0100
TZOFFSETTO:+0200
TZNAME:CEST
DTSTART:20290325T010000
END:DAYLIGHT
BEGIN:STANDARD
TZOFFSETFROM:+0200
TZOFFSETTO:+0100
TZNAME:CET
DTSTART:20291028T010000
END:STANDARD
END:VTIMEZONE
BEGIN:VEVENT
DTSTART;TZID=Europe/Warsaw:20280502T170000
DTEND;TZID=Europe/Warsaw:20280502T183000
DTSTAMP:20260423T154022
CREATED:20251228T102742Z
LAST-MODIFIED:20251228T102744Z
UID:10003403-1840899600-1840905000@ashtangaanyways.com
SUMMARY:Mysore
DESCRIPTION:Zajęcia odbywają się w każdy wtorek o 17:00-18:30 w Ashtanga Yoga Wrocław (ul. Trzebnicka 12/1\, 50-246 Wrocław). \n\n\n\n>> WIĘCEJ SZCZEGÓŁÓW <<
URL:https://ashtangaanyways.com/grafik/mysore-10/2028-05-02/
CATEGORIES:ashtanga joga,mysore,praktyka
END:VEVENT
BEGIN:VEVENT
DTSTART;TZID=Europe/Warsaw:20280502T183000
DTEND;TZID=Europe/Warsaw:20280502T193000
DTSTAMP:20260423T154022
CREATED:20240813T095954Z
LAST-MODIFIED:20251215T193627Z
UID:10002885-1840905000-1840908600@ashtangaanyways.com
SUMMARY:Ashtanga joga dla początkujących
DESCRIPTION:Zajęcia odbywają się w każdy wtorek od 18:30 do 19:30 w Ashtanga Yoga Wrocław (ul. Trzebnicka 12/1\, 50-246 Wrocław). \n\n\n\n>> WIĘCEJ SZCZEGÓŁÓW <<
URL:https://ashtangaanyways.com/grafik/ashtanga-joga-dla-poczatkujacych/2028-05-02/
CATEGORIES:ashtanga joga,praktyka
END:VEVENT
BEGIN:VEVENT
DTSTART;TZID=Europe/Warsaw:20280503T173000
DTEND;TZID=Europe/Warsaw:20280503T190000
DTSTAMP:20260423T154022
CREATED:20260110T204055Z
LAST-MODIFIED:20260110T204056Z
UID:10003666-1840987800-1840993200@ashtangaanyways.com
SUMMARY:Pierwsza seria prowadzona
DESCRIPTION:Zajęcia odbywają się w każdą środę od 17:30 do 19:00 w Ashtanga Yoga Wrocław (ul. Trzebnicka 12/1\, 50-246 Wrocław).
URL:https://ashtangaanyways.com/grafik/pierwsza-seria-prowadzona-5/2028-05-03/
END:VEVENT
BEGIN:VEVENT
DTSTART;TZID=Europe/Warsaw:20280504T170000
DTEND;TZID=Europe/Warsaw:20280504T190000
DTSTAMP:20260423T154022
CREATED:20260110T204803Z
LAST-MODIFIED:20260110T204805Z
UID:10003927-1841072400-1841079600@ashtangaanyways.com
SUMMARY:mysore
DESCRIPTION:Zajęcia odbywają się w każdą środę od 18:30 do 20:00 w Ashtanga Yoga Wrocław (ul. Trzebnicka 12/1\, 50-246 Wrocław). Praktyka Mysore jest dostępna dla wszystkich\, zarówno dla początkujących\, jak i zaawansowanych\, choć często kojarzona jest z bardziej zaawansowaną praktyką Ashtanga Jogi. W praktyce Mysore każdy uczestnik wykonuje asany we własnym tempie\, zgodnie z indywidualnymi możliwościami\, a nauczyciel pomaga poprzez korekty i dostosowanie praktyki do poziomu ucznia. Dobrze jest znać sekwencję Pierwszej Serii\, ale nie jest to konieczne. Jeśli jesteś osobą początkującą poprowadzę Cię krok po kroku.
URL:https://ashtangaanyways.com/grafik/mysore-12/2028-05-04/
LOCATION:Ashtanga Yoga Wrocław\, Trzebnicka 12/1\, Wrocław\, Dolnośląskie\, Poland
END:VEVENT
BEGIN:VEVENT
DTSTART;TZID=Europe/Warsaw:20280504T190000
DTEND;TZID=Europe/Warsaw:20280504T193000
DTSTAMP:20260423T154022
CREATED:20260110T205201Z
LAST-MODIFIED:20260110T205232Z
UID:10004189-1841079600-1841081400@ashtangaanyways.com
SUMMARY:Pół Pierwszej Serii prowadzonej
DESCRIPTION:Zajęcia odbywają się w każdy czwartek od 19:00 do 20:15 w Ashtanga Yoga Wrocław (ul. Trzebnicka 12/1\, 50-246 Wrocław).
URL:https://ashtangaanyways.com/grafik/pol-pierwszej-serii-ashtanga-jogi/2028-05-04/
LOCATION:Ashtanga Yoga Wrocław\, Trzebnicka 12/1\, Wrocław\, Dolnośląskie\, Poland
END:VEVENT
BEGIN:VEVENT
DTSTART;TZID=Europe/Warsaw:20280507T180000
DTEND;TZID=Europe/Warsaw:20280507T190000
DTSTAMP:20260423T154022
CREATED:20250703T051838Z
LAST-MODIFIED:20250921T074333Z
UID:10002532-1841335200-1841338800@ashtangaanyways.com
SUMMARY:Joga regeneracyjna i techniki relaksacji
DESCRIPTION:Łagodna\, spokojna praktyka dostosowuje się do indywidualnych potrzeb i możliwości każdego uczestnika i jest idealna dla wszystkich poszukujących spowolnienia i relaksu\, niezależnie od poziomu zaawansowania\, kondycji fizycznej czy wieku. Podczas zajęć jogi regeneracyjnej będziemy poznawać wyciszające i równoważące techniki Pranayamy a także praktykować łagodną i medytacyjną Yin jogę\, kończąc praktyki asan długim relaksem z elementami jogi Nidry. \n\n\n\n>> WIĘCEJ SZCZEGÓŁÓW <<
URL:https://ashtangaanyways.com/grafik/joga-regeneracyjna-i-techniki-relaksacji-2/2028-05-07/
CATEGORIES:joga regeneracyjna,nidra joga,yin joga
END:VEVENT
BEGIN:VEVENT
DTSTART;TZID=Europe/Warsaw:20280509T170000
DTEND;TZID=Europe/Warsaw:20280509T183000
DTSTAMP:20260423T154022
CREATED:20251228T102742Z
LAST-MODIFIED:20251228T102744Z
UID:10003404-1841504400-1841509800@ashtangaanyways.com
SUMMARY:Mysore
DESCRIPTION:Zajęcia odbywają się w każdy wtorek o 17:00-18:30 w Ashtanga Yoga Wrocław (ul. Trzebnicka 12/1\, 50-246 Wrocław). \n\n\n\n>> WIĘCEJ SZCZEGÓŁÓW <<
URL:https://ashtangaanyways.com/grafik/mysore-10/2028-05-09/
CATEGORIES:ashtanga joga,mysore,praktyka
END:VEVENT
BEGIN:VEVENT
DTSTART;TZID=Europe/Warsaw:20280509T183000
DTEND;TZID=Europe/Warsaw:20280509T193000
DTSTAMP:20260423T154022
CREATED:20240813T095954Z
LAST-MODIFIED:20251215T193627Z
UID:10002886-1841509800-1841513400@ashtangaanyways.com
SUMMARY:Ashtanga joga dla początkujących
DESCRIPTION:Zajęcia odbywają się w każdy wtorek od 18:30 do 19:30 w Ashtanga Yoga Wrocław (ul. Trzebnicka 12/1\, 50-246 Wrocław). \n\n\n\n>> WIĘCEJ SZCZEGÓŁÓW <<
URL:https://ashtangaanyways.com/grafik/ashtanga-joga-dla-poczatkujacych/2028-05-09/
CATEGORIES:ashtanga joga,praktyka
END:VEVENT
BEGIN:VEVENT
DTSTART;TZID=Europe/Warsaw:20280510T173000
DTEND;TZID=Europe/Warsaw:20280510T190000
DTSTAMP:20260423T154022
CREATED:20260110T204055Z
LAST-MODIFIED:20260110T204056Z
UID:10003667-1841592600-1841598000@ashtangaanyways.com
SUMMARY:Pierwsza seria prowadzona
DESCRIPTION:Zajęcia odbywają się w każdą środę od 17:30 do 19:00 w Ashtanga Yoga Wrocław (ul. Trzebnicka 12/1\, 50-246 Wrocław).
URL:https://ashtangaanyways.com/grafik/pierwsza-seria-prowadzona-5/2028-05-10/
END:VEVENT
BEGIN:VEVENT
DTSTART;TZID=Europe/Warsaw:20280511T170000
DTEND;TZID=Europe/Warsaw:20280511T190000
DTSTAMP:20260423T154022
CREATED:20260110T204803Z
LAST-MODIFIED:20260110T204805Z
UID:10003928-1841677200-1841684400@ashtangaanyways.com
SUMMARY:mysore
DESCRIPTION:Zajęcia odbywają się w każdą środę od 18:30 do 20:00 w Ashtanga Yoga Wrocław (ul. Trzebnicka 12/1\, 50-246 Wrocław). Praktyka Mysore jest dostępna dla wszystkich\, zarówno dla początkujących\, jak i zaawansowanych\, choć często kojarzona jest z bardziej zaawansowaną praktyką Ashtanga Jogi. W praktyce Mysore każdy uczestnik wykonuje asany we własnym tempie\, zgodnie z indywidualnymi możliwościami\, a nauczyciel pomaga poprzez korekty i dostosowanie praktyki do poziomu ucznia. Dobrze jest znać sekwencję Pierwszej Serii\, ale nie jest to konieczne. Jeśli jesteś osobą początkującą poprowadzę Cię krok po kroku.
URL:https://ashtangaanyways.com/grafik/mysore-12/2028-05-11/
LOCATION:Ashtanga Yoga Wrocław\, Trzebnicka 12/1\, Wrocław\, Dolnośląskie\, Poland
END:VEVENT
BEGIN:VEVENT
DTSTART;TZID=Europe/Warsaw:20280511T190000
DTEND;TZID=Europe/Warsaw:20280511T193000
DTSTAMP:20260423T154022
CREATED:20260110T205201Z
LAST-MODIFIED:20260110T205232Z
UID:10004190-1841684400-1841686200@ashtangaanyways.com
SUMMARY:Pół Pierwszej Serii prowadzonej
DESCRIPTION:Zajęcia odbywają się w każdy czwartek od 19:00 do 20:15 w Ashtanga Yoga Wrocław (ul. Trzebnicka 12/1\, 50-246 Wrocław).
URL:https://ashtangaanyways.com/grafik/pol-pierwszej-serii-ashtanga-jogi/2028-05-11/
LOCATION:Ashtanga Yoga Wrocław\, Trzebnicka 12/1\, Wrocław\, Dolnośląskie\, Poland
END:VEVENT
BEGIN:VEVENT
DTSTART;TZID=Europe/Warsaw:20280514T180000
DTEND;TZID=Europe/Warsaw:20280514T190000
DTSTAMP:20260423T154022
CREATED:20250703T051838Z
LAST-MODIFIED:20250921T074333Z
UID:10002533-1841940000-1841943600@ashtangaanyways.com
SUMMARY:Joga regeneracyjna i techniki relaksacji
DESCRIPTION:Łagodna\, spokojna praktyka dostosowuje się do indywidualnych potrzeb i możliwości każdego uczestnika i jest idealna dla wszystkich poszukujących spowolnienia i relaksu\, niezależnie od poziomu zaawansowania\, kondycji fizycznej czy wieku. Podczas zajęć jogi regeneracyjnej będziemy poznawać wyciszające i równoważące techniki Pranayamy a także praktykować łagodną i medytacyjną Yin jogę\, kończąc praktyki asan długim relaksem z elementami jogi Nidry. \n\n\n\n>> WIĘCEJ SZCZEGÓŁÓW <<
URL:https://ashtangaanyways.com/grafik/joga-regeneracyjna-i-techniki-relaksacji-2/2028-05-14/
CATEGORIES:joga regeneracyjna,nidra joga,yin joga
END:VEVENT
BEGIN:VEVENT
DTSTART;TZID=Europe/Warsaw:20280516T170000
DTEND;TZID=Europe/Warsaw:20280516T183000
DTSTAMP:20260423T154022
CREATED:20251228T102742Z
LAST-MODIFIED:20251228T102744Z
UID:10003405-1842109200-1842114600@ashtangaanyways.com
SUMMARY:Mysore
DESCRIPTION:Zajęcia odbywają się w każdy wtorek o 17:00-18:30 w Ashtanga Yoga Wrocław (ul. Trzebnicka 12/1\, 50-246 Wrocław). \n\n\n\n>> WIĘCEJ SZCZEGÓŁÓW <<
URL:https://ashtangaanyways.com/grafik/mysore-10/2028-05-16/
CATEGORIES:ashtanga joga,mysore,praktyka
END:VEVENT
BEGIN:VEVENT
DTSTART;TZID=Europe/Warsaw:20280516T183000
DTEND;TZID=Europe/Warsaw:20280516T193000
DTSTAMP:20260423T154022
CREATED:20240813T095954Z
LAST-MODIFIED:20251215T193627Z
UID:10002887-1842114600-1842118200@ashtangaanyways.com
SUMMARY:Ashtanga joga dla początkujących
DESCRIPTION:Zajęcia odbywają się w każdy wtorek od 18:30 do 19:30 w Ashtanga Yoga Wrocław (ul. Trzebnicka 12/1\, 50-246 Wrocław). \n\n\n\n>> WIĘCEJ SZCZEGÓŁÓW <<
URL:https://ashtangaanyways.com/grafik/ashtanga-joga-dla-poczatkujacych/2028-05-16/
CATEGORIES:ashtanga joga,praktyka
END:VEVENT
BEGIN:VEVENT
DTSTART;TZID=Europe/Warsaw:20280517T173000
DTEND;TZID=Europe/Warsaw:20280517T190000
DTSTAMP:20260423T154022
CREATED:20260110T204055Z
LAST-MODIFIED:20260110T204056Z
UID:10003668-1842197400-1842202800@ashtangaanyways.com
SUMMARY:Pierwsza seria prowadzona
DESCRIPTION:Zajęcia odbywają się w każdą środę od 17:30 do 19:00 w Ashtanga Yoga Wrocław (ul. Trzebnicka 12/1\, 50-246 Wrocław).
URL:https://ashtangaanyways.com/grafik/pierwsza-seria-prowadzona-5/2028-05-17/
END:VEVENT
BEGIN:VEVENT
DTSTART;TZID=Europe/Warsaw:20280518T170000
DTEND;TZID=Europe/Warsaw:20280518T190000
DTSTAMP:20260423T154022
CREATED:20260110T204803Z
LAST-MODIFIED:20260110T204805Z
UID:10003929-1842282000-1842289200@ashtangaanyways.com
SUMMARY:mysore
DESCRIPTION:Zajęcia odbywają się w każdą środę od 18:30 do 20:00 w Ashtanga Yoga Wrocław (ul. Trzebnicka 12/1\, 50-246 Wrocław). Praktyka Mysore jest dostępna dla wszystkich\, zarówno dla początkujących\, jak i zaawansowanych\, choć często kojarzona jest z bardziej zaawansowaną praktyką Ashtanga Jogi. W praktyce Mysore każdy uczestnik wykonuje asany we własnym tempie\, zgodnie z indywidualnymi możliwościami\, a nauczyciel pomaga poprzez korekty i dostosowanie praktyki do poziomu ucznia. Dobrze jest znać sekwencję Pierwszej Serii\, ale nie jest to konieczne. Jeśli jesteś osobą początkującą poprowadzę Cię krok po kroku.
URL:https://ashtangaanyways.com/grafik/mysore-12/2028-05-18/
LOCATION:Ashtanga Yoga Wrocław\, Trzebnicka 12/1\, Wrocław\, Dolnośląskie\, Poland
END:VEVENT
BEGIN:VEVENT
DTSTART;TZID=Europe/Warsaw:20280518T190000
DTEND;TZID=Europe/Warsaw:20280518T193000
DTSTAMP:20260423T154022
CREATED:20260110T205201Z
LAST-MODIFIED:20260110T205232Z
UID:10004191-1842289200-1842291000@ashtangaanyways.com
SUMMARY:Pół Pierwszej Serii prowadzonej
DESCRIPTION:Zajęcia odbywają się w każdy czwartek od 19:00 do 20:15 w Ashtanga Yoga Wrocław (ul. Trzebnicka 12/1\, 50-246 Wrocław).
URL:https://ashtangaanyways.com/grafik/pol-pierwszej-serii-ashtanga-jogi/2028-05-18/
LOCATION:Ashtanga Yoga Wrocław\, Trzebnicka 12/1\, Wrocław\, Dolnośląskie\, Poland
END:VEVENT
BEGIN:VEVENT
DTSTART;TZID=Europe/Warsaw:20280521T180000
DTEND;TZID=Europe/Warsaw:20280521T190000
DTSTAMP:20260423T154022
CREATED:20250703T051838Z
LAST-MODIFIED:20250921T074333Z
UID:10002534-1842544800-1842548400@ashtangaanyways.com
SUMMARY:Joga regeneracyjna i techniki relaksacji
DESCRIPTION:Łagodna\, spokojna praktyka dostosowuje się do indywidualnych potrzeb i możliwości każdego uczestnika i jest idealna dla wszystkich poszukujących spowolnienia i relaksu\, niezależnie od poziomu zaawansowania\, kondycji fizycznej czy wieku. Podczas zajęć jogi regeneracyjnej będziemy poznawać wyciszające i równoważące techniki Pranayamy a także praktykować łagodną i medytacyjną Yin jogę\, kończąc praktyki asan długim relaksem z elementami jogi Nidry. \n\n\n\n>> WIĘCEJ SZCZEGÓŁÓW <<
URL:https://ashtangaanyways.com/grafik/joga-regeneracyjna-i-techniki-relaksacji-2/2028-05-21/
CATEGORIES:joga regeneracyjna,nidra joga,yin joga
END:VEVENT
BEGIN:VEVENT
DTSTART;TZID=Europe/Warsaw:20280523T170000
DTEND;TZID=Europe/Warsaw:20280523T183000
DTSTAMP:20260423T154022
CREATED:20251228T102742Z
LAST-MODIFIED:20251228T102744Z
UID:10003406-1842714000-1842719400@ashtangaanyways.com
SUMMARY:Mysore
DESCRIPTION:Zajęcia odbywają się w każdy wtorek o 17:00-18:30 w Ashtanga Yoga Wrocław (ul. Trzebnicka 12/1\, 50-246 Wrocław). \n\n\n\n>> WIĘCEJ SZCZEGÓŁÓW <<
URL:https://ashtangaanyways.com/grafik/mysore-10/2028-05-23/
CATEGORIES:ashtanga joga,mysore,praktyka
END:VEVENT
BEGIN:VEVENT
DTSTART;TZID=Europe/Warsaw:20280523T183000
DTEND;TZID=Europe/Warsaw:20280523T193000
DTSTAMP:20260423T154022
CREATED:20240813T095954Z
LAST-MODIFIED:20251215T193627Z
UID:10002888-1842719400-1842723000@ashtangaanyways.com
SUMMARY:Ashtanga joga dla początkujących
DESCRIPTION:Zajęcia odbywają się w każdy wtorek od 18:30 do 19:30 w Ashtanga Yoga Wrocław (ul. Trzebnicka 12/1\, 50-246 Wrocław). \n\n\n\n>> WIĘCEJ SZCZEGÓŁÓW <<
URL:https://ashtangaanyways.com/grafik/ashtanga-joga-dla-poczatkujacych/2028-05-23/
CATEGORIES:ashtanga joga,praktyka
END:VEVENT
BEGIN:VEVENT
DTSTART;TZID=Europe/Warsaw:20280524T173000
DTEND;TZID=Europe/Warsaw:20280524T190000
DTSTAMP:20260423T154022
CREATED:20260110T204055Z
LAST-MODIFIED:20260110T204056Z
UID:10003669-1842802200-1842807600@ashtangaanyways.com
SUMMARY:Pierwsza seria prowadzona
DESCRIPTION:Zajęcia odbywają się w każdą środę od 17:30 do 19:00 w Ashtanga Yoga Wrocław (ul. Trzebnicka 12/1\, 50-246 Wrocław).
URL:https://ashtangaanyways.com/grafik/pierwsza-seria-prowadzona-5/2028-05-24/
END:VEVENT
BEGIN:VEVENT
DTSTART;TZID=Europe/Warsaw:20280525T170000
DTEND;TZID=Europe/Warsaw:20280525T190000
DTSTAMP:20260423T154022
CREATED:20260110T204803Z
LAST-MODIFIED:20260110T204805Z
UID:10003930-1842886800-1842894000@ashtangaanyways.com
SUMMARY:mysore
DESCRIPTION:Zajęcia odbywają się w każdą środę od 18:30 do 20:00 w Ashtanga Yoga Wrocław (ul. Trzebnicka 12/1\, 50-246 Wrocław). Praktyka Mysore jest dostępna dla wszystkich\, zarówno dla początkujących\, jak i zaawansowanych\, choć często kojarzona jest z bardziej zaawansowaną praktyką Ashtanga Jogi. W praktyce Mysore każdy uczestnik wykonuje asany we własnym tempie\, zgodnie z indywidualnymi możliwościami\, a nauczyciel pomaga poprzez korekty i dostosowanie praktyki do poziomu ucznia. Dobrze jest znać sekwencję Pierwszej Serii\, ale nie jest to konieczne. Jeśli jesteś osobą początkującą poprowadzę Cię krok po kroku.
URL:https://ashtangaanyways.com/grafik/mysore-12/2028-05-25/
LOCATION:Ashtanga Yoga Wrocław\, Trzebnicka 12/1\, Wrocław\, Dolnośląskie\, Poland
END:VEVENT
BEGIN:VEVENT
DTSTART;TZID=Europe/Warsaw:20280525T190000
DTEND;TZID=Europe/Warsaw:20280525T193000
DTSTAMP:20260423T154022
CREATED:20260110T205201Z
LAST-MODIFIED:20260110T205232Z
UID:10004192-1842894000-1842895800@ashtangaanyways.com
SUMMARY:Pół Pierwszej Serii prowadzonej
DESCRIPTION:Zajęcia odbywają się w każdy czwartek od 19:00 do 20:15 w Ashtanga Yoga Wrocław (ul. Trzebnicka 12/1\, 50-246 Wrocław).
URL:https://ashtangaanyways.com/grafik/pol-pierwszej-serii-ashtanga-jogi/2028-05-25/
LOCATION:Ashtanga Yoga Wrocław\, Trzebnicka 12/1\, Wrocław\, Dolnośląskie\, Poland
END:VEVENT
BEGIN:VEVENT
DTSTART;TZID=Europe/Warsaw:20280528T180000
DTEND;TZID=Europe/Warsaw:20280528T190000
DTSTAMP:20260423T154022
CREATED:20250703T051838Z
LAST-MODIFIED:20250921T074333Z
UID:10002535-1843149600-1843153200@ashtangaanyways.com
SUMMARY:Joga regeneracyjna i techniki relaksacji
DESCRIPTION:Łagodna\, spokojna praktyka dostosowuje się do indywidualnych potrzeb i możliwości każdego uczestnika i jest idealna dla wszystkich poszukujących spowolnienia i relaksu\, niezależnie od poziomu zaawansowania\, kondycji fizycznej czy wieku. Podczas zajęć jogi regeneracyjnej będziemy poznawać wyciszające i równoważące techniki Pranayamy a także praktykować łagodną i medytacyjną Yin jogę\, kończąc praktyki asan długim relaksem z elementami jogi Nidry. \n\n\n\n>> WIĘCEJ SZCZEGÓŁÓW <<
URL:https://ashtangaanyways.com/grafik/joga-regeneracyjna-i-techniki-relaksacji-2/2028-05-28/
CATEGORIES:joga regeneracyjna,nidra joga,yin joga
END:VEVENT
BEGIN:VEVENT
DTSTART;TZID=Europe/Warsaw:20280530T170000
DTEND;TZID=Europe/Warsaw:20280530T183000
DTSTAMP:20260423T154022
CREATED:20251228T102742Z
LAST-MODIFIED:20251228T102744Z
UID:10003407-1843318800-1843324200@ashtangaanyways.com
SUMMARY:Mysore
DESCRIPTION:Zajęcia odbywają się w każdy wtorek o 17:00-18:30 w Ashtanga Yoga Wrocław (ul. Trzebnicka 12/1\, 50-246 Wrocław). \n\n\n\n>> WIĘCEJ SZCZEGÓŁÓW <<
URL:https://ashtangaanyways.com/grafik/mysore-10/2028-05-30/
CATEGORIES:ashtanga joga,mysore,praktyka
END:VEVENT
BEGIN:VEVENT
DTSTART;TZID=Europe/Warsaw:20280530T183000
DTEND;TZID=Europe/Warsaw:20280530T193000
DTSTAMP:20260423T154022
CREATED:20240813T095954Z
LAST-MODIFIED:20251215T193627Z
UID:10002889-1843324200-1843327800@ashtangaanyways.com
SUMMARY:Ashtanga joga dla początkujących
DESCRIPTION:Zajęcia odbywają się w każdy wtorek od 18:30 do 19:30 w Ashtanga Yoga Wrocław (ul. Trzebnicka 12/1\, 50-246 Wrocław). \n\n\n\n>> WIĘCEJ SZCZEGÓŁÓW <<
URL:https://ashtangaanyways.com/grafik/ashtanga-joga-dla-poczatkujacych/2028-05-30/
CATEGORIES:ashtanga joga,praktyka
END:VEVENT
BEGIN:VEVENT
DTSTART;TZID=Europe/Warsaw:20280531T173000
DTEND;TZID=Europe/Warsaw:20280531T190000
DTSTAMP:20260423T154022
CREATED:20260110T204055Z
LAST-MODIFIED:20260110T204056Z
UID:10003670-1843407000-1843412400@ashtangaanyways.com
SUMMARY:Pierwsza seria prowadzona
DESCRIPTION:Zajęcia odbywają się w każdą środę od 17:30 do 19:00 w Ashtanga Yoga Wrocław (ul. Trzebnicka 12/1\, 50-246 Wrocław).
URL:https://ashtangaanyways.com/grafik/pierwsza-seria-prowadzona-5/2028-05-31/
END:VEVENT
END:VCALENDAR