BEGIN:VCALENDAR
VERSION:2.0
PRODID:-//Ashtanga Anyways - ECPv6.15.18//NONSGML v1.0//EN
CALSCALE:GREGORIAN
METHOD:PUBLISH
X-WR-CALNAME:Ashtanga Anyways
X-ORIGINAL-URL:https://ashtangaanyways.com
X-WR-CALDESC:Wydarzenia dla Ashtanga Anyways
REFRESH-INTERVAL;VALUE=DURATION:PT1H
X-Robots-Tag:noindex
X-PUBLISHED-TTL:PT1H
BEGIN:VTIMEZONE
TZID:Europe/Warsaw
BEGIN:DAYLIGHT
TZOFFSETFROM:+0100
TZOFFSETTO:+0200
TZNAME:CEST
DTSTART:20250330T010000
END:DAYLIGHT
BEGIN:STANDARD
TZOFFSETFROM:+0200
TZOFFSETTO:+0100
TZNAME:CET
DTSTART:20251026T010000
END:STANDARD
BEGIN:DAYLIGHT
TZOFFSETFROM:+0100
TZOFFSETTO:+0200
TZNAME:CEST
DTSTART:20260329T010000
END:DAYLIGHT
BEGIN:STANDARD
TZOFFSETFROM:+0200
TZOFFSETTO:+0100
TZNAME:CET
DTSTART:20261025T010000
END:STANDARD
BEGIN:DAYLIGHT
TZOFFSETFROM:+0100
TZOFFSETTO:+0200
TZNAME:CEST
DTSTART:20270328T010000
END:DAYLIGHT
BEGIN:STANDARD
TZOFFSETFROM:+0200
TZOFFSETTO:+0100
TZNAME:CET
DTSTART:20271031T010000
END:STANDARD
END:VTIMEZONE
BEGIN:VEVENT
DTSTART;TZID=Europe/Warsaw:20260430T190000
DTEND;TZID=Europe/Warsaw:20260430T193000
DTSTAMP:20260421T162419
CREATED:20260110T205201Z
LAST-MODIFIED:20260110T205232Z
UID:10004084-1777575600-1777577400@ashtangaanyways.com
SUMMARY:Pół Pierwszej Serii prowadzonej
DESCRIPTION:Zajęcia odbywają się w każdy czwartek od 19:00 do 20:15 w Ashtanga Yoga Wrocław (ul. Trzebnicka 12/1\, 50-246 Wrocław).
URL:https://ashtangaanyways.com/grafik/pol-pierwszej-serii-ashtanga-jogi/2026-04-30/
LOCATION:Ashtanga Yoga Wrocław\, Trzebnicka 12/1\, Wrocław\, Dolnośląskie\, Poland
END:VEVENT
BEGIN:VEVENT
DTSTART;TZID=Europe/Warsaw:20260430T170000
DTEND;TZID=Europe/Warsaw:20260430T190000
DTSTAMP:20260421T162419
CREATED:20260110T204803Z
LAST-MODIFIED:20260110T204805Z
UID:10003822-1777568400-1777575600@ashtangaanyways.com
SUMMARY:mysore
DESCRIPTION:Zajęcia odbywają się w każdą środę od 18:30 do 20:00 w Ashtanga Yoga Wrocław (ul. Trzebnicka 12/1\, 50-246 Wrocław). Praktyka Mysore jest dostępna dla wszystkich\, zarówno dla początkujących\, jak i zaawansowanych\, choć często kojarzona jest z bardziej zaawansowaną praktyką Ashtanga Jogi. W praktyce Mysore każdy uczestnik wykonuje asany we własnym tempie\, zgodnie z indywidualnymi możliwościami\, a nauczyciel pomaga poprzez korekty i dostosowanie praktyki do poziomu ucznia. Dobrze jest znać sekwencję Pierwszej Serii\, ale nie jest to konieczne. Jeśli jesteś osobą początkującą poprowadzę Cię krok po kroku.
URL:https://ashtangaanyways.com/grafik/mysore-12/2026-04-30/
LOCATION:Ashtanga Yoga Wrocław\, Trzebnicka 12/1\, Wrocław\, Dolnośląskie\, Poland
END:VEVENT
BEGIN:VEVENT
DTSTART;TZID=Europe/Warsaw:20260429T173000
DTEND;TZID=Europe/Warsaw:20260429T190000
DTSTAMP:20260421T162419
CREATED:20260110T204055Z
LAST-MODIFIED:20260110T204056Z
UID:10003561-1777483800-1777489200@ashtangaanyways.com
SUMMARY:Pierwsza seria prowadzona
DESCRIPTION:Zajęcia odbywają się w każdą środę od 17:30 do 19:00 w Ashtanga Yoga Wrocław (ul. Trzebnicka 12/1\, 50-246 Wrocław).
URL:https://ashtangaanyways.com/grafik/pierwsza-seria-prowadzona-5/2026-04-29/
END:VEVENT
BEGIN:VEVENT
DTSTART;TZID=Europe/Warsaw:20260428T183000
DTEND;TZID=Europe/Warsaw:20260428T193000
DTSTAMP:20260421T162419
CREATED:20240813T095954Z
LAST-MODIFIED:20251215T193627Z
UID:10002780-1777401000-1777404600@ashtangaanyways.com
SUMMARY:Ashtanga joga dla początkujących
DESCRIPTION:Zajęcia odbywają się w każdy wtorek od 18:30 do 19:30 w Ashtanga Yoga Wrocław (ul. Trzebnicka 12/1\, 50-246 Wrocław). \n\n\n\n>> WIĘCEJ SZCZEGÓŁÓW <<
URL:https://ashtangaanyways.com/grafik/ashtanga-joga-dla-poczatkujacych/2026-04-28/
CATEGORIES:ashtanga joga,praktyka
END:VEVENT
BEGIN:VEVENT
DTSTART;TZID=Europe/Warsaw:20260428T170000
DTEND;TZID=Europe/Warsaw:20260428T183000
DTSTAMP:20260421T162419
CREATED:20251228T102742Z
LAST-MODIFIED:20251228T102744Z
UID:10003298-1777395600-1777401000@ashtangaanyways.com
SUMMARY:Mysore
DESCRIPTION:Zajęcia odbywają się w każdy wtorek o 17:00-18:30 w Ashtanga Yoga Wrocław (ul. Trzebnicka 12/1\, 50-246 Wrocław). \n\n\n\n>> WIĘCEJ SZCZEGÓŁÓW <<
URL:https://ashtangaanyways.com/grafik/mysore-10/2026-04-28/
CATEGORIES:ashtanga joga,mysore,praktyka
END:VEVENT
BEGIN:VEVENT
DTSTART;TZID=Europe/Warsaw:20260426T180000
DTEND;TZID=Europe/Warsaw:20260426T190000
DTSTAMP:20260421T162419
CREATED:20250703T051838Z
LAST-MODIFIED:20250921T074333Z
UID:10002426-1777226400-1777230000@ashtangaanyways.com
SUMMARY:Joga regeneracyjna i techniki relaksacji
DESCRIPTION:Łagodna\, spokojna praktyka dostosowuje się do indywidualnych potrzeb i możliwości każdego uczestnika i jest idealna dla wszystkich poszukujących spowolnienia i relaksu\, niezależnie od poziomu zaawansowania\, kondycji fizycznej czy wieku. Podczas zajęć jogi regeneracyjnej będziemy poznawać wyciszające i równoważące techniki Pranayamy a także praktykować łagodną i medytacyjną Yin jogę\, kończąc praktyki asan długim relaksem z elementami jogi Nidry. \n\n\n\n>> WIĘCEJ SZCZEGÓŁÓW <<
URL:https://ashtangaanyways.com/grafik/joga-regeneracyjna-i-techniki-relaksacji-2/2026-04-26/
CATEGORIES:joga regeneracyjna,nidra joga,yin joga
END:VEVENT
BEGIN:VEVENT
DTSTART;TZID=Europe/Warsaw:20260423T190000
DTEND;TZID=Europe/Warsaw:20260423T193000
DTSTAMP:20260421T162419
CREATED:20260110T205201Z
LAST-MODIFIED:20260110T205232Z
UID:10004083-1776970800-1776972600@ashtangaanyways.com
SUMMARY:Pół Pierwszej Serii prowadzonej
DESCRIPTION:Zajęcia odbywają się w każdy czwartek od 19:00 do 20:15 w Ashtanga Yoga Wrocław (ul. Trzebnicka 12/1\, 50-246 Wrocław).
URL:https://ashtangaanyways.com/grafik/pol-pierwszej-serii-ashtanga-jogi/2026-04-23/
LOCATION:Ashtanga Yoga Wrocław\, Trzebnicka 12/1\, Wrocław\, Dolnośląskie\, Poland
END:VEVENT
BEGIN:VEVENT
DTSTART;TZID=Europe/Warsaw:20260423T170000
DTEND;TZID=Europe/Warsaw:20260423T190000
DTSTAMP:20260421T162419
CREATED:20260110T204803Z
LAST-MODIFIED:20260110T204805Z
UID:10003821-1776963600-1776970800@ashtangaanyways.com
SUMMARY:mysore
DESCRIPTION:Zajęcia odbywają się w każdą środę od 18:30 do 20:00 w Ashtanga Yoga Wrocław (ul. Trzebnicka 12/1\, 50-246 Wrocław). Praktyka Mysore jest dostępna dla wszystkich\, zarówno dla początkujących\, jak i zaawansowanych\, choć często kojarzona jest z bardziej zaawansowaną praktyką Ashtanga Jogi. W praktyce Mysore każdy uczestnik wykonuje asany we własnym tempie\, zgodnie z indywidualnymi możliwościami\, a nauczyciel pomaga poprzez korekty i dostosowanie praktyki do poziomu ucznia. Dobrze jest znać sekwencję Pierwszej Serii\, ale nie jest to konieczne. Jeśli jesteś osobą początkującą poprowadzę Cię krok po kroku.
URL:https://ashtangaanyways.com/grafik/mysore-12/2026-04-23/
LOCATION:Ashtanga Yoga Wrocław\, Trzebnicka 12/1\, Wrocław\, Dolnośląskie\, Poland
END:VEVENT
BEGIN:VEVENT
DTSTART;TZID=Europe/Warsaw:20260422T173000
DTEND;TZID=Europe/Warsaw:20260422T190000
DTSTAMP:20260421T162419
CREATED:20260110T204055Z
LAST-MODIFIED:20260110T204056Z
UID:10003560-1776879000-1776884400@ashtangaanyways.com
SUMMARY:Pierwsza seria prowadzona
DESCRIPTION:Zajęcia odbywają się w każdą środę od 17:30 do 19:00 w Ashtanga Yoga Wrocław (ul. Trzebnicka 12/1\, 50-246 Wrocław).
URL:https://ashtangaanyways.com/grafik/pierwsza-seria-prowadzona-5/2026-04-22/
END:VEVENT
BEGIN:VEVENT
DTSTART;TZID=Europe/Warsaw:20260421T183000
DTEND;TZID=Europe/Warsaw:20260421T193000
DTSTAMP:20260421T162419
CREATED:20240813T095954Z
LAST-MODIFIED:20251215T193627Z
UID:10002779-1776796200-1776799800@ashtangaanyways.com
SUMMARY:Ashtanga joga dla początkujących
DESCRIPTION:Zajęcia odbywają się w każdy wtorek od 18:30 do 19:30 w Ashtanga Yoga Wrocław (ul. Trzebnicka 12/1\, 50-246 Wrocław). \n\n\n\n>> WIĘCEJ SZCZEGÓŁÓW <<
URL:https://ashtangaanyways.com/grafik/ashtanga-joga-dla-poczatkujacych/2026-04-21/
CATEGORIES:ashtanga joga,praktyka
END:VEVENT
BEGIN:VEVENT
DTSTART;TZID=Europe/Warsaw:20260421T170000
DTEND;TZID=Europe/Warsaw:20260421T183000
DTSTAMP:20260421T162419
CREATED:20251228T102742Z
LAST-MODIFIED:20251228T102744Z
UID:10003297-1776790800-1776796200@ashtangaanyways.com
SUMMARY:Mysore
DESCRIPTION:Zajęcia odbywają się w każdy wtorek o 17:00-18:30 w Ashtanga Yoga Wrocław (ul. Trzebnicka 12/1\, 50-246 Wrocław). \n\n\n\n>> WIĘCEJ SZCZEGÓŁÓW <<
URL:https://ashtangaanyways.com/grafik/mysore-10/2026-04-21/
CATEGORIES:ashtanga joga,mysore,praktyka
END:VEVENT
BEGIN:VEVENT
DTSTART;TZID=Europe/Warsaw:20260419T180000
DTEND;TZID=Europe/Warsaw:20260419T190000
DTSTAMP:20260421T162419
CREATED:20250703T051838Z
LAST-MODIFIED:20250921T074333Z
UID:10002425-1776621600-1776625200@ashtangaanyways.com
SUMMARY:Joga regeneracyjna i techniki relaksacji
DESCRIPTION:Łagodna\, spokojna praktyka dostosowuje się do indywidualnych potrzeb i możliwości każdego uczestnika i jest idealna dla wszystkich poszukujących spowolnienia i relaksu\, niezależnie od poziomu zaawansowania\, kondycji fizycznej czy wieku. Podczas zajęć jogi regeneracyjnej będziemy poznawać wyciszające i równoważące techniki Pranayamy a także praktykować łagodną i medytacyjną Yin jogę\, kończąc praktyki asan długim relaksem z elementami jogi Nidry. \n\n\n\n>> WIĘCEJ SZCZEGÓŁÓW <<
URL:https://ashtangaanyways.com/grafik/joga-regeneracyjna-i-techniki-relaksacji-2/2026-04-19/
CATEGORIES:joga regeneracyjna,nidra joga,yin joga
END:VEVENT
BEGIN:VEVENT
DTSTART;TZID=Europe/Warsaw:20260416T190000
DTEND;TZID=Europe/Warsaw:20260416T193000
DTSTAMP:20260421T162419
CREATED:20260110T205201Z
LAST-MODIFIED:20260110T205232Z
UID:10004082-1776366000-1776367800@ashtangaanyways.com
SUMMARY:Pół Pierwszej Serii prowadzonej
DESCRIPTION:Zajęcia odbywają się w każdy czwartek od 19:00 do 20:15 w Ashtanga Yoga Wrocław (ul. Trzebnicka 12/1\, 50-246 Wrocław).
URL:https://ashtangaanyways.com/grafik/pol-pierwszej-serii-ashtanga-jogi/2026-04-16/
LOCATION:Ashtanga Yoga Wrocław\, Trzebnicka 12/1\, Wrocław\, Dolnośląskie\, Poland
END:VEVENT
BEGIN:VEVENT
DTSTART;TZID=Europe/Warsaw:20260416T170000
DTEND;TZID=Europe/Warsaw:20260416T190000
DTSTAMP:20260421T162419
CREATED:20260110T204803Z
LAST-MODIFIED:20260110T204805Z
UID:10003820-1776358800-1776366000@ashtangaanyways.com
SUMMARY:mysore
DESCRIPTION:Zajęcia odbywają się w każdą środę od 18:30 do 20:00 w Ashtanga Yoga Wrocław (ul. Trzebnicka 12/1\, 50-246 Wrocław). Praktyka Mysore jest dostępna dla wszystkich\, zarówno dla początkujących\, jak i zaawansowanych\, choć często kojarzona jest z bardziej zaawansowaną praktyką Ashtanga Jogi. W praktyce Mysore każdy uczestnik wykonuje asany we własnym tempie\, zgodnie z indywidualnymi możliwościami\, a nauczyciel pomaga poprzez korekty i dostosowanie praktyki do poziomu ucznia. Dobrze jest znać sekwencję Pierwszej Serii\, ale nie jest to konieczne. Jeśli jesteś osobą początkującą poprowadzę Cię krok po kroku.
URL:https://ashtangaanyways.com/grafik/mysore-12/2026-04-16/
LOCATION:Ashtanga Yoga Wrocław\, Trzebnicka 12/1\, Wrocław\, Dolnośląskie\, Poland
END:VEVENT
BEGIN:VEVENT
DTSTART;TZID=Europe/Warsaw:20260415T173000
DTEND;TZID=Europe/Warsaw:20260415T190000
DTSTAMP:20260421T162419
CREATED:20260110T204055Z
LAST-MODIFIED:20260110T204056Z
UID:10003559-1776274200-1776279600@ashtangaanyways.com
SUMMARY:Pierwsza seria prowadzona
DESCRIPTION:Zajęcia odbywają się w każdą środę od 17:30 do 19:00 w Ashtanga Yoga Wrocław (ul. Trzebnicka 12/1\, 50-246 Wrocław).
URL:https://ashtangaanyways.com/grafik/pierwsza-seria-prowadzona-5/2026-04-15/
END:VEVENT
BEGIN:VEVENT
DTSTART;TZID=Europe/Warsaw:20260414T183000
DTEND;TZID=Europe/Warsaw:20260414T193000
DTSTAMP:20260421T162419
CREATED:20240813T095954Z
LAST-MODIFIED:20251215T193627Z
UID:10002778-1776191400-1776195000@ashtangaanyways.com
SUMMARY:Ashtanga joga dla początkujących
DESCRIPTION:Zajęcia odbywają się w każdy wtorek od 18:30 do 19:30 w Ashtanga Yoga Wrocław (ul. Trzebnicka 12/1\, 50-246 Wrocław). \n\n\n\n>> WIĘCEJ SZCZEGÓŁÓW <<
URL:https://ashtangaanyways.com/grafik/ashtanga-joga-dla-poczatkujacych/2026-04-14/
CATEGORIES:ashtanga joga,praktyka
END:VEVENT
BEGIN:VEVENT
DTSTART;TZID=Europe/Warsaw:20260414T170000
DTEND;TZID=Europe/Warsaw:20260414T183000
DTSTAMP:20260421T162419
CREATED:20251228T102742Z
LAST-MODIFIED:20251228T102744Z
UID:10003296-1776186000-1776191400@ashtangaanyways.com
SUMMARY:Mysore
DESCRIPTION:Zajęcia odbywają się w każdy wtorek o 17:00-18:30 w Ashtanga Yoga Wrocław (ul. Trzebnicka 12/1\, 50-246 Wrocław). \n\n\n\n>> WIĘCEJ SZCZEGÓŁÓW <<
URL:https://ashtangaanyways.com/grafik/mysore-10/2026-04-14/
CATEGORIES:ashtanga joga,mysore,praktyka
END:VEVENT
BEGIN:VEVENT
DTSTART;TZID=Europe/Warsaw:20260412T180000
DTEND;TZID=Europe/Warsaw:20260412T190000
DTSTAMP:20260421T162419
CREATED:20250703T051838Z
LAST-MODIFIED:20250921T074333Z
UID:10002424-1776016800-1776020400@ashtangaanyways.com
SUMMARY:Joga regeneracyjna i techniki relaksacji
DESCRIPTION:Łagodna\, spokojna praktyka dostosowuje się do indywidualnych potrzeb i możliwości każdego uczestnika i jest idealna dla wszystkich poszukujących spowolnienia i relaksu\, niezależnie od poziomu zaawansowania\, kondycji fizycznej czy wieku. Podczas zajęć jogi regeneracyjnej będziemy poznawać wyciszające i równoważące techniki Pranayamy a także praktykować łagodną i medytacyjną Yin jogę\, kończąc praktyki asan długim relaksem z elementami jogi Nidry. \n\n\n\n>> WIĘCEJ SZCZEGÓŁÓW <<
URL:https://ashtangaanyways.com/grafik/joga-regeneracyjna-i-techniki-relaksacji-2/2026-04-12/
CATEGORIES:joga regeneracyjna,nidra joga,yin joga
END:VEVENT
BEGIN:VEVENT
DTSTART;TZID=Europe/Warsaw:20260410T110000
DTEND;TZID=Europe/Warsaw:20260417T110000
DTSTAMP:20260421T162419
CREATED:20260110T205739Z
LAST-MODIFIED:20260110T205827Z
UID:10004330-1775818800-1776423600@ashtangaanyways.com
SUMMARY:ESSAOUIRA YOGA CAMP | zanurzenie w spokoju
DESCRIPTION:Joga w Essaouirze to wyjazd dla tych\, którzy szukają równowagi między energią miasta a bliskością natury. Artystyczna medina\, muzyczne festiwale i spokojny rytm życia sprzyjają regeneracji\, zwolnieniu tempa i prawdziwemu resetowi. \n\n\n\nPoranne praktyki jogi dodadzą energii na cały dzień — na spacery po urokliwych uliczkach\, plażowanie i trekkingi przez ogrody arganowe\, wydmy i klify z widokiem na ocean\, w łagodnym świetle marokańskiego słońca. \n\n\n\nW programie: \n\n\n\n\ndodatkowy czas wolny na trekkingi\, lekcje kite lub jazdę konno.\n\n\n\nporanna ashtanga joga (dla początkujących i praktykujących)\,\n\n\n\npraktyki relaksacyjne i regeneracyjne: yin\, joga nidra\, koncert gongów i mis tybetańskich\,\n\n\n\nczas na hammam\, odkrywanie mediny\, plaże\, chill na tarasie riadu i lokalną kuchnię\,
URL:https://ashtangaanyways.com/grafik/essaessaouira-yoga-camp-zanurzenie-w-spokojuessa/
END:VEVENT
BEGIN:VEVENT
DTSTART;TZID=Europe/Warsaw:20260409T190000
DTEND;TZID=Europe/Warsaw:20260409T193000
DTSTAMP:20260421T162419
CREATED:20260110T205201Z
LAST-MODIFIED:20260110T205232Z
UID:10004081-1775761200-1775763000@ashtangaanyways.com
SUMMARY:Pół Pierwszej Serii prowadzonej
DESCRIPTION:Zajęcia odbywają się w każdy czwartek od 19:00 do 20:15 w Ashtanga Yoga Wrocław (ul. Trzebnicka 12/1\, 50-246 Wrocław).
URL:https://ashtangaanyways.com/grafik/pol-pierwszej-serii-ashtanga-jogi/2026-04-09/
LOCATION:Ashtanga Yoga Wrocław\, Trzebnicka 12/1\, Wrocław\, Dolnośląskie\, Poland
END:VEVENT
BEGIN:VEVENT
DTSTART;TZID=Europe/Warsaw:20260409T170000
DTEND;TZID=Europe/Warsaw:20260409T190000
DTSTAMP:20260421T162419
CREATED:20260110T204803Z
LAST-MODIFIED:20260110T204805Z
UID:10003819-1775754000-1775761200@ashtangaanyways.com
SUMMARY:mysore
DESCRIPTION:Zajęcia odbywają się w każdą środę od 18:30 do 20:00 w Ashtanga Yoga Wrocław (ul. Trzebnicka 12/1\, 50-246 Wrocław). Praktyka Mysore jest dostępna dla wszystkich\, zarówno dla początkujących\, jak i zaawansowanych\, choć często kojarzona jest z bardziej zaawansowaną praktyką Ashtanga Jogi. W praktyce Mysore każdy uczestnik wykonuje asany we własnym tempie\, zgodnie z indywidualnymi możliwościami\, a nauczyciel pomaga poprzez korekty i dostosowanie praktyki do poziomu ucznia. Dobrze jest znać sekwencję Pierwszej Serii\, ale nie jest to konieczne. Jeśli jesteś osobą początkującą poprowadzę Cię krok po kroku.
URL:https://ashtangaanyways.com/grafik/mysore-12/2026-04-09/
LOCATION:Ashtanga Yoga Wrocław\, Trzebnicka 12/1\, Wrocław\, Dolnośląskie\, Poland
END:VEVENT
BEGIN:VEVENT
DTSTART;TZID=Europe/Warsaw:20260408T173000
DTEND;TZID=Europe/Warsaw:20260408T190000
DTSTAMP:20260421T162419
CREATED:20260110T204055Z
LAST-MODIFIED:20260110T204056Z
UID:10003558-1775669400-1775674800@ashtangaanyways.com
SUMMARY:Pierwsza seria prowadzona
DESCRIPTION:Zajęcia odbywają się w każdą środę od 17:30 do 19:00 w Ashtanga Yoga Wrocław (ul. Trzebnicka 12/1\, 50-246 Wrocław).
URL:https://ashtangaanyways.com/grafik/pierwsza-seria-prowadzona-5/2026-04-08/
END:VEVENT
BEGIN:VEVENT
DTSTART;TZID=Europe/Warsaw:20260407T183000
DTEND;TZID=Europe/Warsaw:20260407T193000
DTSTAMP:20260421T162419
CREATED:20240813T095954Z
LAST-MODIFIED:20251215T193627Z
UID:10002777-1775586600-1775590200@ashtangaanyways.com
SUMMARY:Ashtanga joga dla początkujących
DESCRIPTION:Zajęcia odbywają się w każdy wtorek od 18:30 do 19:30 w Ashtanga Yoga Wrocław (ul. Trzebnicka 12/1\, 50-246 Wrocław). \n\n\n\n>> WIĘCEJ SZCZEGÓŁÓW <<
URL:https://ashtangaanyways.com/grafik/ashtanga-joga-dla-poczatkujacych/2026-04-07/
CATEGORIES:ashtanga joga,praktyka
END:VEVENT
BEGIN:VEVENT
DTSTART;TZID=Europe/Warsaw:20260407T170000
DTEND;TZID=Europe/Warsaw:20260407T183000
DTSTAMP:20260421T162419
CREATED:20251228T102742Z
LAST-MODIFIED:20251228T102744Z
UID:10003295-1775581200-1775586600@ashtangaanyways.com
SUMMARY:Mysore
DESCRIPTION:Zajęcia odbywają się w każdy wtorek o 17:00-18:30 w Ashtanga Yoga Wrocław (ul. Trzebnicka 12/1\, 50-246 Wrocław). \n\n\n\n>> WIĘCEJ SZCZEGÓŁÓW <<
URL:https://ashtangaanyways.com/grafik/mysore-10/2026-04-07/
CATEGORIES:ashtanga joga,mysore,praktyka
END:VEVENT
BEGIN:VEVENT
DTSTART;TZID=Europe/Warsaw:20260405T180000
DTEND;TZID=Europe/Warsaw:20260405T190000
DTSTAMP:20260421T162419
CREATED:20250703T051838Z
LAST-MODIFIED:20250921T074333Z
UID:10002423-1775412000-1775415600@ashtangaanyways.com
SUMMARY:Joga regeneracyjna i techniki relaksacji
DESCRIPTION:Łagodna\, spokojna praktyka dostosowuje się do indywidualnych potrzeb i możliwości każdego uczestnika i jest idealna dla wszystkich poszukujących spowolnienia i relaksu\, niezależnie od poziomu zaawansowania\, kondycji fizycznej czy wieku. Podczas zajęć jogi regeneracyjnej będziemy poznawać wyciszające i równoważące techniki Pranayamy a także praktykować łagodną i medytacyjną Yin jogę\, kończąc praktyki asan długim relaksem z elementami jogi Nidry. \n\n\n\n>> WIĘCEJ SZCZEGÓŁÓW <<
URL:https://ashtangaanyways.com/grafik/joga-regeneracyjna-i-techniki-relaksacji-2/2026-04-05/
CATEGORIES:joga regeneracyjna,nidra joga,yin joga
END:VEVENT
BEGIN:VEVENT
DTSTART;TZID=Europe/Warsaw:20260402T190000
DTEND;TZID=Europe/Warsaw:20260402T193000
DTSTAMP:20260421T162419
CREATED:20260110T205201Z
LAST-MODIFIED:20260110T205232Z
UID:10004080-1775156400-1775158200@ashtangaanyways.com
SUMMARY:Pół Pierwszej Serii prowadzonej
DESCRIPTION:Zajęcia odbywają się w każdy czwartek od 19:00 do 20:15 w Ashtanga Yoga Wrocław (ul. Trzebnicka 12/1\, 50-246 Wrocław).
URL:https://ashtangaanyways.com/grafik/pol-pierwszej-serii-ashtanga-jogi/2026-04-02/
LOCATION:Ashtanga Yoga Wrocław\, Trzebnicka 12/1\, Wrocław\, Dolnośląskie\, Poland
END:VEVENT
BEGIN:VEVENT
DTSTART;TZID=Europe/Warsaw:20260402T170000
DTEND;TZID=Europe/Warsaw:20260402T190000
DTSTAMP:20260421T162419
CREATED:20260110T204803Z
LAST-MODIFIED:20260110T204805Z
UID:10003818-1775149200-1775156400@ashtangaanyways.com
SUMMARY:mysore
DESCRIPTION:Zajęcia odbywają się w każdą środę od 18:30 do 20:00 w Ashtanga Yoga Wrocław (ul. Trzebnicka 12/1\, 50-246 Wrocław). Praktyka Mysore jest dostępna dla wszystkich\, zarówno dla początkujących\, jak i zaawansowanych\, choć często kojarzona jest z bardziej zaawansowaną praktyką Ashtanga Jogi. W praktyce Mysore każdy uczestnik wykonuje asany we własnym tempie\, zgodnie z indywidualnymi możliwościami\, a nauczyciel pomaga poprzez korekty i dostosowanie praktyki do poziomu ucznia. Dobrze jest znać sekwencję Pierwszej Serii\, ale nie jest to konieczne. Jeśli jesteś osobą początkującą poprowadzę Cię krok po kroku.
URL:https://ashtangaanyways.com/grafik/mysore-12/2026-04-02/
LOCATION:Ashtanga Yoga Wrocław\, Trzebnicka 12/1\, Wrocław\, Dolnośląskie\, Poland
END:VEVENT
BEGIN:VEVENT
DTSTART;TZID=Europe/Warsaw:20260401T173000
DTEND;TZID=Europe/Warsaw:20260401T190000
DTSTAMP:20260421T162419
CREATED:20260110T204055Z
LAST-MODIFIED:20260110T204056Z
UID:10003557-1775064600-1775070000@ashtangaanyways.com
SUMMARY:Pierwsza seria prowadzona
DESCRIPTION:Zajęcia odbywają się w każdą środę od 17:30 do 19:00 w Ashtanga Yoga Wrocław (ul. Trzebnicka 12/1\, 50-246 Wrocław).
URL:https://ashtangaanyways.com/grafik/pierwsza-seria-prowadzona-5/2026-04-01/
END:VEVENT
BEGIN:VEVENT
DTSTART;TZID=Europe/Warsaw:20260331T183000
DTEND;TZID=Europe/Warsaw:20260331T193000
DTSTAMP:20260421T162419
CREATED:20240813T095954Z
LAST-MODIFIED:20251215T193627Z
UID:10002776-1774981800-1774985400@ashtangaanyways.com
SUMMARY:Ashtanga joga dla początkujących
DESCRIPTION:Zajęcia odbywają się w każdy wtorek od 18:30 do 19:30 w Ashtanga Yoga Wrocław (ul. Trzebnicka 12/1\, 50-246 Wrocław). \n\n\n\n>> WIĘCEJ SZCZEGÓŁÓW <<
URL:https://ashtangaanyways.com/grafik/ashtanga-joga-dla-poczatkujacych/2026-03-31/
CATEGORIES:ashtanga joga,praktyka
END:VEVENT
BEGIN:VEVENT
DTSTART;TZID=Europe/Warsaw:20260331T170000
DTEND;TZID=Europe/Warsaw:20260331T183000
DTSTAMP:20260421T162419
CREATED:20251228T102742Z
LAST-MODIFIED:20251228T102744Z
UID:10003294-1774976400-1774981800@ashtangaanyways.com
SUMMARY:Mysore
DESCRIPTION:Zajęcia odbywają się w każdy wtorek o 17:00-18:30 w Ashtanga Yoga Wrocław (ul. Trzebnicka 12/1\, 50-246 Wrocław). \n\n\n\n>> WIĘCEJ SZCZEGÓŁÓW <<
URL:https://ashtangaanyways.com/grafik/mysore-10/2026-03-31/
CATEGORIES:ashtanga joga,mysore,praktyka
END:VEVENT
END:VCALENDAR