BEGIN:VCALENDAR
VERSION:2.0
PRODID:-//Ashtanga Anyways - ECPv6.15.18//NONSGML v1.0//EN
CALSCALE:GREGORIAN
METHOD:PUBLISH
X-WR-CALNAME:Ashtanga Anyways
X-ORIGINAL-URL:https://ashtangaanyways.com
X-WR-CALDESC:Wydarzenia dla Ashtanga Anyways
REFRESH-INTERVAL;VALUE=DURATION:PT1H
X-Robots-Tag:noindex
X-PUBLISHED-TTL:PT1H
BEGIN:VTIMEZONE
TZID:Europe/Warsaw
BEGIN:DAYLIGHT
TZOFFSETFROM:+0100
TZOFFSETTO:+0200
TZNAME:CEST
DTSTART:20270328T010000
END:DAYLIGHT
BEGIN:STANDARD
TZOFFSETFROM:+0200
TZOFFSETTO:+0100
TZNAME:CET
DTSTART:20271031T010000
END:STANDARD
BEGIN:DAYLIGHT
TZOFFSETFROM:+0100
TZOFFSETTO:+0200
TZNAME:CEST
DTSTART:20280326T010000
END:DAYLIGHT
BEGIN:STANDARD
TZOFFSETFROM:+0200
TZOFFSETTO:+0100
TZNAME:CET
DTSTART:20281029T010000
END:STANDARD
BEGIN:DAYLIGHT
TZOFFSETFROM:+0100
TZOFFSETTO:+0200
TZNAME:CEST
DTSTART:20290325T010000
END:DAYLIGHT
BEGIN:STANDARD
TZOFFSETFROM:+0200
TZOFFSETTO:+0100
TZNAME:CET
DTSTART:20291028T010000
END:STANDARD
END:VTIMEZONE
BEGIN:VEVENT
DTSTART;TZID=Europe/Warsaw:20280518T190000
DTEND;TZID=Europe/Warsaw:20280518T193000
DTSTAMP:20260422T095744
CREATED:20260110T205201Z
LAST-MODIFIED:20260110T205232Z
UID:10004191-1842289200-1842291000@ashtangaanyways.com
SUMMARY:Pół Pierwszej Serii prowadzonej
DESCRIPTION:Zajęcia odbywają się w każdy czwartek od 19:00 do 20:15 w Ashtanga Yoga Wrocław (ul. Trzebnicka 12/1\, 50-246 Wrocław).
URL:https://ashtangaanyways.com/grafik/pol-pierwszej-serii-ashtanga-jogi/2028-05-18/
LOCATION:Ashtanga Yoga Wrocław\, Trzebnicka 12/1\, Wrocław\, Dolnośląskie\, Poland
END:VEVENT
BEGIN:VEVENT
DTSTART;TZID=Europe/Warsaw:20280525T190000
DTEND;TZID=Europe/Warsaw:20280525T193000
DTSTAMP:20260422T095744
CREATED:20260110T205201Z
LAST-MODIFIED:20260110T205232Z
UID:10004192-1842894000-1842895800@ashtangaanyways.com
SUMMARY:Pół Pierwszej Serii prowadzonej
DESCRIPTION:Zajęcia odbywają się w każdy czwartek od 19:00 do 20:15 w Ashtanga Yoga Wrocław (ul. Trzebnicka 12/1\, 50-246 Wrocław).
URL:https://ashtangaanyways.com/grafik/pol-pierwszej-serii-ashtanga-jogi/2028-05-25/
LOCATION:Ashtanga Yoga Wrocław\, Trzebnicka 12/1\, Wrocław\, Dolnośląskie\, Poland
END:VEVENT
BEGIN:VEVENT
DTSTART;TZID=Europe/Warsaw:20280601T190000
DTEND;TZID=Europe/Warsaw:20280601T193000
DTSTAMP:20260422T095744
CREATED:20260110T205201Z
LAST-MODIFIED:20260110T205232Z
UID:10004193-1843498800-1843500600@ashtangaanyways.com
SUMMARY:Pół Pierwszej Serii prowadzonej
DESCRIPTION:Zajęcia odbywają się w każdy czwartek od 19:00 do 20:15 w Ashtanga Yoga Wrocław (ul. Trzebnicka 12/1\, 50-246 Wrocław).
URL:https://ashtangaanyways.com/grafik/pol-pierwszej-serii-ashtanga-jogi/2028-06-01/
LOCATION:Ashtanga Yoga Wrocław\, Trzebnicka 12/1\, Wrocław\, Dolnośląskie\, Poland
END:VEVENT
BEGIN:VEVENT
DTSTART;TZID=Europe/Warsaw:20280608T190000
DTEND;TZID=Europe/Warsaw:20280608T193000
DTSTAMP:20260422T095744
CREATED:20260110T205201Z
LAST-MODIFIED:20260110T205232Z
UID:10004194-1844103600-1844105400@ashtangaanyways.com
SUMMARY:Pół Pierwszej Serii prowadzonej
DESCRIPTION:Zajęcia odbywają się w każdy czwartek od 19:00 do 20:15 w Ashtanga Yoga Wrocław (ul. Trzebnicka 12/1\, 50-246 Wrocław).
URL:https://ashtangaanyways.com/grafik/pol-pierwszej-serii-ashtanga-jogi/2028-06-08/
LOCATION:Ashtanga Yoga Wrocław\, Trzebnicka 12/1\, Wrocław\, Dolnośląskie\, Poland
END:VEVENT
BEGIN:VEVENT
DTSTART;TZID=Europe/Warsaw:20280615T190000
DTEND;TZID=Europe/Warsaw:20280615T193000
DTSTAMP:20260422T095744
CREATED:20260110T205201Z
LAST-MODIFIED:20260110T205232Z
UID:10004195-1844708400-1844710200@ashtangaanyways.com
SUMMARY:Pół Pierwszej Serii prowadzonej
DESCRIPTION:Zajęcia odbywają się w każdy czwartek od 19:00 do 20:15 w Ashtanga Yoga Wrocław (ul. Trzebnicka 12/1\, 50-246 Wrocław).
URL:https://ashtangaanyways.com/grafik/pol-pierwszej-serii-ashtanga-jogi/2028-06-15/
LOCATION:Ashtanga Yoga Wrocław\, Trzebnicka 12/1\, Wrocław\, Dolnośląskie\, Poland
END:VEVENT
BEGIN:VEVENT
DTSTART;TZID=Europe/Warsaw:20280622T190000
DTEND;TZID=Europe/Warsaw:20280622T193000
DTSTAMP:20260422T095744
CREATED:20260110T205201Z
LAST-MODIFIED:20260110T205232Z
UID:10004196-1845313200-1845315000@ashtangaanyways.com
SUMMARY:Pół Pierwszej Serii prowadzonej
DESCRIPTION:Zajęcia odbywają się w każdy czwartek od 19:00 do 20:15 w Ashtanga Yoga Wrocław (ul. Trzebnicka 12/1\, 50-246 Wrocław).
URL:https://ashtangaanyways.com/grafik/pol-pierwszej-serii-ashtanga-jogi/2028-06-22/
LOCATION:Ashtanga Yoga Wrocław\, Trzebnicka 12/1\, Wrocław\, Dolnośląskie\, Poland
END:VEVENT
BEGIN:VEVENT
DTSTART;TZID=Europe/Warsaw:20280629T190000
DTEND;TZID=Europe/Warsaw:20280629T193000
DTSTAMP:20260422T095744
CREATED:20260110T205201Z
LAST-MODIFIED:20260110T205232Z
UID:10004197-1845918000-1845919800@ashtangaanyways.com
SUMMARY:Pół Pierwszej Serii prowadzonej
DESCRIPTION:Zajęcia odbywają się w każdy czwartek od 19:00 do 20:15 w Ashtanga Yoga Wrocław (ul. Trzebnicka 12/1\, 50-246 Wrocław).
URL:https://ashtangaanyways.com/grafik/pol-pierwszej-serii-ashtanga-jogi/2028-06-29/
LOCATION:Ashtanga Yoga Wrocław\, Trzebnicka 12/1\, Wrocław\, Dolnośląskie\, Poland
END:VEVENT
BEGIN:VEVENT
DTSTART;TZID=Europe/Warsaw:20280706T190000
DTEND;TZID=Europe/Warsaw:20280706T193000
DTSTAMP:20260422T095744
CREATED:20260110T205201Z
LAST-MODIFIED:20260110T205232Z
UID:10004198-1846522800-1846524600@ashtangaanyways.com
SUMMARY:Pół Pierwszej Serii prowadzonej
DESCRIPTION:Zajęcia odbywają się w każdy czwartek od 19:00 do 20:15 w Ashtanga Yoga Wrocław (ul. Trzebnicka 12/1\, 50-246 Wrocław).
URL:https://ashtangaanyways.com/grafik/pol-pierwszej-serii-ashtanga-jogi/2028-07-06/
LOCATION:Ashtanga Yoga Wrocław\, Trzebnicka 12/1\, Wrocław\, Dolnośląskie\, Poland
END:VEVENT
BEGIN:VEVENT
DTSTART;TZID=Europe/Warsaw:20280713T190000
DTEND;TZID=Europe/Warsaw:20280713T193000
DTSTAMP:20260422T095744
CREATED:20260110T205201Z
LAST-MODIFIED:20260110T205232Z
UID:10004199-1847127600-1847129400@ashtangaanyways.com
SUMMARY:Pół Pierwszej Serii prowadzonej
DESCRIPTION:Zajęcia odbywają się w każdy czwartek od 19:00 do 20:15 w Ashtanga Yoga Wrocław (ul. Trzebnicka 12/1\, 50-246 Wrocław).
URL:https://ashtangaanyways.com/grafik/pol-pierwszej-serii-ashtanga-jogi/2028-07-13/
LOCATION:Ashtanga Yoga Wrocław\, Trzebnicka 12/1\, Wrocław\, Dolnośląskie\, Poland
END:VEVENT
BEGIN:VEVENT
DTSTART;TZID=Europe/Warsaw:20280720T190000
DTEND;TZID=Europe/Warsaw:20280720T193000
DTSTAMP:20260422T095744
CREATED:20260110T205201Z
LAST-MODIFIED:20260110T205232Z
UID:10004200-1847732400-1847734200@ashtangaanyways.com
SUMMARY:Pół Pierwszej Serii prowadzonej
DESCRIPTION:Zajęcia odbywają się w każdy czwartek od 19:00 do 20:15 w Ashtanga Yoga Wrocław (ul. Trzebnicka 12/1\, 50-246 Wrocław).
URL:https://ashtangaanyways.com/grafik/pol-pierwszej-serii-ashtanga-jogi/2028-07-20/
LOCATION:Ashtanga Yoga Wrocław\, Trzebnicka 12/1\, Wrocław\, Dolnośląskie\, Poland
END:VEVENT
BEGIN:VEVENT
DTSTART;TZID=Europe/Warsaw:20280727T190000
DTEND;TZID=Europe/Warsaw:20280727T193000
DTSTAMP:20260422T095744
CREATED:20260110T205201Z
LAST-MODIFIED:20260110T205232Z
UID:10004201-1848337200-1848339000@ashtangaanyways.com
SUMMARY:Pół Pierwszej Serii prowadzonej
DESCRIPTION:Zajęcia odbywają się w każdy czwartek od 19:00 do 20:15 w Ashtanga Yoga Wrocław (ul. Trzebnicka 12/1\, 50-246 Wrocław).
URL:https://ashtangaanyways.com/grafik/pol-pierwszej-serii-ashtanga-jogi/2028-07-27/
LOCATION:Ashtanga Yoga Wrocław\, Trzebnicka 12/1\, Wrocław\, Dolnośląskie\, Poland
END:VEVENT
BEGIN:VEVENT
DTSTART;TZID=Europe/Warsaw:20280803T190000
DTEND;TZID=Europe/Warsaw:20280803T193000
DTSTAMP:20260422T095744
CREATED:20260110T205201Z
LAST-MODIFIED:20260110T205232Z
UID:10004202-1848942000-1848943800@ashtangaanyways.com
SUMMARY:Pół Pierwszej Serii prowadzonej
DESCRIPTION:Zajęcia odbywają się w każdy czwartek od 19:00 do 20:15 w Ashtanga Yoga Wrocław (ul. Trzebnicka 12/1\, 50-246 Wrocław).
URL:https://ashtangaanyways.com/grafik/pol-pierwszej-serii-ashtanga-jogi/2028-08-03/
LOCATION:Ashtanga Yoga Wrocław\, Trzebnicka 12/1\, Wrocław\, Dolnośląskie\, Poland
END:VEVENT
BEGIN:VEVENT
DTSTART;TZID=Europe/Warsaw:20280810T190000
DTEND;TZID=Europe/Warsaw:20280810T193000
DTSTAMP:20260422T095744
CREATED:20260110T205201Z
LAST-MODIFIED:20260110T205232Z
UID:10004203-1849546800-1849548600@ashtangaanyways.com
SUMMARY:Pół Pierwszej Serii prowadzonej
DESCRIPTION:Zajęcia odbywają się w każdy czwartek od 19:00 do 20:15 w Ashtanga Yoga Wrocław (ul. Trzebnicka 12/1\, 50-246 Wrocław).
URL:https://ashtangaanyways.com/grafik/pol-pierwszej-serii-ashtanga-jogi/2028-08-10/
LOCATION:Ashtanga Yoga Wrocław\, Trzebnicka 12/1\, Wrocław\, Dolnośląskie\, Poland
END:VEVENT
BEGIN:VEVENT
DTSTART;TZID=Europe/Warsaw:20280817T190000
DTEND;TZID=Europe/Warsaw:20280817T193000
DTSTAMP:20260422T095744
CREATED:20260110T205201Z
LAST-MODIFIED:20260110T205232Z
UID:10004204-1850151600-1850153400@ashtangaanyways.com
SUMMARY:Pół Pierwszej Serii prowadzonej
DESCRIPTION:Zajęcia odbywają się w każdy czwartek od 19:00 do 20:15 w Ashtanga Yoga Wrocław (ul. Trzebnicka 12/1\, 50-246 Wrocław).
URL:https://ashtangaanyways.com/grafik/pol-pierwszej-serii-ashtanga-jogi/2028-08-17/
LOCATION:Ashtanga Yoga Wrocław\, Trzebnicka 12/1\, Wrocław\, Dolnośląskie\, Poland
END:VEVENT
BEGIN:VEVENT
DTSTART;TZID=Europe/Warsaw:20280824T190000
DTEND;TZID=Europe/Warsaw:20280824T193000
DTSTAMP:20260422T095744
CREATED:20260110T205201Z
LAST-MODIFIED:20260110T205232Z
UID:10004205-1850756400-1850758200@ashtangaanyways.com
SUMMARY:Pół Pierwszej Serii prowadzonej
DESCRIPTION:Zajęcia odbywają się w każdy czwartek od 19:00 do 20:15 w Ashtanga Yoga Wrocław (ul. Trzebnicka 12/1\, 50-246 Wrocław).
URL:https://ashtangaanyways.com/grafik/pol-pierwszej-serii-ashtanga-jogi/2028-08-24/
LOCATION:Ashtanga Yoga Wrocław\, Trzebnicka 12/1\, Wrocław\, Dolnośląskie\, Poland
END:VEVENT
BEGIN:VEVENT
DTSTART;TZID=Europe/Warsaw:20280831T190000
DTEND;TZID=Europe/Warsaw:20280831T193000
DTSTAMP:20260422T095744
CREATED:20260110T205201Z
LAST-MODIFIED:20260110T205232Z
UID:10004206-1851361200-1851363000@ashtangaanyways.com
SUMMARY:Pół Pierwszej Serii prowadzonej
DESCRIPTION:Zajęcia odbywają się w każdy czwartek od 19:00 do 20:15 w Ashtanga Yoga Wrocław (ul. Trzebnicka 12/1\, 50-246 Wrocław).
URL:https://ashtangaanyways.com/grafik/pol-pierwszej-serii-ashtanga-jogi/2028-08-31/
LOCATION:Ashtanga Yoga Wrocław\, Trzebnicka 12/1\, Wrocław\, Dolnośląskie\, Poland
END:VEVENT
BEGIN:VEVENT
DTSTART;TZID=Europe/Warsaw:20280907T190000
DTEND;TZID=Europe/Warsaw:20280907T193000
DTSTAMP:20260422T095744
CREATED:20260110T205201Z
LAST-MODIFIED:20260110T205232Z
UID:10004207-1851966000-1851967800@ashtangaanyways.com
SUMMARY:Pół Pierwszej Serii prowadzonej
DESCRIPTION:Zajęcia odbywają się w każdy czwartek od 19:00 do 20:15 w Ashtanga Yoga Wrocław (ul. Trzebnicka 12/1\, 50-246 Wrocław).
URL:https://ashtangaanyways.com/grafik/pol-pierwszej-serii-ashtanga-jogi/2028-09-07/
LOCATION:Ashtanga Yoga Wrocław\, Trzebnicka 12/1\, Wrocław\, Dolnośląskie\, Poland
END:VEVENT
BEGIN:VEVENT
DTSTART;TZID=Europe/Warsaw:20280914T190000
DTEND;TZID=Europe/Warsaw:20280914T193000
DTSTAMP:20260422T095744
CREATED:20260110T205201Z
LAST-MODIFIED:20260110T205232Z
UID:10004208-1852570800-1852572600@ashtangaanyways.com
SUMMARY:Pół Pierwszej Serii prowadzonej
DESCRIPTION:Zajęcia odbywają się w każdy czwartek od 19:00 do 20:15 w Ashtanga Yoga Wrocław (ul. Trzebnicka 12/1\, 50-246 Wrocław).
URL:https://ashtangaanyways.com/grafik/pol-pierwszej-serii-ashtanga-jogi/2028-09-14/
LOCATION:Ashtanga Yoga Wrocław\, Trzebnicka 12/1\, Wrocław\, Dolnośląskie\, Poland
END:VEVENT
BEGIN:VEVENT
DTSTART;TZID=Europe/Warsaw:20280921T190000
DTEND;TZID=Europe/Warsaw:20280921T193000
DTSTAMP:20260422T095744
CREATED:20260110T205201Z
LAST-MODIFIED:20260110T205232Z
UID:10004209-1853175600-1853177400@ashtangaanyways.com
SUMMARY:Pół Pierwszej Serii prowadzonej
DESCRIPTION:Zajęcia odbywają się w każdy czwartek od 19:00 do 20:15 w Ashtanga Yoga Wrocław (ul. Trzebnicka 12/1\, 50-246 Wrocław).
URL:https://ashtangaanyways.com/grafik/pol-pierwszej-serii-ashtanga-jogi/2028-09-21/
LOCATION:Ashtanga Yoga Wrocław\, Trzebnicka 12/1\, Wrocław\, Dolnośląskie\, Poland
END:VEVENT
BEGIN:VEVENT
DTSTART;TZID=Europe/Warsaw:20280928T190000
DTEND;TZID=Europe/Warsaw:20280928T193000
DTSTAMP:20260422T095744
CREATED:20260110T205201Z
LAST-MODIFIED:20260110T205232Z
UID:10004210-1853780400-1853782200@ashtangaanyways.com
SUMMARY:Pół Pierwszej Serii prowadzonej
DESCRIPTION:Zajęcia odbywają się w każdy czwartek od 19:00 do 20:15 w Ashtanga Yoga Wrocław (ul. Trzebnicka 12/1\, 50-246 Wrocław).
URL:https://ashtangaanyways.com/grafik/pol-pierwszej-serii-ashtanga-jogi/2028-09-28/
LOCATION:Ashtanga Yoga Wrocław\, Trzebnicka 12/1\, Wrocław\, Dolnośląskie\, Poland
END:VEVENT
BEGIN:VEVENT
DTSTART;TZID=Europe/Warsaw:20281005T190000
DTEND;TZID=Europe/Warsaw:20281005T193000
DTSTAMP:20260422T095744
CREATED:20260110T205201Z
LAST-MODIFIED:20260110T205232Z
UID:10004211-1854385200-1854387000@ashtangaanyways.com
SUMMARY:Pół Pierwszej Serii prowadzonej
DESCRIPTION:Zajęcia odbywają się w każdy czwartek od 19:00 do 20:15 w Ashtanga Yoga Wrocław (ul. Trzebnicka 12/1\, 50-246 Wrocław).
URL:https://ashtangaanyways.com/grafik/pol-pierwszej-serii-ashtanga-jogi/2028-10-05/
LOCATION:Ashtanga Yoga Wrocław\, Trzebnicka 12/1\, Wrocław\, Dolnośląskie\, Poland
END:VEVENT
BEGIN:VEVENT
DTSTART;TZID=Europe/Warsaw:20281012T190000
DTEND;TZID=Europe/Warsaw:20281012T193000
DTSTAMP:20260422T095744
CREATED:20260110T205201Z
LAST-MODIFIED:20260110T205232Z
UID:10004212-1854990000-1854991800@ashtangaanyways.com
SUMMARY:Pół Pierwszej Serii prowadzonej
DESCRIPTION:Zajęcia odbywają się w każdy czwartek od 19:00 do 20:15 w Ashtanga Yoga Wrocław (ul. Trzebnicka 12/1\, 50-246 Wrocław).
URL:https://ashtangaanyways.com/grafik/pol-pierwszej-serii-ashtanga-jogi/2028-10-12/
LOCATION:Ashtanga Yoga Wrocław\, Trzebnicka 12/1\, Wrocław\, Dolnośląskie\, Poland
END:VEVENT
BEGIN:VEVENT
DTSTART;TZID=Europe/Warsaw:20281019T190000
DTEND;TZID=Europe/Warsaw:20281019T193000
DTSTAMP:20260422T095744
CREATED:20260110T205201Z
LAST-MODIFIED:20260110T205232Z
UID:10004213-1855594800-1855596600@ashtangaanyways.com
SUMMARY:Pół Pierwszej Serii prowadzonej
DESCRIPTION:Zajęcia odbywają się w każdy czwartek od 19:00 do 20:15 w Ashtanga Yoga Wrocław (ul. Trzebnicka 12/1\, 50-246 Wrocław).
URL:https://ashtangaanyways.com/grafik/pol-pierwszej-serii-ashtanga-jogi/2028-10-19/
LOCATION:Ashtanga Yoga Wrocław\, Trzebnicka 12/1\, Wrocław\, Dolnośląskie\, Poland
END:VEVENT
BEGIN:VEVENT
DTSTART;TZID=Europe/Warsaw:20281026T190000
DTEND;TZID=Europe/Warsaw:20281026T193000
DTSTAMP:20260422T095744
CREATED:20260110T205201Z
LAST-MODIFIED:20260110T205232Z
UID:10004214-1856199600-1856201400@ashtangaanyways.com
SUMMARY:Pół Pierwszej Serii prowadzonej
DESCRIPTION:Zajęcia odbywają się w każdy czwartek od 19:00 do 20:15 w Ashtanga Yoga Wrocław (ul. Trzebnicka 12/1\, 50-246 Wrocław).
URL:https://ashtangaanyways.com/grafik/pol-pierwszej-serii-ashtanga-jogi/2028-10-26/
LOCATION:Ashtanga Yoga Wrocław\, Trzebnicka 12/1\, Wrocław\, Dolnośląskie\, Poland
END:VEVENT
BEGIN:VEVENT
DTSTART;TZID=Europe/Warsaw:20281102T190000
DTEND;TZID=Europe/Warsaw:20281102T193000
DTSTAMP:20260422T095744
CREATED:20260110T205201Z
LAST-MODIFIED:20260110T205232Z
UID:10004215-1856804400-1856806200@ashtangaanyways.com
SUMMARY:Pół Pierwszej Serii prowadzonej
DESCRIPTION:Zajęcia odbywają się w każdy czwartek od 19:00 do 20:15 w Ashtanga Yoga Wrocław (ul. Trzebnicka 12/1\, 50-246 Wrocław).
URL:https://ashtangaanyways.com/grafik/pol-pierwszej-serii-ashtanga-jogi/2028-11-02/
LOCATION:Ashtanga Yoga Wrocław\, Trzebnicka 12/1\, Wrocław\, Dolnośląskie\, Poland
END:VEVENT
BEGIN:VEVENT
DTSTART;TZID=Europe/Warsaw:20281109T190000
DTEND;TZID=Europe/Warsaw:20281109T193000
DTSTAMP:20260422T095744
CREATED:20260110T205201Z
LAST-MODIFIED:20260110T205232Z
UID:10004216-1857409200-1857411000@ashtangaanyways.com
SUMMARY:Pół Pierwszej Serii prowadzonej
DESCRIPTION:Zajęcia odbywają się w każdy czwartek od 19:00 do 20:15 w Ashtanga Yoga Wrocław (ul. Trzebnicka 12/1\, 50-246 Wrocław).
URL:https://ashtangaanyways.com/grafik/pol-pierwszej-serii-ashtanga-jogi/2028-11-09/
LOCATION:Ashtanga Yoga Wrocław\, Trzebnicka 12/1\, Wrocław\, Dolnośląskie\, Poland
END:VEVENT
BEGIN:VEVENT
DTSTART;TZID=Europe/Warsaw:20281116T190000
DTEND;TZID=Europe/Warsaw:20281116T193000
DTSTAMP:20260422T095744
CREATED:20260110T205201Z
LAST-MODIFIED:20260110T205232Z
UID:10004217-1858014000-1858015800@ashtangaanyways.com
SUMMARY:Pół Pierwszej Serii prowadzonej
DESCRIPTION:Zajęcia odbywają się w każdy czwartek od 19:00 do 20:15 w Ashtanga Yoga Wrocław (ul. Trzebnicka 12/1\, 50-246 Wrocław).
URL:https://ashtangaanyways.com/grafik/pol-pierwszej-serii-ashtanga-jogi/2028-11-16/
LOCATION:Ashtanga Yoga Wrocław\, Trzebnicka 12/1\, Wrocław\, Dolnośląskie\, Poland
END:VEVENT
BEGIN:VEVENT
DTSTART;TZID=Europe/Warsaw:20281123T190000
DTEND;TZID=Europe/Warsaw:20281123T193000
DTSTAMP:20260422T095744
CREATED:20260110T205201Z
LAST-MODIFIED:20260110T205232Z
UID:10004218-1858618800-1858620600@ashtangaanyways.com
SUMMARY:Pół Pierwszej Serii prowadzonej
DESCRIPTION:Zajęcia odbywają się w każdy czwartek od 19:00 do 20:15 w Ashtanga Yoga Wrocław (ul. Trzebnicka 12/1\, 50-246 Wrocław).
URL:https://ashtangaanyways.com/grafik/pol-pierwszej-serii-ashtanga-jogi/2028-11-23/
LOCATION:Ashtanga Yoga Wrocław\, Trzebnicka 12/1\, Wrocław\, Dolnośląskie\, Poland
END:VEVENT
BEGIN:VEVENT
DTSTART;TZID=Europe/Warsaw:20281130T190000
DTEND;TZID=Europe/Warsaw:20281130T193000
DTSTAMP:20260422T095744
CREATED:20260110T205201Z
LAST-MODIFIED:20260110T205232Z
UID:10004219-1859223600-1859225400@ashtangaanyways.com
SUMMARY:Pół Pierwszej Serii prowadzonej
DESCRIPTION:Zajęcia odbywają się w każdy czwartek od 19:00 do 20:15 w Ashtanga Yoga Wrocław (ul. Trzebnicka 12/1\, 50-246 Wrocław).
URL:https://ashtangaanyways.com/grafik/pol-pierwszej-serii-ashtanga-jogi/2028-11-30/
LOCATION:Ashtanga Yoga Wrocław\, Trzebnicka 12/1\, Wrocław\, Dolnośląskie\, Poland
END:VEVENT
BEGIN:VEVENT
DTSTART;TZID=Europe/Warsaw:20281207T190000
DTEND;TZID=Europe/Warsaw:20281207T193000
DTSTAMP:20260422T095744
CREATED:20260110T205201Z
LAST-MODIFIED:20260110T205232Z
UID:10004220-1859828400-1859830200@ashtangaanyways.com
SUMMARY:Pół Pierwszej Serii prowadzonej
DESCRIPTION:Zajęcia odbywają się w każdy czwartek od 19:00 do 20:15 w Ashtanga Yoga Wrocław (ul. Trzebnicka 12/1\, 50-246 Wrocław).
URL:https://ashtangaanyways.com/grafik/pol-pierwszej-serii-ashtanga-jogi/2028-12-07/
LOCATION:Ashtanga Yoga Wrocław\, Trzebnicka 12/1\, Wrocław\, Dolnośląskie\, Poland
END:VEVENT
END:VCALENDAR