BEGIN:VCALENDAR
VERSION:2.0
PRODID:-//Ashtanga Anyways - ECPv6.15.18//NONSGML v1.0//EN
CALSCALE:GREGORIAN
METHOD:PUBLISH
X-ORIGINAL-URL:https://ashtangaanyways.com
X-WR-CALDESC:Wydarzenia dla Ashtanga Anyways
REFRESH-INTERVAL;VALUE=DURATION:PT1H
X-Robots-Tag:noindex
X-PUBLISHED-TTL:PT1H
BEGIN:VTIMEZONE
TZID:Europe/Warsaw
BEGIN:DAYLIGHT
TZOFFSETFROM:+0100
TZOFFSETTO:+0200
TZNAME:CEST
DTSTART:20270328T010000
END:DAYLIGHT
BEGIN:STANDARD
TZOFFSETFROM:+0200
TZOFFSETTO:+0100
TZNAME:CET
DTSTART:20271031T010000
END:STANDARD
BEGIN:DAYLIGHT
TZOFFSETFROM:+0100
TZOFFSETTO:+0200
TZNAME:CEST
DTSTART:20280326T010000
END:DAYLIGHT
BEGIN:STANDARD
TZOFFSETFROM:+0200
TZOFFSETTO:+0100
TZNAME:CET
DTSTART:20281029T010000
END:STANDARD
BEGIN:DAYLIGHT
TZOFFSETFROM:+0100
TZOFFSETTO:+0200
TZNAME:CEST
DTSTART:20290325T010000
END:DAYLIGHT
BEGIN:STANDARD
TZOFFSETFROM:+0200
TZOFFSETTO:+0100
TZNAME:CET
DTSTART:20291028T010000
END:STANDARD
BEGIN:DAYLIGHT
TZOFFSETFROM:+0100
TZOFFSETTO:+0200
TZNAME:CEST
DTSTART:20300331T010000
END:DAYLIGHT
BEGIN:STANDARD
TZOFFSETFROM:+0200
TZOFFSETTO:+0100
TZNAME:CET
DTSTART:20301027T010000
END:STANDARD
END:VTIMEZONE
BEGIN:VEVENT
DTSTART;TZID=Europe/Warsaw:20280815T183000
DTEND;TZID=Europe/Warsaw:20280815T193000
DTSTAMP:20260422T120403
CREATED:20240813T095954Z
LAST-MODIFIED:20251215T193627Z
UID:10002900-1849977000-1849980600@ashtangaanyways.com
SUMMARY:Ashtanga joga dla początkujących
DESCRIPTION:Zajęcia odbywają się w każdy wtorek od 18:30 do 19:30 w Ashtanga Yoga Wrocław (ul. Trzebnicka 12/1\, 50-246 Wrocław). \n\n\n\n>> WIĘCEJ SZCZEGÓŁÓW <<
URL:https://ashtangaanyways.com/grafik/ashtanga-joga-dla-poczatkujacych/2028-08-15/
CATEGORIES:ashtanga joga,praktyka
END:VEVENT
BEGIN:VEVENT
DTSTART;TZID=Europe/Warsaw:20280822T183000
DTEND;TZID=Europe/Warsaw:20280822T193000
DTSTAMP:20260422T120403
CREATED:20240813T095954Z
LAST-MODIFIED:20251215T193627Z
UID:10002901-1850581800-1850585400@ashtangaanyways.com
SUMMARY:Ashtanga joga dla początkujących
DESCRIPTION:Zajęcia odbywają się w każdy wtorek od 18:30 do 19:30 w Ashtanga Yoga Wrocław (ul. Trzebnicka 12/1\, 50-246 Wrocław). \n\n\n\n>> WIĘCEJ SZCZEGÓŁÓW <<
URL:https://ashtangaanyways.com/grafik/ashtanga-joga-dla-poczatkujacych/2028-08-22/
CATEGORIES:ashtanga joga,praktyka
END:VEVENT
BEGIN:VEVENT
DTSTART;TZID=Europe/Warsaw:20280829T183000
DTEND;TZID=Europe/Warsaw:20280829T193000
DTSTAMP:20260422T120403
CREATED:20240813T095954Z
LAST-MODIFIED:20251215T193627Z
UID:10002902-1851186600-1851190200@ashtangaanyways.com
SUMMARY:Ashtanga joga dla początkujących
DESCRIPTION:Zajęcia odbywają się w każdy wtorek od 18:30 do 19:30 w Ashtanga Yoga Wrocław (ul. Trzebnicka 12/1\, 50-246 Wrocław). \n\n\n\n>> WIĘCEJ SZCZEGÓŁÓW <<
URL:https://ashtangaanyways.com/grafik/ashtanga-joga-dla-poczatkujacych/2028-08-29/
CATEGORIES:ashtanga joga,praktyka
END:VEVENT
BEGIN:VEVENT
DTSTART;TZID=Europe/Warsaw:20280905T183000
DTEND;TZID=Europe/Warsaw:20280905T193000
DTSTAMP:20260422T120403
CREATED:20240813T095954Z
LAST-MODIFIED:20251215T193627Z
UID:10002903-1851791400-1851795000@ashtangaanyways.com
SUMMARY:Ashtanga joga dla początkujących
DESCRIPTION:Zajęcia odbywają się w każdy wtorek od 18:30 do 19:30 w Ashtanga Yoga Wrocław (ul. Trzebnicka 12/1\, 50-246 Wrocław). \n\n\n\n>> WIĘCEJ SZCZEGÓŁÓW <<
URL:https://ashtangaanyways.com/grafik/ashtanga-joga-dla-poczatkujacych/2028-09-05/
CATEGORIES:ashtanga joga,praktyka
END:VEVENT
BEGIN:VEVENT
DTSTART;TZID=Europe/Warsaw:20280912T183000
DTEND;TZID=Europe/Warsaw:20280912T193000
DTSTAMP:20260422T120403
CREATED:20240813T095954Z
LAST-MODIFIED:20251215T193627Z
UID:10002904-1852396200-1852399800@ashtangaanyways.com
SUMMARY:Ashtanga joga dla początkujących
DESCRIPTION:Zajęcia odbywają się w każdy wtorek od 18:30 do 19:30 w Ashtanga Yoga Wrocław (ul. Trzebnicka 12/1\, 50-246 Wrocław). \n\n\n\n>> WIĘCEJ SZCZEGÓŁÓW <<
URL:https://ashtangaanyways.com/grafik/ashtanga-joga-dla-poczatkujacych/2028-09-12/
CATEGORIES:ashtanga joga,praktyka
END:VEVENT
BEGIN:VEVENT
DTSTART;TZID=Europe/Warsaw:20280919T183000
DTEND;TZID=Europe/Warsaw:20280919T193000
DTSTAMP:20260422T120403
CREATED:20240813T095954Z
LAST-MODIFIED:20251215T193627Z
UID:10002905-1853001000-1853004600@ashtangaanyways.com
SUMMARY:Ashtanga joga dla początkujących
DESCRIPTION:Zajęcia odbywają się w każdy wtorek od 18:30 do 19:30 w Ashtanga Yoga Wrocław (ul. Trzebnicka 12/1\, 50-246 Wrocław). \n\n\n\n>> WIĘCEJ SZCZEGÓŁÓW <<
URL:https://ashtangaanyways.com/grafik/ashtanga-joga-dla-poczatkujacych/2028-09-19/
CATEGORIES:ashtanga joga,praktyka
END:VEVENT
BEGIN:VEVENT
DTSTART;TZID=Europe/Warsaw:20280926T183000
DTEND;TZID=Europe/Warsaw:20280926T193000
DTSTAMP:20260422T120403
CREATED:20240813T095954Z
LAST-MODIFIED:20251215T193627Z
UID:10002906-1853605800-1853609400@ashtangaanyways.com
SUMMARY:Ashtanga joga dla początkujących
DESCRIPTION:Zajęcia odbywają się w każdy wtorek od 18:30 do 19:30 w Ashtanga Yoga Wrocław (ul. Trzebnicka 12/1\, 50-246 Wrocław). \n\n\n\n>> WIĘCEJ SZCZEGÓŁÓW <<
URL:https://ashtangaanyways.com/grafik/ashtanga-joga-dla-poczatkujacych/2028-09-26/
CATEGORIES:ashtanga joga,praktyka
END:VEVENT
BEGIN:VEVENT
DTSTART;TZID=Europe/Warsaw:20281003T183000
DTEND;TZID=Europe/Warsaw:20281003T193000
DTSTAMP:20260422T120403
CREATED:20240813T095954Z
LAST-MODIFIED:20251215T193627Z
UID:10002907-1854210600-1854214200@ashtangaanyways.com
SUMMARY:Ashtanga joga dla początkujących
DESCRIPTION:Zajęcia odbywają się w każdy wtorek od 18:30 do 19:30 w Ashtanga Yoga Wrocław (ul. Trzebnicka 12/1\, 50-246 Wrocław). \n\n\n\n>> WIĘCEJ SZCZEGÓŁÓW <<
URL:https://ashtangaanyways.com/grafik/ashtanga-joga-dla-poczatkujacych/2028-10-03/
CATEGORIES:ashtanga joga,praktyka
END:VEVENT
BEGIN:VEVENT
DTSTART;TZID=Europe/Warsaw:20281010T183000
DTEND;TZID=Europe/Warsaw:20281010T193000
DTSTAMP:20260422T120403
CREATED:20240813T095954Z
LAST-MODIFIED:20251215T193627Z
UID:10002908-1854815400-1854819000@ashtangaanyways.com
SUMMARY:Ashtanga joga dla początkujących
DESCRIPTION:Zajęcia odbywają się w każdy wtorek od 18:30 do 19:30 w Ashtanga Yoga Wrocław (ul. Trzebnicka 12/1\, 50-246 Wrocław). \n\n\n\n>> WIĘCEJ SZCZEGÓŁÓW <<
URL:https://ashtangaanyways.com/grafik/ashtanga-joga-dla-poczatkujacych/2028-10-10/
CATEGORIES:ashtanga joga,praktyka
END:VEVENT
BEGIN:VEVENT
DTSTART;TZID=Europe/Warsaw:20281017T183000
DTEND;TZID=Europe/Warsaw:20281017T193000
DTSTAMP:20260422T120403
CREATED:20240813T095954Z
LAST-MODIFIED:20251215T193627Z
UID:10002909-1855420200-1855423800@ashtangaanyways.com
SUMMARY:Ashtanga joga dla początkujących
DESCRIPTION:Zajęcia odbywają się w każdy wtorek od 18:30 do 19:30 w Ashtanga Yoga Wrocław (ul. Trzebnicka 12/1\, 50-246 Wrocław). \n\n\n\n>> WIĘCEJ SZCZEGÓŁÓW <<
URL:https://ashtangaanyways.com/grafik/ashtanga-joga-dla-poczatkujacych/2028-10-17/
CATEGORIES:ashtanga joga,praktyka
END:VEVENT
BEGIN:VEVENT
DTSTART;TZID=Europe/Warsaw:20281024T183000
DTEND;TZID=Europe/Warsaw:20281024T193000
DTSTAMP:20260422T120403
CREATED:20240813T095954Z
LAST-MODIFIED:20251215T193627Z
UID:10002910-1856025000-1856028600@ashtangaanyways.com
SUMMARY:Ashtanga joga dla początkujących
DESCRIPTION:Zajęcia odbywają się w każdy wtorek od 18:30 do 19:30 w Ashtanga Yoga Wrocław (ul. Trzebnicka 12/1\, 50-246 Wrocław). \n\n\n\n>> WIĘCEJ SZCZEGÓŁÓW <<
URL:https://ashtangaanyways.com/grafik/ashtanga-joga-dla-poczatkujacych/2028-10-24/
CATEGORIES:ashtanga joga,praktyka
END:VEVENT
BEGIN:VEVENT
DTSTART;TZID=Europe/Warsaw:20281031T183000
DTEND;TZID=Europe/Warsaw:20281031T193000
DTSTAMP:20260422T120403
CREATED:20240813T095954Z
LAST-MODIFIED:20251215T193627Z
UID:10002911-1856629800-1856633400@ashtangaanyways.com
SUMMARY:Ashtanga joga dla początkujących
DESCRIPTION:Zajęcia odbywają się w każdy wtorek od 18:30 do 19:30 w Ashtanga Yoga Wrocław (ul. Trzebnicka 12/1\, 50-246 Wrocław). \n\n\n\n>> WIĘCEJ SZCZEGÓŁÓW <<
URL:https://ashtangaanyways.com/grafik/ashtanga-joga-dla-poczatkujacych/2028-10-31/
CATEGORIES:ashtanga joga,praktyka
END:VEVENT
BEGIN:VEVENT
DTSTART;TZID=Europe/Warsaw:20281107T183000
DTEND;TZID=Europe/Warsaw:20281107T193000
DTSTAMP:20260422T120403
CREATED:20240813T095954Z
LAST-MODIFIED:20251215T193627Z
UID:10002912-1857234600-1857238200@ashtangaanyways.com
SUMMARY:Ashtanga joga dla początkujących
DESCRIPTION:Zajęcia odbywają się w każdy wtorek od 18:30 do 19:30 w Ashtanga Yoga Wrocław (ul. Trzebnicka 12/1\, 50-246 Wrocław). \n\n\n\n>> WIĘCEJ SZCZEGÓŁÓW <<
URL:https://ashtangaanyways.com/grafik/ashtanga-joga-dla-poczatkujacych/2028-11-07/
CATEGORIES:ashtanga joga,praktyka
END:VEVENT
BEGIN:VEVENT
DTSTART;TZID=Europe/Warsaw:20281114T183000
DTEND;TZID=Europe/Warsaw:20281114T193000
DTSTAMP:20260422T120403
CREATED:20240813T095954Z
LAST-MODIFIED:20251215T193627Z
UID:10002913-1857839400-1857843000@ashtangaanyways.com
SUMMARY:Ashtanga joga dla początkujących
DESCRIPTION:Zajęcia odbywają się w każdy wtorek od 18:30 do 19:30 w Ashtanga Yoga Wrocław (ul. Trzebnicka 12/1\, 50-246 Wrocław). \n\n\n\n>> WIĘCEJ SZCZEGÓŁÓW <<
URL:https://ashtangaanyways.com/grafik/ashtanga-joga-dla-poczatkujacych/2028-11-14/
CATEGORIES:ashtanga joga,praktyka
END:VEVENT
BEGIN:VEVENT
DTSTART;TZID=Europe/Warsaw:20281121T183000
DTEND;TZID=Europe/Warsaw:20281121T193000
DTSTAMP:20260422T120403
CREATED:20240813T095954Z
LAST-MODIFIED:20251215T193627Z
UID:10002914-1858444200-1858447800@ashtangaanyways.com
SUMMARY:Ashtanga joga dla początkujących
DESCRIPTION:Zajęcia odbywają się w każdy wtorek od 18:30 do 19:30 w Ashtanga Yoga Wrocław (ul. Trzebnicka 12/1\, 50-246 Wrocław). \n\n\n\n>> WIĘCEJ SZCZEGÓŁÓW <<
URL:https://ashtangaanyways.com/grafik/ashtanga-joga-dla-poczatkujacych/2028-11-21/
CATEGORIES:ashtanga joga,praktyka
END:VEVENT
BEGIN:VEVENT
DTSTART;TZID=Europe/Warsaw:20281128T183000
DTEND;TZID=Europe/Warsaw:20281128T193000
DTSTAMP:20260422T120403
CREATED:20240813T095954Z
LAST-MODIFIED:20251215T193627Z
UID:10002915-1859049000-1859052600@ashtangaanyways.com
SUMMARY:Ashtanga joga dla początkujących
DESCRIPTION:Zajęcia odbywają się w każdy wtorek od 18:30 do 19:30 w Ashtanga Yoga Wrocław (ul. Trzebnicka 12/1\, 50-246 Wrocław). \n\n\n\n>> WIĘCEJ SZCZEGÓŁÓW <<
URL:https://ashtangaanyways.com/grafik/ashtanga-joga-dla-poczatkujacych/2028-11-28/
CATEGORIES:ashtanga joga,praktyka
END:VEVENT
BEGIN:VEVENT
DTSTART;TZID=Europe/Warsaw:20281205T183000
DTEND;TZID=Europe/Warsaw:20281205T193000
DTSTAMP:20260422T120403
CREATED:20240813T095954Z
LAST-MODIFIED:20251215T193627Z
UID:10002916-1859653800-1859657400@ashtangaanyways.com
SUMMARY:Ashtanga joga dla początkujących
DESCRIPTION:Zajęcia odbywają się w każdy wtorek od 18:30 do 19:30 w Ashtanga Yoga Wrocław (ul. Trzebnicka 12/1\, 50-246 Wrocław). \n\n\n\n>> WIĘCEJ SZCZEGÓŁÓW <<
URL:https://ashtangaanyways.com/grafik/ashtanga-joga-dla-poczatkujacych/2028-12-05/
CATEGORIES:ashtanga joga,praktyka
END:VEVENT
BEGIN:VEVENT
DTSTART;TZID=Europe/Warsaw:20281212T183000
DTEND;TZID=Europe/Warsaw:20281212T193000
DTSTAMP:20260422T120403
CREATED:20240813T095954Z
LAST-MODIFIED:20251215T193627Z
UID:10002917-1860258600-1860262200@ashtangaanyways.com
SUMMARY:Ashtanga joga dla początkujących
DESCRIPTION:Zajęcia odbywają się w każdy wtorek od 18:30 do 19:30 w Ashtanga Yoga Wrocław (ul. Trzebnicka 12/1\, 50-246 Wrocław). \n\n\n\n>> WIĘCEJ SZCZEGÓŁÓW <<
URL:https://ashtangaanyways.com/grafik/ashtanga-joga-dla-poczatkujacych/2028-12-12/
CATEGORIES:ashtanga joga,praktyka
END:VEVENT
BEGIN:VEVENT
DTSTART;TZID=Europe/Warsaw:20281219T183000
DTEND;TZID=Europe/Warsaw:20281219T193000
DTSTAMP:20260422T120403
CREATED:20240813T095954Z
LAST-MODIFIED:20251215T193627Z
UID:10002918-1860863400-1860867000@ashtangaanyways.com
SUMMARY:Ashtanga joga dla początkujących
DESCRIPTION:Zajęcia odbywają się w każdy wtorek od 18:30 do 19:30 w Ashtanga Yoga Wrocław (ul. Trzebnicka 12/1\, 50-246 Wrocław). \n\n\n\n>> WIĘCEJ SZCZEGÓŁÓW <<
URL:https://ashtangaanyways.com/grafik/ashtanga-joga-dla-poczatkujacych/2028-12-19/
CATEGORIES:ashtanga joga,praktyka
END:VEVENT
BEGIN:VEVENT
DTSTART;TZID=Europe/Warsaw:20281226T183000
DTEND;TZID=Europe/Warsaw:20281226T193000
DTSTAMP:20260422T120403
CREATED:20240813T095954Z
LAST-MODIFIED:20251215T193627Z
UID:10002919-1861468200-1861471800@ashtangaanyways.com
SUMMARY:Ashtanga joga dla początkujących
DESCRIPTION:Zajęcia odbywają się w każdy wtorek od 18:30 do 19:30 w Ashtanga Yoga Wrocław (ul. Trzebnicka 12/1\, 50-246 Wrocław). \n\n\n\n>> WIĘCEJ SZCZEGÓŁÓW <<
URL:https://ashtangaanyways.com/grafik/ashtanga-joga-dla-poczatkujacych/2028-12-26/
CATEGORIES:ashtanga joga,praktyka
END:VEVENT
BEGIN:VEVENT
DTSTART;TZID=Europe/Warsaw:20290102T183000
DTEND;TZID=Europe/Warsaw:20290102T193000
DTSTAMP:20260422T120403
CREATED:20240813T095954Z
LAST-MODIFIED:20251215T193627Z
UID:10002920-1862073000-1862076600@ashtangaanyways.com
SUMMARY:Ashtanga joga dla początkujących
DESCRIPTION:Zajęcia odbywają się w każdy wtorek od 18:30 do 19:30 w Ashtanga Yoga Wrocław (ul. Trzebnicka 12/1\, 50-246 Wrocław). \n\n\n\n>> WIĘCEJ SZCZEGÓŁÓW <<
URL:https://ashtangaanyways.com/grafik/ashtanga-joga-dla-poczatkujacych/2029-01-02/
CATEGORIES:ashtanga joga,praktyka
END:VEVENT
BEGIN:VEVENT
DTSTART;TZID=Europe/Warsaw:20290109T183000
DTEND;TZID=Europe/Warsaw:20290109T193000
DTSTAMP:20260422T120403
CREATED:20240813T095954Z
LAST-MODIFIED:20251215T193627Z
UID:10002921-1862677800-1862681400@ashtangaanyways.com
SUMMARY:Ashtanga joga dla początkujących
DESCRIPTION:Zajęcia odbywają się w każdy wtorek od 18:30 do 19:30 w Ashtanga Yoga Wrocław (ul. Trzebnicka 12/1\, 50-246 Wrocław). \n\n\n\n>> WIĘCEJ SZCZEGÓŁÓW <<
URL:https://ashtangaanyways.com/grafik/ashtanga-joga-dla-poczatkujacych/2029-01-09/
CATEGORIES:ashtanga joga,praktyka
END:VEVENT
BEGIN:VEVENT
DTSTART;TZID=Europe/Warsaw:20290116T183000
DTEND;TZID=Europe/Warsaw:20290116T193000
DTSTAMP:20260422T120403
CREATED:20240813T095954Z
LAST-MODIFIED:20251215T193627Z
UID:10002922-1863282600-1863286200@ashtangaanyways.com
SUMMARY:Ashtanga joga dla początkujących
DESCRIPTION:Zajęcia odbywają się w każdy wtorek od 18:30 do 19:30 w Ashtanga Yoga Wrocław (ul. Trzebnicka 12/1\, 50-246 Wrocław). \n\n\n\n>> WIĘCEJ SZCZEGÓŁÓW <<
URL:https://ashtangaanyways.com/grafik/ashtanga-joga-dla-poczatkujacych/2029-01-16/
CATEGORIES:ashtanga joga,praktyka
END:VEVENT
BEGIN:VEVENT
DTSTART;TZID=Europe/Warsaw:20290123T183000
DTEND;TZID=Europe/Warsaw:20290123T193000
DTSTAMP:20260422T120403
CREATED:20240813T095954Z
LAST-MODIFIED:20251215T193627Z
UID:10002923-1863887400-1863891000@ashtangaanyways.com
SUMMARY:Ashtanga joga dla początkujących
DESCRIPTION:Zajęcia odbywają się w każdy wtorek od 18:30 do 19:30 w Ashtanga Yoga Wrocław (ul. Trzebnicka 12/1\, 50-246 Wrocław). \n\n\n\n>> WIĘCEJ SZCZEGÓŁÓW <<
URL:https://ashtangaanyways.com/grafik/ashtanga-joga-dla-poczatkujacych/2029-01-23/
CATEGORIES:ashtanga joga,praktyka
END:VEVENT
BEGIN:VEVENT
DTSTART;TZID=Europe/Warsaw:20290130T183000
DTEND;TZID=Europe/Warsaw:20290130T193000
DTSTAMP:20260422T120403
CREATED:20240813T095954Z
LAST-MODIFIED:20251215T193627Z
UID:10002924-1864492200-1864495800@ashtangaanyways.com
SUMMARY:Ashtanga joga dla początkujących
DESCRIPTION:Zajęcia odbywają się w każdy wtorek od 18:30 do 19:30 w Ashtanga Yoga Wrocław (ul. Trzebnicka 12/1\, 50-246 Wrocław). \n\n\n\n>> WIĘCEJ SZCZEGÓŁÓW <<
URL:https://ashtangaanyways.com/grafik/ashtanga-joga-dla-poczatkujacych/2029-01-30/
CATEGORIES:ashtanga joga,praktyka
END:VEVENT
BEGIN:VEVENT
DTSTART;TZID=Europe/Warsaw:20290206T183000
DTEND;TZID=Europe/Warsaw:20290206T193000
DTSTAMP:20260422T120403
CREATED:20240813T095954Z
LAST-MODIFIED:20251215T193627Z
UID:10002925-1865097000-1865100600@ashtangaanyways.com
SUMMARY:Ashtanga joga dla początkujących
DESCRIPTION:Zajęcia odbywają się w każdy wtorek od 18:30 do 19:30 w Ashtanga Yoga Wrocław (ul. Trzebnicka 12/1\, 50-246 Wrocław). \n\n\n\n>> WIĘCEJ SZCZEGÓŁÓW <<
URL:https://ashtangaanyways.com/grafik/ashtanga-joga-dla-poczatkujacych/2029-02-06/
CATEGORIES:ashtanga joga,praktyka
END:VEVENT
BEGIN:VEVENT
DTSTART;TZID=Europe/Warsaw:20290213T183000
DTEND;TZID=Europe/Warsaw:20290213T193000
DTSTAMP:20260422T120403
CREATED:20240813T095954Z
LAST-MODIFIED:20251215T193627Z
UID:10002926-1865701800-1865705400@ashtangaanyways.com
SUMMARY:Ashtanga joga dla początkujących
DESCRIPTION:Zajęcia odbywają się w każdy wtorek od 18:30 do 19:30 w Ashtanga Yoga Wrocław (ul. Trzebnicka 12/1\, 50-246 Wrocław). \n\n\n\n>> WIĘCEJ SZCZEGÓŁÓW <<
URL:https://ashtangaanyways.com/grafik/ashtanga-joga-dla-poczatkujacych/2029-02-13/
CATEGORIES:ashtanga joga,praktyka
END:VEVENT
BEGIN:VEVENT
DTSTART;TZID=Europe/Warsaw:20290220T183000
DTEND;TZID=Europe/Warsaw:20290220T193000
DTSTAMP:20260422T120403
CREATED:20240813T095954Z
LAST-MODIFIED:20251215T193627Z
UID:10002927-1866306600-1866310200@ashtangaanyways.com
SUMMARY:Ashtanga joga dla początkujących
DESCRIPTION:Zajęcia odbywają się w każdy wtorek od 18:30 do 19:30 w Ashtanga Yoga Wrocław (ul. Trzebnicka 12/1\, 50-246 Wrocław). \n\n\n\n>> WIĘCEJ SZCZEGÓŁÓW <<
URL:https://ashtangaanyways.com/grafik/ashtanga-joga-dla-poczatkujacych/2029-02-20/
CATEGORIES:ashtanga joga,praktyka
END:VEVENT
BEGIN:VEVENT
DTSTART;TZID=Europe/Warsaw:20290227T183000
DTEND;TZID=Europe/Warsaw:20290227T193000
DTSTAMP:20260422T120403
CREATED:20240813T095954Z
LAST-MODIFIED:20251215T193627Z
UID:10002928-1866911400-1866915000@ashtangaanyways.com
SUMMARY:Ashtanga joga dla początkujących
DESCRIPTION:Zajęcia odbywają się w każdy wtorek od 18:30 do 19:30 w Ashtanga Yoga Wrocław (ul. Trzebnicka 12/1\, 50-246 Wrocław). \n\n\n\n>> WIĘCEJ SZCZEGÓŁÓW <<
URL:https://ashtangaanyways.com/grafik/ashtanga-joga-dla-poczatkujacych/2029-02-27/
CATEGORIES:ashtanga joga,praktyka
END:VEVENT
BEGIN:VEVENT
DTSTART;TZID=Europe/Warsaw:20290306T183000
DTEND;TZID=Europe/Warsaw:20290306T193000
DTSTAMP:20260422T120403
CREATED:20240813T095954Z
LAST-MODIFIED:20251215T193627Z
UID:10002929-1867516200-1867519800@ashtangaanyways.com
SUMMARY:Ashtanga joga dla początkujących
DESCRIPTION:Zajęcia odbywają się w każdy wtorek od 18:30 do 19:30 w Ashtanga Yoga Wrocław (ul. Trzebnicka 12/1\, 50-246 Wrocław). \n\n\n\n>> WIĘCEJ SZCZEGÓŁÓW <<
URL:https://ashtangaanyways.com/grafik/ashtanga-joga-dla-poczatkujacych/2029-03-06/
CATEGORIES:ashtanga joga,praktyka
END:VEVENT
END:VCALENDAR