BEGIN:VCALENDAR
VERSION:2.0
PRODID:-//Ashtanga Anyways - ECPv6.15.18//NONSGML v1.0//EN
CALSCALE:GREGORIAN
METHOD:PUBLISH
X-WR-CALNAME:Ashtanga Anyways
X-ORIGINAL-URL:https://ashtangaanyways.com
X-WR-CALDESC:Wydarzenia dla Ashtanga Anyways
REFRESH-INTERVAL;VALUE=DURATION:PT1H
X-Robots-Tag:noindex
X-PUBLISHED-TTL:PT1H
BEGIN:VTIMEZONE
TZID:Europe/Warsaw
BEGIN:DAYLIGHT
TZOFFSETFROM:+0100
TZOFFSETTO:+0200
TZNAME:CEST
DTSTART:20270328T010000
END:DAYLIGHT
BEGIN:STANDARD
TZOFFSETFROM:+0200
TZOFFSETTO:+0100
TZNAME:CET
DTSTART:20271031T010000
END:STANDARD
BEGIN:DAYLIGHT
TZOFFSETFROM:+0100
TZOFFSETTO:+0200
TZNAME:CEST
DTSTART:20280326T010000
END:DAYLIGHT
BEGIN:STANDARD
TZOFFSETFROM:+0200
TZOFFSETTO:+0100
TZNAME:CET
DTSTART:20281029T010000
END:STANDARD
BEGIN:DAYLIGHT
TZOFFSETFROM:+0100
TZOFFSETTO:+0200
TZNAME:CEST
DTSTART:20290325T010000
END:DAYLIGHT
BEGIN:STANDARD
TZOFFSETFROM:+0200
TZOFFSETTO:+0100
TZNAME:CET
DTSTART:20291028T010000
END:STANDARD
BEGIN:DAYLIGHT
TZOFFSETFROM:+0100
TZOFFSETTO:+0200
TZNAME:CEST
DTSTART:20300331T010000
END:DAYLIGHT
BEGIN:STANDARD
TZOFFSETFROM:+0200
TZOFFSETTO:+0100
TZNAME:CET
DTSTART:20301027T010000
END:STANDARD
END:VTIMEZONE
BEGIN:VEVENT
DTSTART;TZID=Europe/Warsaw:20281105T180000
DTEND;TZID=Europe/Warsaw:20281105T190000
DTSTAMP:20260422T114349
CREATED:20250703T051838Z
LAST-MODIFIED:20250921T074333Z
UID:10002558-1857060000-1857063600@ashtangaanyways.com
SUMMARY:Joga regeneracyjna i techniki relaksacji
DESCRIPTION:Łagodna\, spokojna praktyka dostosowuje się do indywidualnych potrzeb i możliwości każdego uczestnika i jest idealna dla wszystkich poszukujących spowolnienia i relaksu\, niezależnie od poziomu zaawansowania\, kondycji fizycznej czy wieku. Podczas zajęć jogi regeneracyjnej będziemy poznawać wyciszające i równoważące techniki Pranayamy a także praktykować łagodną i medytacyjną Yin jogę\, kończąc praktyki asan długim relaksem z elementami jogi Nidry. \n\n\n\n>> WIĘCEJ SZCZEGÓŁÓW <<
URL:https://ashtangaanyways.com/grafik/joga-regeneracyjna-i-techniki-relaksacji-2/2028-11-05/
CATEGORIES:joga regeneracyjna,nidra joga,yin joga
END:VEVENT
BEGIN:VEVENT
DTSTART;TZID=Europe/Warsaw:20281112T180000
DTEND;TZID=Europe/Warsaw:20281112T190000
DTSTAMP:20260422T114349
CREATED:20250703T051838Z
LAST-MODIFIED:20250921T074333Z
UID:10002559-1857664800-1857668400@ashtangaanyways.com
SUMMARY:Joga regeneracyjna i techniki relaksacji
DESCRIPTION:Łagodna\, spokojna praktyka dostosowuje się do indywidualnych potrzeb i możliwości każdego uczestnika i jest idealna dla wszystkich poszukujących spowolnienia i relaksu\, niezależnie od poziomu zaawansowania\, kondycji fizycznej czy wieku. Podczas zajęć jogi regeneracyjnej będziemy poznawać wyciszające i równoważące techniki Pranayamy a także praktykować łagodną i medytacyjną Yin jogę\, kończąc praktyki asan długim relaksem z elementami jogi Nidry. \n\n\n\n>> WIĘCEJ SZCZEGÓŁÓW <<
URL:https://ashtangaanyways.com/grafik/joga-regeneracyjna-i-techniki-relaksacji-2/2028-11-12/
CATEGORIES:joga regeneracyjna,nidra joga,yin joga
END:VEVENT
BEGIN:VEVENT
DTSTART;TZID=Europe/Warsaw:20281119T180000
DTEND;TZID=Europe/Warsaw:20281119T190000
DTSTAMP:20260422T114349
CREATED:20250703T051838Z
LAST-MODIFIED:20250921T074333Z
UID:10002560-1858269600-1858273200@ashtangaanyways.com
SUMMARY:Joga regeneracyjna i techniki relaksacji
DESCRIPTION:Łagodna\, spokojna praktyka dostosowuje się do indywidualnych potrzeb i możliwości każdego uczestnika i jest idealna dla wszystkich poszukujących spowolnienia i relaksu\, niezależnie od poziomu zaawansowania\, kondycji fizycznej czy wieku. Podczas zajęć jogi regeneracyjnej będziemy poznawać wyciszające i równoważące techniki Pranayamy a także praktykować łagodną i medytacyjną Yin jogę\, kończąc praktyki asan długim relaksem z elementami jogi Nidry. \n\n\n\n>> WIĘCEJ SZCZEGÓŁÓW <<
URL:https://ashtangaanyways.com/grafik/joga-regeneracyjna-i-techniki-relaksacji-2/2028-11-19/
CATEGORIES:joga regeneracyjna,nidra joga,yin joga
END:VEVENT
BEGIN:VEVENT
DTSTART;TZID=Europe/Warsaw:20281126T180000
DTEND;TZID=Europe/Warsaw:20281126T190000
DTSTAMP:20260422T114349
CREATED:20250703T051838Z
LAST-MODIFIED:20250921T074333Z
UID:10002561-1858874400-1858878000@ashtangaanyways.com
SUMMARY:Joga regeneracyjna i techniki relaksacji
DESCRIPTION:Łagodna\, spokojna praktyka dostosowuje się do indywidualnych potrzeb i możliwości każdego uczestnika i jest idealna dla wszystkich poszukujących spowolnienia i relaksu\, niezależnie od poziomu zaawansowania\, kondycji fizycznej czy wieku. Podczas zajęć jogi regeneracyjnej będziemy poznawać wyciszające i równoważące techniki Pranayamy a także praktykować łagodną i medytacyjną Yin jogę\, kończąc praktyki asan długim relaksem z elementami jogi Nidry. \n\n\n\n>> WIĘCEJ SZCZEGÓŁÓW <<
URL:https://ashtangaanyways.com/grafik/joga-regeneracyjna-i-techniki-relaksacji-2/2028-11-26/
CATEGORIES:joga regeneracyjna,nidra joga,yin joga
END:VEVENT
BEGIN:VEVENT
DTSTART;TZID=Europe/Warsaw:20281203T180000
DTEND;TZID=Europe/Warsaw:20281203T190000
DTSTAMP:20260422T114349
CREATED:20250703T051838Z
LAST-MODIFIED:20250921T074333Z
UID:10002562-1859479200-1859482800@ashtangaanyways.com
SUMMARY:Joga regeneracyjna i techniki relaksacji
DESCRIPTION:Łagodna\, spokojna praktyka dostosowuje się do indywidualnych potrzeb i możliwości każdego uczestnika i jest idealna dla wszystkich poszukujących spowolnienia i relaksu\, niezależnie od poziomu zaawansowania\, kondycji fizycznej czy wieku. Podczas zajęć jogi regeneracyjnej będziemy poznawać wyciszające i równoważące techniki Pranayamy a także praktykować łagodną i medytacyjną Yin jogę\, kończąc praktyki asan długim relaksem z elementami jogi Nidry. \n\n\n\n>> WIĘCEJ SZCZEGÓŁÓW <<
URL:https://ashtangaanyways.com/grafik/joga-regeneracyjna-i-techniki-relaksacji-2/2028-12-03/
CATEGORIES:joga regeneracyjna,nidra joga,yin joga
END:VEVENT
BEGIN:VEVENT
DTSTART;TZID=Europe/Warsaw:20281210T180000
DTEND;TZID=Europe/Warsaw:20281210T190000
DTSTAMP:20260422T114349
CREATED:20250703T051838Z
LAST-MODIFIED:20250921T074333Z
UID:10002563-1860084000-1860087600@ashtangaanyways.com
SUMMARY:Joga regeneracyjna i techniki relaksacji
DESCRIPTION:Łagodna\, spokojna praktyka dostosowuje się do indywidualnych potrzeb i możliwości każdego uczestnika i jest idealna dla wszystkich poszukujących spowolnienia i relaksu\, niezależnie od poziomu zaawansowania\, kondycji fizycznej czy wieku. Podczas zajęć jogi regeneracyjnej będziemy poznawać wyciszające i równoważące techniki Pranayamy a także praktykować łagodną i medytacyjną Yin jogę\, kończąc praktyki asan długim relaksem z elementami jogi Nidry. \n\n\n\n>> WIĘCEJ SZCZEGÓŁÓW <<
URL:https://ashtangaanyways.com/grafik/joga-regeneracyjna-i-techniki-relaksacji-2/2028-12-10/
CATEGORIES:joga regeneracyjna,nidra joga,yin joga
END:VEVENT
BEGIN:VEVENT
DTSTART;TZID=Europe/Warsaw:20281217T180000
DTEND;TZID=Europe/Warsaw:20281217T190000
DTSTAMP:20260422T114349
CREATED:20250703T051838Z
LAST-MODIFIED:20250921T074333Z
UID:10002564-1860688800-1860692400@ashtangaanyways.com
SUMMARY:Joga regeneracyjna i techniki relaksacji
DESCRIPTION:Łagodna\, spokojna praktyka dostosowuje się do indywidualnych potrzeb i możliwości każdego uczestnika i jest idealna dla wszystkich poszukujących spowolnienia i relaksu\, niezależnie od poziomu zaawansowania\, kondycji fizycznej czy wieku. Podczas zajęć jogi regeneracyjnej będziemy poznawać wyciszające i równoważące techniki Pranayamy a także praktykować łagodną i medytacyjną Yin jogę\, kończąc praktyki asan długim relaksem z elementami jogi Nidry. \n\n\n\n>> WIĘCEJ SZCZEGÓŁÓW <<
URL:https://ashtangaanyways.com/grafik/joga-regeneracyjna-i-techniki-relaksacji-2/2028-12-17/
CATEGORIES:joga regeneracyjna,nidra joga,yin joga
END:VEVENT
BEGIN:VEVENT
DTSTART;TZID=Europe/Warsaw:20281224T180000
DTEND;TZID=Europe/Warsaw:20281224T190000
DTSTAMP:20260422T114349
CREATED:20250703T051838Z
LAST-MODIFIED:20250921T074333Z
UID:10002565-1861293600-1861297200@ashtangaanyways.com
SUMMARY:Joga regeneracyjna i techniki relaksacji
DESCRIPTION:Łagodna\, spokojna praktyka dostosowuje się do indywidualnych potrzeb i możliwości każdego uczestnika i jest idealna dla wszystkich poszukujących spowolnienia i relaksu\, niezależnie od poziomu zaawansowania\, kondycji fizycznej czy wieku. Podczas zajęć jogi regeneracyjnej będziemy poznawać wyciszające i równoważące techniki Pranayamy a także praktykować łagodną i medytacyjną Yin jogę\, kończąc praktyki asan długim relaksem z elementami jogi Nidry. \n\n\n\n>> WIĘCEJ SZCZEGÓŁÓW <<
URL:https://ashtangaanyways.com/grafik/joga-regeneracyjna-i-techniki-relaksacji-2/2028-12-24/
CATEGORIES:joga regeneracyjna,nidra joga,yin joga
END:VEVENT
BEGIN:VEVENT
DTSTART;TZID=Europe/Warsaw:20281231T180000
DTEND;TZID=Europe/Warsaw:20281231T190000
DTSTAMP:20260422T114349
CREATED:20250703T051838Z
LAST-MODIFIED:20250921T074333Z
UID:10002566-1861898400-1861902000@ashtangaanyways.com
SUMMARY:Joga regeneracyjna i techniki relaksacji
DESCRIPTION:Łagodna\, spokojna praktyka dostosowuje się do indywidualnych potrzeb i możliwości każdego uczestnika i jest idealna dla wszystkich poszukujących spowolnienia i relaksu\, niezależnie od poziomu zaawansowania\, kondycji fizycznej czy wieku. Podczas zajęć jogi regeneracyjnej będziemy poznawać wyciszające i równoważące techniki Pranayamy a także praktykować łagodną i medytacyjną Yin jogę\, kończąc praktyki asan długim relaksem z elementami jogi Nidry. \n\n\n\n>> WIĘCEJ SZCZEGÓŁÓW <<
URL:https://ashtangaanyways.com/grafik/joga-regeneracyjna-i-techniki-relaksacji-2/2028-12-31/
CATEGORIES:joga regeneracyjna,nidra joga,yin joga
END:VEVENT
BEGIN:VEVENT
DTSTART;TZID=Europe/Warsaw:20290107T180000
DTEND;TZID=Europe/Warsaw:20290107T190000
DTSTAMP:20260422T114349
CREATED:20250703T051838Z
LAST-MODIFIED:20250921T074333Z
UID:10002567-1862503200-1862506800@ashtangaanyways.com
SUMMARY:Joga regeneracyjna i techniki relaksacji
DESCRIPTION:Łagodna\, spokojna praktyka dostosowuje się do indywidualnych potrzeb i możliwości każdego uczestnika i jest idealna dla wszystkich poszukujących spowolnienia i relaksu\, niezależnie od poziomu zaawansowania\, kondycji fizycznej czy wieku. Podczas zajęć jogi regeneracyjnej będziemy poznawać wyciszające i równoważące techniki Pranayamy a także praktykować łagodną i medytacyjną Yin jogę\, kończąc praktyki asan długim relaksem z elementami jogi Nidry. \n\n\n\n>> WIĘCEJ SZCZEGÓŁÓW <<
URL:https://ashtangaanyways.com/grafik/joga-regeneracyjna-i-techniki-relaksacji-2/2029-01-07/
CATEGORIES:joga regeneracyjna,nidra joga,yin joga
END:VEVENT
BEGIN:VEVENT
DTSTART;TZID=Europe/Warsaw:20290114T180000
DTEND;TZID=Europe/Warsaw:20290114T190000
DTSTAMP:20260422T114349
CREATED:20250703T051838Z
LAST-MODIFIED:20250921T074333Z
UID:10002568-1863108000-1863111600@ashtangaanyways.com
SUMMARY:Joga regeneracyjna i techniki relaksacji
DESCRIPTION:Łagodna\, spokojna praktyka dostosowuje się do indywidualnych potrzeb i możliwości każdego uczestnika i jest idealna dla wszystkich poszukujących spowolnienia i relaksu\, niezależnie od poziomu zaawansowania\, kondycji fizycznej czy wieku. Podczas zajęć jogi regeneracyjnej będziemy poznawać wyciszające i równoważące techniki Pranayamy a także praktykować łagodną i medytacyjną Yin jogę\, kończąc praktyki asan długim relaksem z elementami jogi Nidry. \n\n\n\n>> WIĘCEJ SZCZEGÓŁÓW <<
URL:https://ashtangaanyways.com/grafik/joga-regeneracyjna-i-techniki-relaksacji-2/2029-01-14/
CATEGORIES:joga regeneracyjna,nidra joga,yin joga
END:VEVENT
BEGIN:VEVENT
DTSTART;TZID=Europe/Warsaw:20290121T180000
DTEND;TZID=Europe/Warsaw:20290121T190000
DTSTAMP:20260422T114349
CREATED:20250703T051838Z
LAST-MODIFIED:20250921T074333Z
UID:10002569-1863712800-1863716400@ashtangaanyways.com
SUMMARY:Joga regeneracyjna i techniki relaksacji
DESCRIPTION:Łagodna\, spokojna praktyka dostosowuje się do indywidualnych potrzeb i możliwości każdego uczestnika i jest idealna dla wszystkich poszukujących spowolnienia i relaksu\, niezależnie od poziomu zaawansowania\, kondycji fizycznej czy wieku. Podczas zajęć jogi regeneracyjnej będziemy poznawać wyciszające i równoważące techniki Pranayamy a także praktykować łagodną i medytacyjną Yin jogę\, kończąc praktyki asan długim relaksem z elementami jogi Nidry. \n\n\n\n>> WIĘCEJ SZCZEGÓŁÓW <<
URL:https://ashtangaanyways.com/grafik/joga-regeneracyjna-i-techniki-relaksacji-2/2029-01-21/
CATEGORIES:joga regeneracyjna,nidra joga,yin joga
END:VEVENT
BEGIN:VEVENT
DTSTART;TZID=Europe/Warsaw:20290128T180000
DTEND;TZID=Europe/Warsaw:20290128T190000
DTSTAMP:20260422T114349
CREATED:20250703T051838Z
LAST-MODIFIED:20250921T074333Z
UID:10002570-1864317600-1864321200@ashtangaanyways.com
SUMMARY:Joga regeneracyjna i techniki relaksacji
DESCRIPTION:Łagodna\, spokojna praktyka dostosowuje się do indywidualnych potrzeb i możliwości każdego uczestnika i jest idealna dla wszystkich poszukujących spowolnienia i relaksu\, niezależnie od poziomu zaawansowania\, kondycji fizycznej czy wieku. Podczas zajęć jogi regeneracyjnej będziemy poznawać wyciszające i równoważące techniki Pranayamy a także praktykować łagodną i medytacyjną Yin jogę\, kończąc praktyki asan długim relaksem z elementami jogi Nidry. \n\n\n\n>> WIĘCEJ SZCZEGÓŁÓW <<
URL:https://ashtangaanyways.com/grafik/joga-regeneracyjna-i-techniki-relaksacji-2/2029-01-28/
CATEGORIES:joga regeneracyjna,nidra joga,yin joga
END:VEVENT
BEGIN:VEVENT
DTSTART;TZID=Europe/Warsaw:20290204T180000
DTEND;TZID=Europe/Warsaw:20290204T190000
DTSTAMP:20260422T114349
CREATED:20250703T051838Z
LAST-MODIFIED:20250921T074333Z
UID:10002571-1864922400-1864926000@ashtangaanyways.com
SUMMARY:Joga regeneracyjna i techniki relaksacji
DESCRIPTION:Łagodna\, spokojna praktyka dostosowuje się do indywidualnych potrzeb i możliwości każdego uczestnika i jest idealna dla wszystkich poszukujących spowolnienia i relaksu\, niezależnie od poziomu zaawansowania\, kondycji fizycznej czy wieku. Podczas zajęć jogi regeneracyjnej będziemy poznawać wyciszające i równoważące techniki Pranayamy a także praktykować łagodną i medytacyjną Yin jogę\, kończąc praktyki asan długim relaksem z elementami jogi Nidry. \n\n\n\n>> WIĘCEJ SZCZEGÓŁÓW <<
URL:https://ashtangaanyways.com/grafik/joga-regeneracyjna-i-techniki-relaksacji-2/2029-02-04/
CATEGORIES:joga regeneracyjna,nidra joga,yin joga
END:VEVENT
BEGIN:VEVENT
DTSTART;TZID=Europe/Warsaw:20290211T180000
DTEND;TZID=Europe/Warsaw:20290211T190000
DTSTAMP:20260422T114349
CREATED:20250703T051838Z
LAST-MODIFIED:20250921T074333Z
UID:10002572-1865527200-1865530800@ashtangaanyways.com
SUMMARY:Joga regeneracyjna i techniki relaksacji
DESCRIPTION:Łagodna\, spokojna praktyka dostosowuje się do indywidualnych potrzeb i możliwości każdego uczestnika i jest idealna dla wszystkich poszukujących spowolnienia i relaksu\, niezależnie od poziomu zaawansowania\, kondycji fizycznej czy wieku. Podczas zajęć jogi regeneracyjnej będziemy poznawać wyciszające i równoważące techniki Pranayamy a także praktykować łagodną i medytacyjną Yin jogę\, kończąc praktyki asan długim relaksem z elementami jogi Nidry. \n\n\n\n>> WIĘCEJ SZCZEGÓŁÓW <<
URL:https://ashtangaanyways.com/grafik/joga-regeneracyjna-i-techniki-relaksacji-2/2029-02-11/
CATEGORIES:joga regeneracyjna,nidra joga,yin joga
END:VEVENT
BEGIN:VEVENT
DTSTART;TZID=Europe/Warsaw:20290218T180000
DTEND;TZID=Europe/Warsaw:20290218T190000
DTSTAMP:20260422T114349
CREATED:20250703T051838Z
LAST-MODIFIED:20250921T074333Z
UID:10002573-1866132000-1866135600@ashtangaanyways.com
SUMMARY:Joga regeneracyjna i techniki relaksacji
DESCRIPTION:Łagodna\, spokojna praktyka dostosowuje się do indywidualnych potrzeb i możliwości każdego uczestnika i jest idealna dla wszystkich poszukujących spowolnienia i relaksu\, niezależnie od poziomu zaawansowania\, kondycji fizycznej czy wieku. Podczas zajęć jogi regeneracyjnej będziemy poznawać wyciszające i równoważące techniki Pranayamy a także praktykować łagodną i medytacyjną Yin jogę\, kończąc praktyki asan długim relaksem z elementami jogi Nidry. \n\n\n\n>> WIĘCEJ SZCZEGÓŁÓW <<
URL:https://ashtangaanyways.com/grafik/joga-regeneracyjna-i-techniki-relaksacji-2/2029-02-18/
CATEGORIES:joga regeneracyjna,nidra joga,yin joga
END:VEVENT
BEGIN:VEVENT
DTSTART;TZID=Europe/Warsaw:20290225T180000
DTEND;TZID=Europe/Warsaw:20290225T190000
DTSTAMP:20260422T114349
CREATED:20250703T051838Z
LAST-MODIFIED:20250921T074333Z
UID:10002574-1866736800-1866740400@ashtangaanyways.com
SUMMARY:Joga regeneracyjna i techniki relaksacji
DESCRIPTION:Łagodna\, spokojna praktyka dostosowuje się do indywidualnych potrzeb i możliwości każdego uczestnika i jest idealna dla wszystkich poszukujących spowolnienia i relaksu\, niezależnie od poziomu zaawansowania\, kondycji fizycznej czy wieku. Podczas zajęć jogi regeneracyjnej będziemy poznawać wyciszające i równoważące techniki Pranayamy a także praktykować łagodną i medytacyjną Yin jogę\, kończąc praktyki asan długim relaksem z elementami jogi Nidry. \n\n\n\n>> WIĘCEJ SZCZEGÓŁÓW <<
URL:https://ashtangaanyways.com/grafik/joga-regeneracyjna-i-techniki-relaksacji-2/2029-02-25/
CATEGORIES:joga regeneracyjna,nidra joga,yin joga
END:VEVENT
BEGIN:VEVENT
DTSTART;TZID=Europe/Warsaw:20290304T180000
DTEND;TZID=Europe/Warsaw:20290304T190000
DTSTAMP:20260422T114349
CREATED:20250703T051838Z
LAST-MODIFIED:20250921T074333Z
UID:10002575-1867341600-1867345200@ashtangaanyways.com
SUMMARY:Joga regeneracyjna i techniki relaksacji
DESCRIPTION:Łagodna\, spokojna praktyka dostosowuje się do indywidualnych potrzeb i możliwości każdego uczestnika i jest idealna dla wszystkich poszukujących spowolnienia i relaksu\, niezależnie od poziomu zaawansowania\, kondycji fizycznej czy wieku. Podczas zajęć jogi regeneracyjnej będziemy poznawać wyciszające i równoważące techniki Pranayamy a także praktykować łagodną i medytacyjną Yin jogę\, kończąc praktyki asan długim relaksem z elementami jogi Nidry. \n\n\n\n>> WIĘCEJ SZCZEGÓŁÓW <<
URL:https://ashtangaanyways.com/grafik/joga-regeneracyjna-i-techniki-relaksacji-2/2029-03-04/
CATEGORIES:joga regeneracyjna,nidra joga,yin joga
END:VEVENT
BEGIN:VEVENT
DTSTART;TZID=Europe/Warsaw:20290311T180000
DTEND;TZID=Europe/Warsaw:20290311T190000
DTSTAMP:20260422T114349
CREATED:20250703T051838Z
LAST-MODIFIED:20250921T074333Z
UID:10002576-1867946400-1867950000@ashtangaanyways.com
SUMMARY:Joga regeneracyjna i techniki relaksacji
DESCRIPTION:Łagodna\, spokojna praktyka dostosowuje się do indywidualnych potrzeb i możliwości każdego uczestnika i jest idealna dla wszystkich poszukujących spowolnienia i relaksu\, niezależnie od poziomu zaawansowania\, kondycji fizycznej czy wieku. Podczas zajęć jogi regeneracyjnej będziemy poznawać wyciszające i równoważące techniki Pranayamy a także praktykować łagodną i medytacyjną Yin jogę\, kończąc praktyki asan długim relaksem z elementami jogi Nidry. \n\n\n\n>> WIĘCEJ SZCZEGÓŁÓW <<
URL:https://ashtangaanyways.com/grafik/joga-regeneracyjna-i-techniki-relaksacji-2/2029-03-11/
CATEGORIES:joga regeneracyjna,nidra joga,yin joga
END:VEVENT
BEGIN:VEVENT
DTSTART;TZID=Europe/Warsaw:20290318T180000
DTEND;TZID=Europe/Warsaw:20290318T190000
DTSTAMP:20260422T114349
CREATED:20250703T051838Z
LAST-MODIFIED:20250921T074333Z
UID:10002577-1868551200-1868554800@ashtangaanyways.com
SUMMARY:Joga regeneracyjna i techniki relaksacji
DESCRIPTION:Łagodna\, spokojna praktyka dostosowuje się do indywidualnych potrzeb i możliwości każdego uczestnika i jest idealna dla wszystkich poszukujących spowolnienia i relaksu\, niezależnie od poziomu zaawansowania\, kondycji fizycznej czy wieku. Podczas zajęć jogi regeneracyjnej będziemy poznawać wyciszające i równoważące techniki Pranayamy a także praktykować łagodną i medytacyjną Yin jogę\, kończąc praktyki asan długim relaksem z elementami jogi Nidry. \n\n\n\n>> WIĘCEJ SZCZEGÓŁÓW <<
URL:https://ashtangaanyways.com/grafik/joga-regeneracyjna-i-techniki-relaksacji-2/2029-03-18/
CATEGORIES:joga regeneracyjna,nidra joga,yin joga
END:VEVENT
BEGIN:VEVENT
DTSTART;TZID=Europe/Warsaw:20290325T180000
DTEND;TZID=Europe/Warsaw:20290325T190000
DTSTAMP:20260422T114349
CREATED:20250703T051838Z
LAST-MODIFIED:20250921T074333Z
UID:10002578-1869156000-1869159600@ashtangaanyways.com
SUMMARY:Joga regeneracyjna i techniki relaksacji
DESCRIPTION:Łagodna\, spokojna praktyka dostosowuje się do indywidualnych potrzeb i możliwości każdego uczestnika i jest idealna dla wszystkich poszukujących spowolnienia i relaksu\, niezależnie od poziomu zaawansowania\, kondycji fizycznej czy wieku. Podczas zajęć jogi regeneracyjnej będziemy poznawać wyciszające i równoważące techniki Pranayamy a także praktykować łagodną i medytacyjną Yin jogę\, kończąc praktyki asan długim relaksem z elementami jogi Nidry. \n\n\n\n>> WIĘCEJ SZCZEGÓŁÓW <<
URL:https://ashtangaanyways.com/grafik/joga-regeneracyjna-i-techniki-relaksacji-2/2029-03-25/
CATEGORIES:joga regeneracyjna,nidra joga,yin joga
END:VEVENT
BEGIN:VEVENT
DTSTART;TZID=Europe/Warsaw:20290401T180000
DTEND;TZID=Europe/Warsaw:20290401T190000
DTSTAMP:20260422T114349
CREATED:20250703T051838Z
LAST-MODIFIED:20250921T074333Z
UID:10002579-1869760800-1869764400@ashtangaanyways.com
SUMMARY:Joga regeneracyjna i techniki relaksacji
DESCRIPTION:Łagodna\, spokojna praktyka dostosowuje się do indywidualnych potrzeb i możliwości każdego uczestnika i jest idealna dla wszystkich poszukujących spowolnienia i relaksu\, niezależnie od poziomu zaawansowania\, kondycji fizycznej czy wieku. Podczas zajęć jogi regeneracyjnej będziemy poznawać wyciszające i równoważące techniki Pranayamy a także praktykować łagodną i medytacyjną Yin jogę\, kończąc praktyki asan długim relaksem z elementami jogi Nidry. \n\n\n\n>> WIĘCEJ SZCZEGÓŁÓW <<
URL:https://ashtangaanyways.com/grafik/joga-regeneracyjna-i-techniki-relaksacji-2/2029-04-01/
CATEGORIES:joga regeneracyjna,nidra joga,yin joga
END:VEVENT
BEGIN:VEVENT
DTSTART;TZID=Europe/Warsaw:20290408T180000
DTEND;TZID=Europe/Warsaw:20290408T190000
DTSTAMP:20260422T114349
CREATED:20250703T051838Z
LAST-MODIFIED:20250921T074333Z
UID:10002580-1870365600-1870369200@ashtangaanyways.com
SUMMARY:Joga regeneracyjna i techniki relaksacji
DESCRIPTION:Łagodna\, spokojna praktyka dostosowuje się do indywidualnych potrzeb i możliwości każdego uczestnika i jest idealna dla wszystkich poszukujących spowolnienia i relaksu\, niezależnie od poziomu zaawansowania\, kondycji fizycznej czy wieku. Podczas zajęć jogi regeneracyjnej będziemy poznawać wyciszające i równoważące techniki Pranayamy a także praktykować łagodną i medytacyjną Yin jogę\, kończąc praktyki asan długim relaksem z elementami jogi Nidry. \n\n\n\n>> WIĘCEJ SZCZEGÓŁÓW <<
URL:https://ashtangaanyways.com/grafik/joga-regeneracyjna-i-techniki-relaksacji-2/2029-04-08/
CATEGORIES:joga regeneracyjna,nidra joga,yin joga
END:VEVENT
BEGIN:VEVENT
DTSTART;TZID=Europe/Warsaw:20290415T180000
DTEND;TZID=Europe/Warsaw:20290415T190000
DTSTAMP:20260422T114349
CREATED:20250703T051838Z
LAST-MODIFIED:20250921T074333Z
UID:10002581-1870970400-1870974000@ashtangaanyways.com
SUMMARY:Joga regeneracyjna i techniki relaksacji
DESCRIPTION:Łagodna\, spokojna praktyka dostosowuje się do indywidualnych potrzeb i możliwości każdego uczestnika i jest idealna dla wszystkich poszukujących spowolnienia i relaksu\, niezależnie od poziomu zaawansowania\, kondycji fizycznej czy wieku. Podczas zajęć jogi regeneracyjnej będziemy poznawać wyciszające i równoważące techniki Pranayamy a także praktykować łagodną i medytacyjną Yin jogę\, kończąc praktyki asan długim relaksem z elementami jogi Nidry. \n\n\n\n>> WIĘCEJ SZCZEGÓŁÓW <<
URL:https://ashtangaanyways.com/grafik/joga-regeneracyjna-i-techniki-relaksacji-2/2029-04-15/
CATEGORIES:joga regeneracyjna,nidra joga,yin joga
END:VEVENT
BEGIN:VEVENT
DTSTART;TZID=Europe/Warsaw:20290422T180000
DTEND;TZID=Europe/Warsaw:20290422T190000
DTSTAMP:20260422T114349
CREATED:20250703T051838Z
LAST-MODIFIED:20250921T074333Z
UID:10002582-1871575200-1871578800@ashtangaanyways.com
SUMMARY:Joga regeneracyjna i techniki relaksacji
DESCRIPTION:Łagodna\, spokojna praktyka dostosowuje się do indywidualnych potrzeb i możliwości każdego uczestnika i jest idealna dla wszystkich poszukujących spowolnienia i relaksu\, niezależnie od poziomu zaawansowania\, kondycji fizycznej czy wieku. Podczas zajęć jogi regeneracyjnej będziemy poznawać wyciszające i równoważące techniki Pranayamy a także praktykować łagodną i medytacyjną Yin jogę\, kończąc praktyki asan długim relaksem z elementami jogi Nidry. \n\n\n\n>> WIĘCEJ SZCZEGÓŁÓW <<
URL:https://ashtangaanyways.com/grafik/joga-regeneracyjna-i-techniki-relaksacji-2/2029-04-22/
CATEGORIES:joga regeneracyjna,nidra joga,yin joga
END:VEVENT
BEGIN:VEVENT
DTSTART;TZID=Europe/Warsaw:20290429T180000
DTEND;TZID=Europe/Warsaw:20290429T190000
DTSTAMP:20260422T114349
CREATED:20250703T051838Z
LAST-MODIFIED:20250921T074333Z
UID:10002583-1872180000-1872183600@ashtangaanyways.com
SUMMARY:Joga regeneracyjna i techniki relaksacji
DESCRIPTION:Łagodna\, spokojna praktyka dostosowuje się do indywidualnych potrzeb i możliwości każdego uczestnika i jest idealna dla wszystkich poszukujących spowolnienia i relaksu\, niezależnie od poziomu zaawansowania\, kondycji fizycznej czy wieku. Podczas zajęć jogi regeneracyjnej będziemy poznawać wyciszające i równoważące techniki Pranayamy a także praktykować łagodną i medytacyjną Yin jogę\, kończąc praktyki asan długim relaksem z elementami jogi Nidry. \n\n\n\n>> WIĘCEJ SZCZEGÓŁÓW <<
URL:https://ashtangaanyways.com/grafik/joga-regeneracyjna-i-techniki-relaksacji-2/2029-04-29/
CATEGORIES:joga regeneracyjna,nidra joga,yin joga
END:VEVENT
BEGIN:VEVENT
DTSTART;TZID=Europe/Warsaw:20290506T180000
DTEND;TZID=Europe/Warsaw:20290506T190000
DTSTAMP:20260422T114349
CREATED:20250703T051838Z
LAST-MODIFIED:20250921T074333Z
UID:10002584-1872784800-1872788400@ashtangaanyways.com
SUMMARY:Joga regeneracyjna i techniki relaksacji
DESCRIPTION:Łagodna\, spokojna praktyka dostosowuje się do indywidualnych potrzeb i możliwości każdego uczestnika i jest idealna dla wszystkich poszukujących spowolnienia i relaksu\, niezależnie od poziomu zaawansowania\, kondycji fizycznej czy wieku. Podczas zajęć jogi regeneracyjnej będziemy poznawać wyciszające i równoważące techniki Pranayamy a także praktykować łagodną i medytacyjną Yin jogę\, kończąc praktyki asan długim relaksem z elementami jogi Nidry. \n\n\n\n>> WIĘCEJ SZCZEGÓŁÓW <<
URL:https://ashtangaanyways.com/grafik/joga-regeneracyjna-i-techniki-relaksacji-2/2029-05-06/
CATEGORIES:joga regeneracyjna,nidra joga,yin joga
END:VEVENT
BEGIN:VEVENT
DTSTART;TZID=Europe/Warsaw:20290513T180000
DTEND;TZID=Europe/Warsaw:20290513T190000
DTSTAMP:20260422T114349
CREATED:20250703T051838Z
LAST-MODIFIED:20250921T074333Z
UID:10002585-1873389600-1873393200@ashtangaanyways.com
SUMMARY:Joga regeneracyjna i techniki relaksacji
DESCRIPTION:Łagodna\, spokojna praktyka dostosowuje się do indywidualnych potrzeb i możliwości każdego uczestnika i jest idealna dla wszystkich poszukujących spowolnienia i relaksu\, niezależnie od poziomu zaawansowania\, kondycji fizycznej czy wieku. Podczas zajęć jogi regeneracyjnej będziemy poznawać wyciszające i równoważące techniki Pranayamy a także praktykować łagodną i medytacyjną Yin jogę\, kończąc praktyki asan długim relaksem z elementami jogi Nidry. \n\n\n\n>> WIĘCEJ SZCZEGÓŁÓW <<
URL:https://ashtangaanyways.com/grafik/joga-regeneracyjna-i-techniki-relaksacji-2/2029-05-13/
CATEGORIES:joga regeneracyjna,nidra joga,yin joga
END:VEVENT
BEGIN:VEVENT
DTSTART;TZID=Europe/Warsaw:20290520T180000
DTEND;TZID=Europe/Warsaw:20290520T190000
DTSTAMP:20260422T114349
CREATED:20250703T051838Z
LAST-MODIFIED:20250921T074333Z
UID:10002586-1873994400-1873998000@ashtangaanyways.com
SUMMARY:Joga regeneracyjna i techniki relaksacji
DESCRIPTION:Łagodna\, spokojna praktyka dostosowuje się do indywidualnych potrzeb i możliwości każdego uczestnika i jest idealna dla wszystkich poszukujących spowolnienia i relaksu\, niezależnie od poziomu zaawansowania\, kondycji fizycznej czy wieku. Podczas zajęć jogi regeneracyjnej będziemy poznawać wyciszające i równoważące techniki Pranayamy a także praktykować łagodną i medytacyjną Yin jogę\, kończąc praktyki asan długim relaksem z elementami jogi Nidry. \n\n\n\n>> WIĘCEJ SZCZEGÓŁÓW <<
URL:https://ashtangaanyways.com/grafik/joga-regeneracyjna-i-techniki-relaksacji-2/2029-05-20/
CATEGORIES:joga regeneracyjna,nidra joga,yin joga
END:VEVENT
BEGIN:VEVENT
DTSTART;TZID=Europe/Warsaw:20290527T180000
DTEND;TZID=Europe/Warsaw:20290527T190000
DTSTAMP:20260422T114349
CREATED:20250703T051838Z
LAST-MODIFIED:20250921T074333Z
UID:10002587-1874599200-1874602800@ashtangaanyways.com
SUMMARY:Joga regeneracyjna i techniki relaksacji
DESCRIPTION:Łagodna\, spokojna praktyka dostosowuje się do indywidualnych potrzeb i możliwości każdego uczestnika i jest idealna dla wszystkich poszukujących spowolnienia i relaksu\, niezależnie od poziomu zaawansowania\, kondycji fizycznej czy wieku. Podczas zajęć jogi regeneracyjnej będziemy poznawać wyciszające i równoważące techniki Pranayamy a także praktykować łagodną i medytacyjną Yin jogę\, kończąc praktyki asan długim relaksem z elementami jogi Nidry. \n\n\n\n>> WIĘCEJ SZCZEGÓŁÓW <<
URL:https://ashtangaanyways.com/grafik/joga-regeneracyjna-i-techniki-relaksacji-2/2029-05-27/
CATEGORIES:joga regeneracyjna,nidra joga,yin joga
END:VEVENT
END:VCALENDAR