BEGIN:VCALENDAR
VERSION:2.0
PRODID:-//Ashtanga Anyways - ECPv6.15.18//NONSGML v1.0//EN
CALSCALE:GREGORIAN
METHOD:PUBLISH
X-WR-CALNAME:Ashtanga Anyways
X-ORIGINAL-URL:https://ashtangaanyways.com
X-WR-CALDESC:Wydarzenia dla Ashtanga Anyways
REFRESH-INTERVAL;VALUE=DURATION:PT1H
X-Robots-Tag:noindex
X-PUBLISHED-TTL:PT1H
BEGIN:VTIMEZONE
TZID:Europe/Warsaw
BEGIN:DAYLIGHT
TZOFFSETFROM:+0100
TZOFFSETTO:+0200
TZNAME:CEST
DTSTART:20270328T010000
END:DAYLIGHT
BEGIN:STANDARD
TZOFFSETFROM:+0200
TZOFFSETTO:+0100
TZNAME:CET
DTSTART:20271031T010000
END:STANDARD
BEGIN:DAYLIGHT
TZOFFSETFROM:+0100
TZOFFSETTO:+0200
TZNAME:CEST
DTSTART:20280326T010000
END:DAYLIGHT
BEGIN:STANDARD
TZOFFSETFROM:+0200
TZOFFSETTO:+0100
TZNAME:CET
DTSTART:20281029T010000
END:STANDARD
BEGIN:DAYLIGHT
TZOFFSETFROM:+0100
TZOFFSETTO:+0200
TZNAME:CEST
DTSTART:20290325T010000
END:DAYLIGHT
BEGIN:STANDARD
TZOFFSETFROM:+0200
TZOFFSETTO:+0100
TZNAME:CET
DTSTART:20291028T010000
END:STANDARD
BEGIN:DAYLIGHT
TZOFFSETFROM:+0100
TZOFFSETTO:+0200
TZNAME:CEST
DTSTART:20300331T010000
END:DAYLIGHT
BEGIN:STANDARD
TZOFFSETFROM:+0200
TZOFFSETTO:+0100
TZNAME:CET
DTSTART:20301027T010000
END:STANDARD
END:VTIMEZONE
BEGIN:VEVENT
DTSTART;TZID=Europe/Warsaw:20281101T173000
DTEND;TZID=Europe/Warsaw:20281101T190000
DTSTAMP:20260422T120531
CREATED:20260110T204055Z
LAST-MODIFIED:20260110T204056Z
UID:10003692-1856712600-1856718000@ashtangaanyways.com
SUMMARY:Pierwsza seria prowadzona
DESCRIPTION:Zajęcia odbywają się w każdą środę od 17:30 do 19:00 w Ashtanga Yoga Wrocław (ul. Trzebnicka 12/1\, 50-246 Wrocław).
URL:https://ashtangaanyways.com/grafik/pierwsza-seria-prowadzona-5/2028-11-01/
END:VEVENT
BEGIN:VEVENT
DTSTART;TZID=Europe/Warsaw:20281108T173000
DTEND;TZID=Europe/Warsaw:20281108T190000
DTSTAMP:20260422T120531
CREATED:20260110T204055Z
LAST-MODIFIED:20260110T204056Z
UID:10003693-1857317400-1857322800@ashtangaanyways.com
SUMMARY:Pierwsza seria prowadzona
DESCRIPTION:Zajęcia odbywają się w każdą środę od 17:30 do 19:00 w Ashtanga Yoga Wrocław (ul. Trzebnicka 12/1\, 50-246 Wrocław).
URL:https://ashtangaanyways.com/grafik/pierwsza-seria-prowadzona-5/2028-11-08/
END:VEVENT
BEGIN:VEVENT
DTSTART;TZID=Europe/Warsaw:20281115T173000
DTEND;TZID=Europe/Warsaw:20281115T190000
DTSTAMP:20260422T120531
CREATED:20260110T204055Z
LAST-MODIFIED:20260110T204056Z
UID:10003694-1857922200-1857927600@ashtangaanyways.com
SUMMARY:Pierwsza seria prowadzona
DESCRIPTION:Zajęcia odbywają się w każdą środę od 17:30 do 19:00 w Ashtanga Yoga Wrocław (ul. Trzebnicka 12/1\, 50-246 Wrocław).
URL:https://ashtangaanyways.com/grafik/pierwsza-seria-prowadzona-5/2028-11-15/
END:VEVENT
BEGIN:VEVENT
DTSTART;TZID=Europe/Warsaw:20281122T173000
DTEND;TZID=Europe/Warsaw:20281122T190000
DTSTAMP:20260422T120531
CREATED:20260110T204055Z
LAST-MODIFIED:20260110T204056Z
UID:10003695-1858527000-1858532400@ashtangaanyways.com
SUMMARY:Pierwsza seria prowadzona
DESCRIPTION:Zajęcia odbywają się w każdą środę od 17:30 do 19:00 w Ashtanga Yoga Wrocław (ul. Trzebnicka 12/1\, 50-246 Wrocław).
URL:https://ashtangaanyways.com/grafik/pierwsza-seria-prowadzona-5/2028-11-22/
END:VEVENT
BEGIN:VEVENT
DTSTART;TZID=Europe/Warsaw:20281129T173000
DTEND;TZID=Europe/Warsaw:20281129T190000
DTSTAMP:20260422T120531
CREATED:20260110T204055Z
LAST-MODIFIED:20260110T204056Z
UID:10003696-1859131800-1859137200@ashtangaanyways.com
SUMMARY:Pierwsza seria prowadzona
DESCRIPTION:Zajęcia odbywają się w każdą środę od 17:30 do 19:00 w Ashtanga Yoga Wrocław (ul. Trzebnicka 12/1\, 50-246 Wrocław).
URL:https://ashtangaanyways.com/grafik/pierwsza-seria-prowadzona-5/2028-11-29/
END:VEVENT
BEGIN:VEVENT
DTSTART;TZID=Europe/Warsaw:20281206T173000
DTEND;TZID=Europe/Warsaw:20281206T190000
DTSTAMP:20260422T120531
CREATED:20260110T204055Z
LAST-MODIFIED:20260110T204056Z
UID:10003697-1859736600-1859742000@ashtangaanyways.com
SUMMARY:Pierwsza seria prowadzona
DESCRIPTION:Zajęcia odbywają się w każdą środę od 17:30 do 19:00 w Ashtanga Yoga Wrocław (ul. Trzebnicka 12/1\, 50-246 Wrocław).
URL:https://ashtangaanyways.com/grafik/pierwsza-seria-prowadzona-5/2028-12-06/
END:VEVENT
BEGIN:VEVENT
DTSTART;TZID=Europe/Warsaw:20281213T173000
DTEND;TZID=Europe/Warsaw:20281213T190000
DTSTAMP:20260422T120531
CREATED:20260110T204055Z
LAST-MODIFIED:20260110T204056Z
UID:10003698-1860341400-1860346800@ashtangaanyways.com
SUMMARY:Pierwsza seria prowadzona
DESCRIPTION:Zajęcia odbywają się w każdą środę od 17:30 do 19:00 w Ashtanga Yoga Wrocław (ul. Trzebnicka 12/1\, 50-246 Wrocław).
URL:https://ashtangaanyways.com/grafik/pierwsza-seria-prowadzona-5/2028-12-13/
END:VEVENT
BEGIN:VEVENT
DTSTART;TZID=Europe/Warsaw:20281220T173000
DTEND;TZID=Europe/Warsaw:20281220T190000
DTSTAMP:20260422T120531
CREATED:20260110T204055Z
LAST-MODIFIED:20260110T204056Z
UID:10003699-1860946200-1860951600@ashtangaanyways.com
SUMMARY:Pierwsza seria prowadzona
DESCRIPTION:Zajęcia odbywają się w każdą środę od 17:30 do 19:00 w Ashtanga Yoga Wrocław (ul. Trzebnicka 12/1\, 50-246 Wrocław).
URL:https://ashtangaanyways.com/grafik/pierwsza-seria-prowadzona-5/2028-12-20/
END:VEVENT
BEGIN:VEVENT
DTSTART;TZID=Europe/Warsaw:20281227T173000
DTEND;TZID=Europe/Warsaw:20281227T190000
DTSTAMP:20260422T120531
CREATED:20260110T204055Z
LAST-MODIFIED:20260110T204056Z
UID:10003700-1861551000-1861556400@ashtangaanyways.com
SUMMARY:Pierwsza seria prowadzona
DESCRIPTION:Zajęcia odbywają się w każdą środę od 17:30 do 19:00 w Ashtanga Yoga Wrocław (ul. Trzebnicka 12/1\, 50-246 Wrocław).
URL:https://ashtangaanyways.com/grafik/pierwsza-seria-prowadzona-5/2028-12-27/
END:VEVENT
BEGIN:VEVENT
DTSTART;TZID=Europe/Warsaw:20290103T173000
DTEND;TZID=Europe/Warsaw:20290103T190000
DTSTAMP:20260422T120531
CREATED:20260110T204055Z
LAST-MODIFIED:20260110T204056Z
UID:10003701-1862155800-1862161200@ashtangaanyways.com
SUMMARY:Pierwsza seria prowadzona
DESCRIPTION:Zajęcia odbywają się w każdą środę od 17:30 do 19:00 w Ashtanga Yoga Wrocław (ul. Trzebnicka 12/1\, 50-246 Wrocław).
URL:https://ashtangaanyways.com/grafik/pierwsza-seria-prowadzona-5/2029-01-03/
END:VEVENT
BEGIN:VEVENT
DTSTART;TZID=Europe/Warsaw:20290110T173000
DTEND;TZID=Europe/Warsaw:20290110T190000
DTSTAMP:20260422T120531
CREATED:20260110T204055Z
LAST-MODIFIED:20260110T204056Z
UID:10003702-1862760600-1862766000@ashtangaanyways.com
SUMMARY:Pierwsza seria prowadzona
DESCRIPTION:Zajęcia odbywają się w każdą środę od 17:30 do 19:00 w Ashtanga Yoga Wrocław (ul. Trzebnicka 12/1\, 50-246 Wrocław).
URL:https://ashtangaanyways.com/grafik/pierwsza-seria-prowadzona-5/2029-01-10/
END:VEVENT
BEGIN:VEVENT
DTSTART;TZID=Europe/Warsaw:20290117T173000
DTEND;TZID=Europe/Warsaw:20290117T190000
DTSTAMP:20260422T120531
CREATED:20260110T204055Z
LAST-MODIFIED:20260110T204056Z
UID:10003703-1863365400-1863370800@ashtangaanyways.com
SUMMARY:Pierwsza seria prowadzona
DESCRIPTION:Zajęcia odbywają się w każdą środę od 17:30 do 19:00 w Ashtanga Yoga Wrocław (ul. Trzebnicka 12/1\, 50-246 Wrocław).
URL:https://ashtangaanyways.com/grafik/pierwsza-seria-prowadzona-5/2029-01-17/
END:VEVENT
BEGIN:VEVENT
DTSTART;TZID=Europe/Warsaw:20290124T173000
DTEND;TZID=Europe/Warsaw:20290124T190000
DTSTAMP:20260422T120531
CREATED:20260110T204055Z
LAST-MODIFIED:20260110T204056Z
UID:10003704-1863970200-1863975600@ashtangaanyways.com
SUMMARY:Pierwsza seria prowadzona
DESCRIPTION:Zajęcia odbywają się w każdą środę od 17:30 do 19:00 w Ashtanga Yoga Wrocław (ul. Trzebnicka 12/1\, 50-246 Wrocław).
URL:https://ashtangaanyways.com/grafik/pierwsza-seria-prowadzona-5/2029-01-24/
END:VEVENT
BEGIN:VEVENT
DTSTART;TZID=Europe/Warsaw:20290131T173000
DTEND;TZID=Europe/Warsaw:20290131T190000
DTSTAMP:20260422T120531
CREATED:20260110T204055Z
LAST-MODIFIED:20260110T204056Z
UID:10003705-1864575000-1864580400@ashtangaanyways.com
SUMMARY:Pierwsza seria prowadzona
DESCRIPTION:Zajęcia odbywają się w każdą środę od 17:30 do 19:00 w Ashtanga Yoga Wrocław (ul. Trzebnicka 12/1\, 50-246 Wrocław).
URL:https://ashtangaanyways.com/grafik/pierwsza-seria-prowadzona-5/2029-01-31/
END:VEVENT
BEGIN:VEVENT
DTSTART;TZID=Europe/Warsaw:20290207T173000
DTEND;TZID=Europe/Warsaw:20290207T190000
DTSTAMP:20260422T120531
CREATED:20260110T204055Z
LAST-MODIFIED:20260110T204056Z
UID:10003706-1865179800-1865185200@ashtangaanyways.com
SUMMARY:Pierwsza seria prowadzona
DESCRIPTION:Zajęcia odbywają się w każdą środę od 17:30 do 19:00 w Ashtanga Yoga Wrocław (ul. Trzebnicka 12/1\, 50-246 Wrocław).
URL:https://ashtangaanyways.com/grafik/pierwsza-seria-prowadzona-5/2029-02-07/
END:VEVENT
BEGIN:VEVENT
DTSTART;TZID=Europe/Warsaw:20290214T173000
DTEND;TZID=Europe/Warsaw:20290214T190000
DTSTAMP:20260422T120531
CREATED:20260110T204055Z
LAST-MODIFIED:20260110T204056Z
UID:10003707-1865784600-1865790000@ashtangaanyways.com
SUMMARY:Pierwsza seria prowadzona
DESCRIPTION:Zajęcia odbywają się w każdą środę od 17:30 do 19:00 w Ashtanga Yoga Wrocław (ul. Trzebnicka 12/1\, 50-246 Wrocław).
URL:https://ashtangaanyways.com/grafik/pierwsza-seria-prowadzona-5/2029-02-14/
END:VEVENT
BEGIN:VEVENT
DTSTART;TZID=Europe/Warsaw:20290221T173000
DTEND;TZID=Europe/Warsaw:20290221T190000
DTSTAMP:20260422T120531
CREATED:20260110T204055Z
LAST-MODIFIED:20260110T204056Z
UID:10003708-1866389400-1866394800@ashtangaanyways.com
SUMMARY:Pierwsza seria prowadzona
DESCRIPTION:Zajęcia odbywają się w każdą środę od 17:30 do 19:00 w Ashtanga Yoga Wrocław (ul. Trzebnicka 12/1\, 50-246 Wrocław).
URL:https://ashtangaanyways.com/grafik/pierwsza-seria-prowadzona-5/2029-02-21/
END:VEVENT
BEGIN:VEVENT
DTSTART;TZID=Europe/Warsaw:20290228T173000
DTEND;TZID=Europe/Warsaw:20290228T190000
DTSTAMP:20260422T120531
CREATED:20260110T204055Z
LAST-MODIFIED:20260110T204056Z
UID:10003709-1866994200-1866999600@ashtangaanyways.com
SUMMARY:Pierwsza seria prowadzona
DESCRIPTION:Zajęcia odbywają się w każdą środę od 17:30 do 19:00 w Ashtanga Yoga Wrocław (ul. Trzebnicka 12/1\, 50-246 Wrocław).
URL:https://ashtangaanyways.com/grafik/pierwsza-seria-prowadzona-5/2029-02-28/
END:VEVENT
BEGIN:VEVENT
DTSTART;TZID=Europe/Warsaw:20290307T173000
DTEND;TZID=Europe/Warsaw:20290307T190000
DTSTAMP:20260422T120531
CREATED:20260110T204055Z
LAST-MODIFIED:20260110T204056Z
UID:10003710-1867599000-1867604400@ashtangaanyways.com
SUMMARY:Pierwsza seria prowadzona
DESCRIPTION:Zajęcia odbywają się w każdą środę od 17:30 do 19:00 w Ashtanga Yoga Wrocław (ul. Trzebnicka 12/1\, 50-246 Wrocław).
URL:https://ashtangaanyways.com/grafik/pierwsza-seria-prowadzona-5/2029-03-07/
END:VEVENT
BEGIN:VEVENT
DTSTART;TZID=Europe/Warsaw:20290314T173000
DTEND;TZID=Europe/Warsaw:20290314T190000
DTSTAMP:20260422T120531
CREATED:20260110T204055Z
LAST-MODIFIED:20260110T204056Z
UID:10003711-1868203800-1868209200@ashtangaanyways.com
SUMMARY:Pierwsza seria prowadzona
DESCRIPTION:Zajęcia odbywają się w każdą środę od 17:30 do 19:00 w Ashtanga Yoga Wrocław (ul. Trzebnicka 12/1\, 50-246 Wrocław).
URL:https://ashtangaanyways.com/grafik/pierwsza-seria-prowadzona-5/2029-03-14/
END:VEVENT
BEGIN:VEVENT
DTSTART;TZID=Europe/Warsaw:20290321T173000
DTEND;TZID=Europe/Warsaw:20290321T190000
DTSTAMP:20260422T120531
CREATED:20260110T204055Z
LAST-MODIFIED:20260110T204056Z
UID:10003712-1868808600-1868814000@ashtangaanyways.com
SUMMARY:Pierwsza seria prowadzona
DESCRIPTION:Zajęcia odbywają się w każdą środę od 17:30 do 19:00 w Ashtanga Yoga Wrocław (ul. Trzebnicka 12/1\, 50-246 Wrocław).
URL:https://ashtangaanyways.com/grafik/pierwsza-seria-prowadzona-5/2029-03-21/
END:VEVENT
BEGIN:VEVENT
DTSTART;TZID=Europe/Warsaw:20290328T173000
DTEND;TZID=Europe/Warsaw:20290328T190000
DTSTAMP:20260422T120531
CREATED:20260110T204055Z
LAST-MODIFIED:20260110T204056Z
UID:10003713-1869413400-1869418800@ashtangaanyways.com
SUMMARY:Pierwsza seria prowadzona
DESCRIPTION:Zajęcia odbywają się w każdą środę od 17:30 do 19:00 w Ashtanga Yoga Wrocław (ul. Trzebnicka 12/1\, 50-246 Wrocław).
URL:https://ashtangaanyways.com/grafik/pierwsza-seria-prowadzona-5/2029-03-28/
END:VEVENT
BEGIN:VEVENT
DTSTART;TZID=Europe/Warsaw:20290404T173000
DTEND;TZID=Europe/Warsaw:20290404T190000
DTSTAMP:20260422T120531
CREATED:20260110T204055Z
LAST-MODIFIED:20260110T204056Z
UID:10003714-1870018200-1870023600@ashtangaanyways.com
SUMMARY:Pierwsza seria prowadzona
DESCRIPTION:Zajęcia odbywają się w każdą środę od 17:30 do 19:00 w Ashtanga Yoga Wrocław (ul. Trzebnicka 12/1\, 50-246 Wrocław).
URL:https://ashtangaanyways.com/grafik/pierwsza-seria-prowadzona-5/2029-04-04/
END:VEVENT
BEGIN:VEVENT
DTSTART;TZID=Europe/Warsaw:20290411T173000
DTEND;TZID=Europe/Warsaw:20290411T190000
DTSTAMP:20260422T120531
CREATED:20260110T204055Z
LAST-MODIFIED:20260110T204056Z
UID:10003715-1870623000-1870628400@ashtangaanyways.com
SUMMARY:Pierwsza seria prowadzona
DESCRIPTION:Zajęcia odbywają się w każdą środę od 17:30 do 19:00 w Ashtanga Yoga Wrocław (ul. Trzebnicka 12/1\, 50-246 Wrocław).
URL:https://ashtangaanyways.com/grafik/pierwsza-seria-prowadzona-5/2029-04-11/
END:VEVENT
BEGIN:VEVENT
DTSTART;TZID=Europe/Warsaw:20290418T173000
DTEND;TZID=Europe/Warsaw:20290418T190000
DTSTAMP:20260422T120531
CREATED:20260110T204055Z
LAST-MODIFIED:20260110T204056Z
UID:10003716-1871227800-1871233200@ashtangaanyways.com
SUMMARY:Pierwsza seria prowadzona
DESCRIPTION:Zajęcia odbywają się w każdą środę od 17:30 do 19:00 w Ashtanga Yoga Wrocław (ul. Trzebnicka 12/1\, 50-246 Wrocław).
URL:https://ashtangaanyways.com/grafik/pierwsza-seria-prowadzona-5/2029-04-18/
END:VEVENT
BEGIN:VEVENT
DTSTART;TZID=Europe/Warsaw:20290425T173000
DTEND;TZID=Europe/Warsaw:20290425T190000
DTSTAMP:20260422T120531
CREATED:20260110T204055Z
LAST-MODIFIED:20260110T204056Z
UID:10003717-1871832600-1871838000@ashtangaanyways.com
SUMMARY:Pierwsza seria prowadzona
DESCRIPTION:Zajęcia odbywają się w każdą środę od 17:30 do 19:00 w Ashtanga Yoga Wrocław (ul. Trzebnicka 12/1\, 50-246 Wrocław).
URL:https://ashtangaanyways.com/grafik/pierwsza-seria-prowadzona-5/2029-04-25/
END:VEVENT
BEGIN:VEVENT
DTSTART;TZID=Europe/Warsaw:20290502T173000
DTEND;TZID=Europe/Warsaw:20290502T190000
DTSTAMP:20260422T120531
CREATED:20260110T204055Z
LAST-MODIFIED:20260110T204056Z
UID:10003718-1872437400-1872442800@ashtangaanyways.com
SUMMARY:Pierwsza seria prowadzona
DESCRIPTION:Zajęcia odbywają się w każdą środę od 17:30 do 19:00 w Ashtanga Yoga Wrocław (ul. Trzebnicka 12/1\, 50-246 Wrocław).
URL:https://ashtangaanyways.com/grafik/pierwsza-seria-prowadzona-5/2029-05-02/
END:VEVENT
BEGIN:VEVENT
DTSTART;TZID=Europe/Warsaw:20290509T173000
DTEND;TZID=Europe/Warsaw:20290509T190000
DTSTAMP:20260422T120531
CREATED:20260110T204055Z
LAST-MODIFIED:20260110T204056Z
UID:10003719-1873042200-1873047600@ashtangaanyways.com
SUMMARY:Pierwsza seria prowadzona
DESCRIPTION:Zajęcia odbywają się w każdą środę od 17:30 do 19:00 w Ashtanga Yoga Wrocław (ul. Trzebnicka 12/1\, 50-246 Wrocław).
URL:https://ashtangaanyways.com/grafik/pierwsza-seria-prowadzona-5/2029-05-09/
END:VEVENT
BEGIN:VEVENT
DTSTART;TZID=Europe/Warsaw:20290516T173000
DTEND;TZID=Europe/Warsaw:20290516T190000
DTSTAMP:20260422T120531
CREATED:20260110T204055Z
LAST-MODIFIED:20260110T204056Z
UID:10003720-1873647000-1873652400@ashtangaanyways.com
SUMMARY:Pierwsza seria prowadzona
DESCRIPTION:Zajęcia odbywają się w każdą środę od 17:30 do 19:00 w Ashtanga Yoga Wrocław (ul. Trzebnicka 12/1\, 50-246 Wrocław).
URL:https://ashtangaanyways.com/grafik/pierwsza-seria-prowadzona-5/2029-05-16/
END:VEVENT
BEGIN:VEVENT
DTSTART;TZID=Europe/Warsaw:20290523T173000
DTEND;TZID=Europe/Warsaw:20290523T190000
DTSTAMP:20260422T120531
CREATED:20260110T204055Z
LAST-MODIFIED:20260110T204056Z
UID:10003721-1874251800-1874257200@ashtangaanyways.com
SUMMARY:Pierwsza seria prowadzona
DESCRIPTION:Zajęcia odbywają się w każdą środę od 17:30 do 19:00 w Ashtanga Yoga Wrocław (ul. Trzebnicka 12/1\, 50-246 Wrocław).
URL:https://ashtangaanyways.com/grafik/pierwsza-seria-prowadzona-5/2029-05-23/
END:VEVENT
END:VCALENDAR