BEGIN:VCALENDAR
VERSION:2.0
PRODID:-//Ashtanga Anyways - ECPv6.15.18//NONSGML v1.0//EN
CALSCALE:GREGORIAN
METHOD:PUBLISH
X-WR-CALNAME:Ashtanga Anyways
X-ORIGINAL-URL:https://ashtangaanyways.com
X-WR-CALDESC:Wydarzenia dla Ashtanga Anyways
REFRESH-INTERVAL;VALUE=DURATION:PT1H
X-Robots-Tag:noindex
X-PUBLISHED-TTL:PT1H
BEGIN:VTIMEZONE
TZID:Europe/Warsaw
BEGIN:DAYLIGHT
TZOFFSETFROM:+0100
TZOFFSETTO:+0200
TZNAME:CEST
DTSTART:20280326T010000
END:DAYLIGHT
BEGIN:STANDARD
TZOFFSETFROM:+0200
TZOFFSETTO:+0100
TZNAME:CET
DTSTART:20281029T010000
END:STANDARD
BEGIN:DAYLIGHT
TZOFFSETFROM:+0100
TZOFFSETTO:+0200
TZNAME:CEST
DTSTART:20290325T010000
END:DAYLIGHT
BEGIN:STANDARD
TZOFFSETFROM:+0200
TZOFFSETTO:+0100
TZNAME:CET
DTSTART:20291028T010000
END:STANDARD
BEGIN:DAYLIGHT
TZOFFSETFROM:+0100
TZOFFSETTO:+0200
TZNAME:CEST
DTSTART:20300331T010000
END:DAYLIGHT
BEGIN:STANDARD
TZOFFSETFROM:+0200
TZOFFSETTO:+0100
TZNAME:CET
DTSTART:20301027T010000
END:STANDARD
END:VTIMEZONE
BEGIN:VEVENT
DTSTART;TZID=Europe/Warsaw:20290422T180000
DTEND;TZID=Europe/Warsaw:20290422T190000
DTSTAMP:20260422T190219
CREATED:20250703T051838Z
LAST-MODIFIED:20250921T074333Z
UID:10002582-1871575200-1871578800@ashtangaanyways.com
SUMMARY:Joga regeneracyjna i techniki relaksacji
DESCRIPTION:Łagodna\, spokojna praktyka dostosowuje się do indywidualnych potrzeb i możliwości każdego uczestnika i jest idealna dla wszystkich poszukujących spowolnienia i relaksu\, niezależnie od poziomu zaawansowania\, kondycji fizycznej czy wieku. Podczas zajęć jogi regeneracyjnej będziemy poznawać wyciszające i równoważące techniki Pranayamy a także praktykować łagodną i medytacyjną Yin jogę\, kończąc praktyki asan długim relaksem z elementami jogi Nidry. \n\n\n\n>> WIĘCEJ SZCZEGÓŁÓW <<
URL:https://ashtangaanyways.com/grafik/joga-regeneracyjna-i-techniki-relaksacji-2/2029-04-22/
CATEGORIES:joga regeneracyjna,nidra joga,yin joga
END:VEVENT
BEGIN:VEVENT
DTSTART;TZID=Europe/Warsaw:20290429T180000
DTEND;TZID=Europe/Warsaw:20290429T190000
DTSTAMP:20260422T190220
CREATED:20250703T051838Z
LAST-MODIFIED:20250921T074333Z
UID:10002583-1872180000-1872183600@ashtangaanyways.com
SUMMARY:Joga regeneracyjna i techniki relaksacji
DESCRIPTION:Łagodna\, spokojna praktyka dostosowuje się do indywidualnych potrzeb i możliwości każdego uczestnika i jest idealna dla wszystkich poszukujących spowolnienia i relaksu\, niezależnie od poziomu zaawansowania\, kondycji fizycznej czy wieku. Podczas zajęć jogi regeneracyjnej będziemy poznawać wyciszające i równoważące techniki Pranayamy a także praktykować łagodną i medytacyjną Yin jogę\, kończąc praktyki asan długim relaksem z elementami jogi Nidry. \n\n\n\n>> WIĘCEJ SZCZEGÓŁÓW <<
URL:https://ashtangaanyways.com/grafik/joga-regeneracyjna-i-techniki-relaksacji-2/2029-04-29/
CATEGORIES:joga regeneracyjna,nidra joga,yin joga
END:VEVENT
BEGIN:VEVENT
DTSTART;TZID=Europe/Warsaw:20290506T180000
DTEND;TZID=Europe/Warsaw:20290506T190000
DTSTAMP:20260422T190220
CREATED:20250703T051838Z
LAST-MODIFIED:20250921T074333Z
UID:10002584-1872784800-1872788400@ashtangaanyways.com
SUMMARY:Joga regeneracyjna i techniki relaksacji
DESCRIPTION:Łagodna\, spokojna praktyka dostosowuje się do indywidualnych potrzeb i możliwości każdego uczestnika i jest idealna dla wszystkich poszukujących spowolnienia i relaksu\, niezależnie od poziomu zaawansowania\, kondycji fizycznej czy wieku. Podczas zajęć jogi regeneracyjnej będziemy poznawać wyciszające i równoważące techniki Pranayamy a także praktykować łagodną i medytacyjną Yin jogę\, kończąc praktyki asan długim relaksem z elementami jogi Nidry. \n\n\n\n>> WIĘCEJ SZCZEGÓŁÓW <<
URL:https://ashtangaanyways.com/grafik/joga-regeneracyjna-i-techniki-relaksacji-2/2029-05-06/
CATEGORIES:joga regeneracyjna,nidra joga,yin joga
END:VEVENT
BEGIN:VEVENT
DTSTART;TZID=Europe/Warsaw:20290513T180000
DTEND;TZID=Europe/Warsaw:20290513T190000
DTSTAMP:20260422T190220
CREATED:20250703T051838Z
LAST-MODIFIED:20250921T074333Z
UID:10002585-1873389600-1873393200@ashtangaanyways.com
SUMMARY:Joga regeneracyjna i techniki relaksacji
DESCRIPTION:Łagodna\, spokojna praktyka dostosowuje się do indywidualnych potrzeb i możliwości każdego uczestnika i jest idealna dla wszystkich poszukujących spowolnienia i relaksu\, niezależnie od poziomu zaawansowania\, kondycji fizycznej czy wieku. Podczas zajęć jogi regeneracyjnej będziemy poznawać wyciszające i równoważące techniki Pranayamy a także praktykować łagodną i medytacyjną Yin jogę\, kończąc praktyki asan długim relaksem z elementami jogi Nidry. \n\n\n\n>> WIĘCEJ SZCZEGÓŁÓW <<
URL:https://ashtangaanyways.com/grafik/joga-regeneracyjna-i-techniki-relaksacji-2/2029-05-13/
CATEGORIES:joga regeneracyjna,nidra joga,yin joga
END:VEVENT
BEGIN:VEVENT
DTSTART;TZID=Europe/Warsaw:20290520T180000
DTEND;TZID=Europe/Warsaw:20290520T190000
DTSTAMP:20260422T190220
CREATED:20250703T051838Z
LAST-MODIFIED:20250921T074333Z
UID:10002586-1873994400-1873998000@ashtangaanyways.com
SUMMARY:Joga regeneracyjna i techniki relaksacji
DESCRIPTION:Łagodna\, spokojna praktyka dostosowuje się do indywidualnych potrzeb i możliwości każdego uczestnika i jest idealna dla wszystkich poszukujących spowolnienia i relaksu\, niezależnie od poziomu zaawansowania\, kondycji fizycznej czy wieku. Podczas zajęć jogi regeneracyjnej będziemy poznawać wyciszające i równoważące techniki Pranayamy a także praktykować łagodną i medytacyjną Yin jogę\, kończąc praktyki asan długim relaksem z elementami jogi Nidry. \n\n\n\n>> WIĘCEJ SZCZEGÓŁÓW <<
URL:https://ashtangaanyways.com/grafik/joga-regeneracyjna-i-techniki-relaksacji-2/2029-05-20/
CATEGORIES:joga regeneracyjna,nidra joga,yin joga
END:VEVENT
BEGIN:VEVENT
DTSTART;TZID=Europe/Warsaw:20290527T180000
DTEND;TZID=Europe/Warsaw:20290527T190000
DTSTAMP:20260422T190220
CREATED:20250703T051838Z
LAST-MODIFIED:20250921T074333Z
UID:10002587-1874599200-1874602800@ashtangaanyways.com
SUMMARY:Joga regeneracyjna i techniki relaksacji
DESCRIPTION:Łagodna\, spokojna praktyka dostosowuje się do indywidualnych potrzeb i możliwości każdego uczestnika i jest idealna dla wszystkich poszukujących spowolnienia i relaksu\, niezależnie od poziomu zaawansowania\, kondycji fizycznej czy wieku. Podczas zajęć jogi regeneracyjnej będziemy poznawać wyciszające i równoważące techniki Pranayamy a także praktykować łagodną i medytacyjną Yin jogę\, kończąc praktyki asan długim relaksem z elementami jogi Nidry. \n\n\n\n>> WIĘCEJ SZCZEGÓŁÓW <<
URL:https://ashtangaanyways.com/grafik/joga-regeneracyjna-i-techniki-relaksacji-2/2029-05-27/
CATEGORIES:joga regeneracyjna,nidra joga,yin joga
END:VEVENT
BEGIN:VEVENT
DTSTART;TZID=Europe/Warsaw:20290603T180000
DTEND;TZID=Europe/Warsaw:20290603T190000
DTSTAMP:20260422T190220
CREATED:20250703T051838Z
LAST-MODIFIED:20250921T074333Z
UID:10002588-1875204000-1875207600@ashtangaanyways.com
SUMMARY:Joga regeneracyjna i techniki relaksacji
DESCRIPTION:Łagodna\, spokojna praktyka dostosowuje się do indywidualnych potrzeb i możliwości każdego uczestnika i jest idealna dla wszystkich poszukujących spowolnienia i relaksu\, niezależnie od poziomu zaawansowania\, kondycji fizycznej czy wieku. Podczas zajęć jogi regeneracyjnej będziemy poznawać wyciszające i równoważące techniki Pranayamy a także praktykować łagodną i medytacyjną Yin jogę\, kończąc praktyki asan długim relaksem z elementami jogi Nidry. \n\n\n\n>> WIĘCEJ SZCZEGÓŁÓW <<
URL:https://ashtangaanyways.com/grafik/joga-regeneracyjna-i-techniki-relaksacji-2/2029-06-03/
CATEGORIES:joga regeneracyjna,nidra joga,yin joga
END:VEVENT
BEGIN:VEVENT
DTSTART;TZID=Europe/Warsaw:20290610T180000
DTEND;TZID=Europe/Warsaw:20290610T190000
DTSTAMP:20260422T190220
CREATED:20250703T051838Z
LAST-MODIFIED:20250921T074333Z
UID:10002589-1875808800-1875812400@ashtangaanyways.com
SUMMARY:Joga regeneracyjna i techniki relaksacji
DESCRIPTION:Łagodna\, spokojna praktyka dostosowuje się do indywidualnych potrzeb i możliwości każdego uczestnika i jest idealna dla wszystkich poszukujących spowolnienia i relaksu\, niezależnie od poziomu zaawansowania\, kondycji fizycznej czy wieku. Podczas zajęć jogi regeneracyjnej będziemy poznawać wyciszające i równoważące techniki Pranayamy a także praktykować łagodną i medytacyjną Yin jogę\, kończąc praktyki asan długim relaksem z elementami jogi Nidry. \n\n\n\n>> WIĘCEJ SZCZEGÓŁÓW <<
URL:https://ashtangaanyways.com/grafik/joga-regeneracyjna-i-techniki-relaksacji-2/2029-06-10/
CATEGORIES:joga regeneracyjna,nidra joga,yin joga
END:VEVENT
BEGIN:VEVENT
DTSTART;TZID=Europe/Warsaw:20290617T180000
DTEND;TZID=Europe/Warsaw:20290617T190000
DTSTAMP:20260422T190220
CREATED:20250703T051838Z
LAST-MODIFIED:20250921T074333Z
UID:10002590-1876413600-1876417200@ashtangaanyways.com
SUMMARY:Joga regeneracyjna i techniki relaksacji
DESCRIPTION:Łagodna\, spokojna praktyka dostosowuje się do indywidualnych potrzeb i możliwości każdego uczestnika i jest idealna dla wszystkich poszukujących spowolnienia i relaksu\, niezależnie od poziomu zaawansowania\, kondycji fizycznej czy wieku. Podczas zajęć jogi regeneracyjnej będziemy poznawać wyciszające i równoważące techniki Pranayamy a także praktykować łagodną i medytacyjną Yin jogę\, kończąc praktyki asan długim relaksem z elementami jogi Nidry. \n\n\n\n>> WIĘCEJ SZCZEGÓŁÓW <<
URL:https://ashtangaanyways.com/grafik/joga-regeneracyjna-i-techniki-relaksacji-2/2029-06-17/
CATEGORIES:joga regeneracyjna,nidra joga,yin joga
END:VEVENT
BEGIN:VEVENT
DTSTART;TZID=Europe/Warsaw:20290624T180000
DTEND;TZID=Europe/Warsaw:20290624T190000
DTSTAMP:20260422T190220
CREATED:20250703T051838Z
LAST-MODIFIED:20250921T074333Z
UID:10002591-1877018400-1877022000@ashtangaanyways.com
SUMMARY:Joga regeneracyjna i techniki relaksacji
DESCRIPTION:Łagodna\, spokojna praktyka dostosowuje się do indywidualnych potrzeb i możliwości każdego uczestnika i jest idealna dla wszystkich poszukujących spowolnienia i relaksu\, niezależnie od poziomu zaawansowania\, kondycji fizycznej czy wieku. Podczas zajęć jogi regeneracyjnej będziemy poznawać wyciszające i równoważące techniki Pranayamy a także praktykować łagodną i medytacyjną Yin jogę\, kończąc praktyki asan długim relaksem z elementami jogi Nidry. \n\n\n\n>> WIĘCEJ SZCZEGÓŁÓW <<
URL:https://ashtangaanyways.com/grafik/joga-regeneracyjna-i-techniki-relaksacji-2/2029-06-24/
CATEGORIES:joga regeneracyjna,nidra joga,yin joga
END:VEVENT
BEGIN:VEVENT
DTSTART;TZID=Europe/Warsaw:20290701T180000
DTEND;TZID=Europe/Warsaw:20290701T190000
DTSTAMP:20260422T190220
CREATED:20250703T051838Z
LAST-MODIFIED:20250921T074333Z
UID:10002592-1877623200-1877626800@ashtangaanyways.com
SUMMARY:Joga regeneracyjna i techniki relaksacji
DESCRIPTION:Łagodna\, spokojna praktyka dostosowuje się do indywidualnych potrzeb i możliwości każdego uczestnika i jest idealna dla wszystkich poszukujących spowolnienia i relaksu\, niezależnie od poziomu zaawansowania\, kondycji fizycznej czy wieku. Podczas zajęć jogi regeneracyjnej będziemy poznawać wyciszające i równoważące techniki Pranayamy a także praktykować łagodną i medytacyjną Yin jogę\, kończąc praktyki asan długim relaksem z elementami jogi Nidry. \n\n\n\n>> WIĘCEJ SZCZEGÓŁÓW <<
URL:https://ashtangaanyways.com/grafik/joga-regeneracyjna-i-techniki-relaksacji-2/2029-07-01/
CATEGORIES:joga regeneracyjna,nidra joga,yin joga
END:VEVENT
BEGIN:VEVENT
DTSTART;TZID=Europe/Warsaw:20290708T180000
DTEND;TZID=Europe/Warsaw:20290708T190000
DTSTAMP:20260422T190220
CREATED:20250703T051838Z
LAST-MODIFIED:20250921T074333Z
UID:10002593-1878228000-1878231600@ashtangaanyways.com
SUMMARY:Joga regeneracyjna i techniki relaksacji
DESCRIPTION:Łagodna\, spokojna praktyka dostosowuje się do indywidualnych potrzeb i możliwości każdego uczestnika i jest idealna dla wszystkich poszukujących spowolnienia i relaksu\, niezależnie od poziomu zaawansowania\, kondycji fizycznej czy wieku. Podczas zajęć jogi regeneracyjnej będziemy poznawać wyciszające i równoważące techniki Pranayamy a także praktykować łagodną i medytacyjną Yin jogę\, kończąc praktyki asan długim relaksem z elementami jogi Nidry. \n\n\n\n>> WIĘCEJ SZCZEGÓŁÓW <<
URL:https://ashtangaanyways.com/grafik/joga-regeneracyjna-i-techniki-relaksacji-2/2029-07-08/
CATEGORIES:joga regeneracyjna,nidra joga,yin joga
END:VEVENT
BEGIN:VEVENT
DTSTART;TZID=Europe/Warsaw:20290715T180000
DTEND;TZID=Europe/Warsaw:20290715T190000
DTSTAMP:20260422T190220
CREATED:20250703T051838Z
LAST-MODIFIED:20250921T074333Z
UID:10002594-1878832800-1878836400@ashtangaanyways.com
SUMMARY:Joga regeneracyjna i techniki relaksacji
DESCRIPTION:Łagodna\, spokojna praktyka dostosowuje się do indywidualnych potrzeb i możliwości każdego uczestnika i jest idealna dla wszystkich poszukujących spowolnienia i relaksu\, niezależnie od poziomu zaawansowania\, kondycji fizycznej czy wieku. Podczas zajęć jogi regeneracyjnej będziemy poznawać wyciszające i równoważące techniki Pranayamy a także praktykować łagodną i medytacyjną Yin jogę\, kończąc praktyki asan długim relaksem z elementami jogi Nidry. \n\n\n\n>> WIĘCEJ SZCZEGÓŁÓW <<
URL:https://ashtangaanyways.com/grafik/joga-regeneracyjna-i-techniki-relaksacji-2/2029-07-15/
CATEGORIES:joga regeneracyjna,nidra joga,yin joga
END:VEVENT
BEGIN:VEVENT
DTSTART;TZID=Europe/Warsaw:20290722T180000
DTEND;TZID=Europe/Warsaw:20290722T190000
DTSTAMP:20260422T190220
CREATED:20250703T051838Z
LAST-MODIFIED:20250921T074333Z
UID:10002595-1879437600-1879441200@ashtangaanyways.com
SUMMARY:Joga regeneracyjna i techniki relaksacji
DESCRIPTION:Łagodna\, spokojna praktyka dostosowuje się do indywidualnych potrzeb i możliwości każdego uczestnika i jest idealna dla wszystkich poszukujących spowolnienia i relaksu\, niezależnie od poziomu zaawansowania\, kondycji fizycznej czy wieku. Podczas zajęć jogi regeneracyjnej będziemy poznawać wyciszające i równoważące techniki Pranayamy a także praktykować łagodną i medytacyjną Yin jogę\, kończąc praktyki asan długim relaksem z elementami jogi Nidry. \n\n\n\n>> WIĘCEJ SZCZEGÓŁÓW <<
URL:https://ashtangaanyways.com/grafik/joga-regeneracyjna-i-techniki-relaksacji-2/2029-07-22/
CATEGORIES:joga regeneracyjna,nidra joga,yin joga
END:VEVENT
BEGIN:VEVENT
DTSTART;TZID=Europe/Warsaw:20290729T180000
DTEND;TZID=Europe/Warsaw:20290729T190000
DTSTAMP:20260422T190220
CREATED:20250703T051838Z
LAST-MODIFIED:20250921T074333Z
UID:10002596-1880042400-1880046000@ashtangaanyways.com
SUMMARY:Joga regeneracyjna i techniki relaksacji
DESCRIPTION:Łagodna\, spokojna praktyka dostosowuje się do indywidualnych potrzeb i możliwości każdego uczestnika i jest idealna dla wszystkich poszukujących spowolnienia i relaksu\, niezależnie od poziomu zaawansowania\, kondycji fizycznej czy wieku. Podczas zajęć jogi regeneracyjnej będziemy poznawać wyciszające i równoważące techniki Pranayamy a także praktykować łagodną i medytacyjną Yin jogę\, kończąc praktyki asan długim relaksem z elementami jogi Nidry. \n\n\n\n>> WIĘCEJ SZCZEGÓŁÓW <<
URL:https://ashtangaanyways.com/grafik/joga-regeneracyjna-i-techniki-relaksacji-2/2029-07-29/
CATEGORIES:joga regeneracyjna,nidra joga,yin joga
END:VEVENT
BEGIN:VEVENT
DTSTART;TZID=Europe/Warsaw:20290805T180000
DTEND;TZID=Europe/Warsaw:20290805T190000
DTSTAMP:20260422T190220
CREATED:20250703T051838Z
LAST-MODIFIED:20250921T074333Z
UID:10002597-1880647200-1880650800@ashtangaanyways.com
SUMMARY:Joga regeneracyjna i techniki relaksacji
DESCRIPTION:Łagodna\, spokojna praktyka dostosowuje się do indywidualnych potrzeb i możliwości każdego uczestnika i jest idealna dla wszystkich poszukujących spowolnienia i relaksu\, niezależnie od poziomu zaawansowania\, kondycji fizycznej czy wieku. Podczas zajęć jogi regeneracyjnej będziemy poznawać wyciszające i równoważące techniki Pranayamy a także praktykować łagodną i medytacyjną Yin jogę\, kończąc praktyki asan długim relaksem z elementami jogi Nidry. \n\n\n\n>> WIĘCEJ SZCZEGÓŁÓW <<
URL:https://ashtangaanyways.com/grafik/joga-regeneracyjna-i-techniki-relaksacji-2/2029-08-05/
CATEGORIES:joga regeneracyjna,nidra joga,yin joga
END:VEVENT
BEGIN:VEVENT
DTSTART;TZID=Europe/Warsaw:20290812T180000
DTEND;TZID=Europe/Warsaw:20290812T190000
DTSTAMP:20260422T190220
CREATED:20250703T051838Z
LAST-MODIFIED:20250921T074333Z
UID:10002598-1881252000-1881255600@ashtangaanyways.com
SUMMARY:Joga regeneracyjna i techniki relaksacji
DESCRIPTION:Łagodna\, spokojna praktyka dostosowuje się do indywidualnych potrzeb i możliwości każdego uczestnika i jest idealna dla wszystkich poszukujących spowolnienia i relaksu\, niezależnie od poziomu zaawansowania\, kondycji fizycznej czy wieku. Podczas zajęć jogi regeneracyjnej będziemy poznawać wyciszające i równoważące techniki Pranayamy a także praktykować łagodną i medytacyjną Yin jogę\, kończąc praktyki asan długim relaksem z elementami jogi Nidry. \n\n\n\n>> WIĘCEJ SZCZEGÓŁÓW <<
URL:https://ashtangaanyways.com/grafik/joga-regeneracyjna-i-techniki-relaksacji-2/2029-08-12/
CATEGORIES:joga regeneracyjna,nidra joga,yin joga
END:VEVENT
BEGIN:VEVENT
DTSTART;TZID=Europe/Warsaw:20290819T180000
DTEND;TZID=Europe/Warsaw:20290819T190000
DTSTAMP:20260422T190220
CREATED:20250703T051838Z
LAST-MODIFIED:20250921T074333Z
UID:10002599-1881856800-1881860400@ashtangaanyways.com
SUMMARY:Joga regeneracyjna i techniki relaksacji
DESCRIPTION:Łagodna\, spokojna praktyka dostosowuje się do indywidualnych potrzeb i możliwości każdego uczestnika i jest idealna dla wszystkich poszukujących spowolnienia i relaksu\, niezależnie od poziomu zaawansowania\, kondycji fizycznej czy wieku. Podczas zajęć jogi regeneracyjnej będziemy poznawać wyciszające i równoważące techniki Pranayamy a także praktykować łagodną i medytacyjną Yin jogę\, kończąc praktyki asan długim relaksem z elementami jogi Nidry. \n\n\n\n>> WIĘCEJ SZCZEGÓŁÓW <<
URL:https://ashtangaanyways.com/grafik/joga-regeneracyjna-i-techniki-relaksacji-2/2029-08-19/
CATEGORIES:joga regeneracyjna,nidra joga,yin joga
END:VEVENT
BEGIN:VEVENT
DTSTART;TZID=Europe/Warsaw:20290826T180000
DTEND;TZID=Europe/Warsaw:20290826T190000
DTSTAMP:20260422T190220
CREATED:20250703T051838Z
LAST-MODIFIED:20250921T074333Z
UID:10002600-1882461600-1882465200@ashtangaanyways.com
SUMMARY:Joga regeneracyjna i techniki relaksacji
DESCRIPTION:Łagodna\, spokojna praktyka dostosowuje się do indywidualnych potrzeb i możliwości każdego uczestnika i jest idealna dla wszystkich poszukujących spowolnienia i relaksu\, niezależnie od poziomu zaawansowania\, kondycji fizycznej czy wieku. Podczas zajęć jogi regeneracyjnej będziemy poznawać wyciszające i równoważące techniki Pranayamy a także praktykować łagodną i medytacyjną Yin jogę\, kończąc praktyki asan długim relaksem z elementami jogi Nidry. \n\n\n\n>> WIĘCEJ SZCZEGÓŁÓW <<
URL:https://ashtangaanyways.com/grafik/joga-regeneracyjna-i-techniki-relaksacji-2/2029-08-26/
CATEGORIES:joga regeneracyjna,nidra joga,yin joga
END:VEVENT
BEGIN:VEVENT
DTSTART;TZID=Europe/Warsaw:20290902T180000
DTEND;TZID=Europe/Warsaw:20290902T190000
DTSTAMP:20260422T190220
CREATED:20250703T051838Z
LAST-MODIFIED:20250921T074333Z
UID:10002601-1883066400-1883070000@ashtangaanyways.com
SUMMARY:Joga regeneracyjna i techniki relaksacji
DESCRIPTION:Łagodna\, spokojna praktyka dostosowuje się do indywidualnych potrzeb i możliwości każdego uczestnika i jest idealna dla wszystkich poszukujących spowolnienia i relaksu\, niezależnie od poziomu zaawansowania\, kondycji fizycznej czy wieku. Podczas zajęć jogi regeneracyjnej będziemy poznawać wyciszające i równoważące techniki Pranayamy a także praktykować łagodną i medytacyjną Yin jogę\, kończąc praktyki asan długim relaksem z elementami jogi Nidry. \n\n\n\n>> WIĘCEJ SZCZEGÓŁÓW <<
URL:https://ashtangaanyways.com/grafik/joga-regeneracyjna-i-techniki-relaksacji-2/2029-09-02/
CATEGORIES:joga regeneracyjna,nidra joga,yin joga
END:VEVENT
BEGIN:VEVENT
DTSTART;TZID=Europe/Warsaw:20290909T180000
DTEND;TZID=Europe/Warsaw:20290909T190000
DTSTAMP:20260422T190220
CREATED:20250703T051838Z
LAST-MODIFIED:20250921T074333Z
UID:10002602-1883671200-1883674800@ashtangaanyways.com
SUMMARY:Joga regeneracyjna i techniki relaksacji
DESCRIPTION:Łagodna\, spokojna praktyka dostosowuje się do indywidualnych potrzeb i możliwości każdego uczestnika i jest idealna dla wszystkich poszukujących spowolnienia i relaksu\, niezależnie od poziomu zaawansowania\, kondycji fizycznej czy wieku. Podczas zajęć jogi regeneracyjnej będziemy poznawać wyciszające i równoważące techniki Pranayamy a także praktykować łagodną i medytacyjną Yin jogę\, kończąc praktyki asan długim relaksem z elementami jogi Nidry. \n\n\n\n>> WIĘCEJ SZCZEGÓŁÓW <<
URL:https://ashtangaanyways.com/grafik/joga-regeneracyjna-i-techniki-relaksacji-2/2029-09-09/
CATEGORIES:joga regeneracyjna,nidra joga,yin joga
END:VEVENT
BEGIN:VEVENT
DTSTART;TZID=Europe/Warsaw:20290916T180000
DTEND;TZID=Europe/Warsaw:20290916T190000
DTSTAMP:20260422T190220
CREATED:20250703T051838Z
LAST-MODIFIED:20250921T074333Z
UID:10002603-1884276000-1884279600@ashtangaanyways.com
SUMMARY:Joga regeneracyjna i techniki relaksacji
DESCRIPTION:Łagodna\, spokojna praktyka dostosowuje się do indywidualnych potrzeb i możliwości każdego uczestnika i jest idealna dla wszystkich poszukujących spowolnienia i relaksu\, niezależnie od poziomu zaawansowania\, kondycji fizycznej czy wieku. Podczas zajęć jogi regeneracyjnej będziemy poznawać wyciszające i równoważące techniki Pranayamy a także praktykować łagodną i medytacyjną Yin jogę\, kończąc praktyki asan długim relaksem z elementami jogi Nidry. \n\n\n\n>> WIĘCEJ SZCZEGÓŁÓW <<
URL:https://ashtangaanyways.com/grafik/joga-regeneracyjna-i-techniki-relaksacji-2/2029-09-16/
CATEGORIES:joga regeneracyjna,nidra joga,yin joga
END:VEVENT
BEGIN:VEVENT
DTSTART;TZID=Europe/Warsaw:20290923T180000
DTEND;TZID=Europe/Warsaw:20290923T190000
DTSTAMP:20260422T190220
CREATED:20250703T051838Z
LAST-MODIFIED:20250921T074333Z
UID:10002604-1884880800-1884884400@ashtangaanyways.com
SUMMARY:Joga regeneracyjna i techniki relaksacji
DESCRIPTION:Łagodna\, spokojna praktyka dostosowuje się do indywidualnych potrzeb i możliwości każdego uczestnika i jest idealna dla wszystkich poszukujących spowolnienia i relaksu\, niezależnie od poziomu zaawansowania\, kondycji fizycznej czy wieku. Podczas zajęć jogi regeneracyjnej będziemy poznawać wyciszające i równoważące techniki Pranayamy a także praktykować łagodną i medytacyjną Yin jogę\, kończąc praktyki asan długim relaksem z elementami jogi Nidry. \n\n\n\n>> WIĘCEJ SZCZEGÓŁÓW <<
URL:https://ashtangaanyways.com/grafik/joga-regeneracyjna-i-techniki-relaksacji-2/2029-09-23/
CATEGORIES:joga regeneracyjna,nidra joga,yin joga
END:VEVENT
BEGIN:VEVENT
DTSTART;TZID=Europe/Warsaw:20290930T180000
DTEND;TZID=Europe/Warsaw:20290930T190000
DTSTAMP:20260422T190220
CREATED:20250703T051838Z
LAST-MODIFIED:20250921T074333Z
UID:10002605-1885485600-1885489200@ashtangaanyways.com
SUMMARY:Joga regeneracyjna i techniki relaksacji
DESCRIPTION:Łagodna\, spokojna praktyka dostosowuje się do indywidualnych potrzeb i możliwości każdego uczestnika i jest idealna dla wszystkich poszukujących spowolnienia i relaksu\, niezależnie od poziomu zaawansowania\, kondycji fizycznej czy wieku. Podczas zajęć jogi regeneracyjnej będziemy poznawać wyciszające i równoważące techniki Pranayamy a także praktykować łagodną i medytacyjną Yin jogę\, kończąc praktyki asan długim relaksem z elementami jogi Nidry. \n\n\n\n>> WIĘCEJ SZCZEGÓŁÓW <<
URL:https://ashtangaanyways.com/grafik/joga-regeneracyjna-i-techniki-relaksacji-2/2029-09-30/
CATEGORIES:joga regeneracyjna,nidra joga,yin joga
END:VEVENT
BEGIN:VEVENT
DTSTART;TZID=Europe/Warsaw:20291007T180000
DTEND;TZID=Europe/Warsaw:20291007T190000
DTSTAMP:20260422T190220
CREATED:20250703T051838Z
LAST-MODIFIED:20250921T074333Z
UID:10002606-1886090400-1886094000@ashtangaanyways.com
SUMMARY:Joga regeneracyjna i techniki relaksacji
DESCRIPTION:Łagodna\, spokojna praktyka dostosowuje się do indywidualnych potrzeb i możliwości każdego uczestnika i jest idealna dla wszystkich poszukujących spowolnienia i relaksu\, niezależnie od poziomu zaawansowania\, kondycji fizycznej czy wieku. Podczas zajęć jogi regeneracyjnej będziemy poznawać wyciszające i równoważące techniki Pranayamy a także praktykować łagodną i medytacyjną Yin jogę\, kończąc praktyki asan długim relaksem z elementami jogi Nidry. \n\n\n\n>> WIĘCEJ SZCZEGÓŁÓW <<
URL:https://ashtangaanyways.com/grafik/joga-regeneracyjna-i-techniki-relaksacji-2/2029-10-07/
CATEGORIES:joga regeneracyjna,nidra joga,yin joga
END:VEVENT
BEGIN:VEVENT
DTSTART;TZID=Europe/Warsaw:20291014T180000
DTEND;TZID=Europe/Warsaw:20291014T190000
DTSTAMP:20260422T190220
CREATED:20250703T051838Z
LAST-MODIFIED:20250921T074333Z
UID:10002607-1886695200-1886698800@ashtangaanyways.com
SUMMARY:Joga regeneracyjna i techniki relaksacji
DESCRIPTION:Łagodna\, spokojna praktyka dostosowuje się do indywidualnych potrzeb i możliwości każdego uczestnika i jest idealna dla wszystkich poszukujących spowolnienia i relaksu\, niezależnie od poziomu zaawansowania\, kondycji fizycznej czy wieku. Podczas zajęć jogi regeneracyjnej będziemy poznawać wyciszające i równoważące techniki Pranayamy a także praktykować łagodną i medytacyjną Yin jogę\, kończąc praktyki asan długim relaksem z elementami jogi Nidry. \n\n\n\n>> WIĘCEJ SZCZEGÓŁÓW <<
URL:https://ashtangaanyways.com/grafik/joga-regeneracyjna-i-techniki-relaksacji-2/2029-10-14/
CATEGORIES:joga regeneracyjna,nidra joga,yin joga
END:VEVENT
BEGIN:VEVENT
DTSTART;TZID=Europe/Warsaw:20291021T180000
DTEND;TZID=Europe/Warsaw:20291021T190000
DTSTAMP:20260422T190220
CREATED:20250703T051838Z
LAST-MODIFIED:20250921T074333Z
UID:10002608-1887300000-1887303600@ashtangaanyways.com
SUMMARY:Joga regeneracyjna i techniki relaksacji
DESCRIPTION:Łagodna\, spokojna praktyka dostosowuje się do indywidualnych potrzeb i możliwości każdego uczestnika i jest idealna dla wszystkich poszukujących spowolnienia i relaksu\, niezależnie od poziomu zaawansowania\, kondycji fizycznej czy wieku. Podczas zajęć jogi regeneracyjnej będziemy poznawać wyciszające i równoważące techniki Pranayamy a także praktykować łagodną i medytacyjną Yin jogę\, kończąc praktyki asan długim relaksem z elementami jogi Nidry. \n\n\n\n>> WIĘCEJ SZCZEGÓŁÓW <<
URL:https://ashtangaanyways.com/grafik/joga-regeneracyjna-i-techniki-relaksacji-2/2029-10-21/
CATEGORIES:joga regeneracyjna,nidra joga,yin joga
END:VEVENT
BEGIN:VEVENT
DTSTART;TZID=Europe/Warsaw:20291028T180000
DTEND;TZID=Europe/Warsaw:20291028T190000
DTSTAMP:20260422T190220
CREATED:20250703T051838Z
LAST-MODIFIED:20250921T074333Z
UID:10002609-1887904800-1887908400@ashtangaanyways.com
SUMMARY:Joga regeneracyjna i techniki relaksacji
DESCRIPTION:Łagodna\, spokojna praktyka dostosowuje się do indywidualnych potrzeb i możliwości każdego uczestnika i jest idealna dla wszystkich poszukujących spowolnienia i relaksu\, niezależnie od poziomu zaawansowania\, kondycji fizycznej czy wieku. Podczas zajęć jogi regeneracyjnej będziemy poznawać wyciszające i równoważące techniki Pranayamy a także praktykować łagodną i medytacyjną Yin jogę\, kończąc praktyki asan długim relaksem z elementami jogi Nidry. \n\n\n\n>> WIĘCEJ SZCZEGÓŁÓW <<
URL:https://ashtangaanyways.com/grafik/joga-regeneracyjna-i-techniki-relaksacji-2/2029-10-28/
CATEGORIES:joga regeneracyjna,nidra joga,yin joga
END:VEVENT
BEGIN:VEVENT
DTSTART;TZID=Europe/Warsaw:20291104T180000
DTEND;TZID=Europe/Warsaw:20291104T190000
DTSTAMP:20260422T190220
CREATED:20250703T051838Z
LAST-MODIFIED:20250921T074333Z
UID:10002610-1888509600-1888513200@ashtangaanyways.com
SUMMARY:Joga regeneracyjna i techniki relaksacji
DESCRIPTION:Łagodna\, spokojna praktyka dostosowuje się do indywidualnych potrzeb i możliwości każdego uczestnika i jest idealna dla wszystkich poszukujących spowolnienia i relaksu\, niezależnie od poziomu zaawansowania\, kondycji fizycznej czy wieku. Podczas zajęć jogi regeneracyjnej będziemy poznawać wyciszające i równoważące techniki Pranayamy a także praktykować łagodną i medytacyjną Yin jogę\, kończąc praktyki asan długim relaksem z elementami jogi Nidry. \n\n\n\n>> WIĘCEJ SZCZEGÓŁÓW <<
URL:https://ashtangaanyways.com/grafik/joga-regeneracyjna-i-techniki-relaksacji-2/2029-11-04/
CATEGORIES:joga regeneracyjna,nidra joga,yin joga
END:VEVENT
BEGIN:VEVENT
DTSTART;TZID=Europe/Warsaw:20291111T180000
DTEND;TZID=Europe/Warsaw:20291111T190000
DTSTAMP:20260422T190220
CREATED:20250703T051838Z
LAST-MODIFIED:20250921T074333Z
UID:10002611-1889114400-1889118000@ashtangaanyways.com
SUMMARY:Joga regeneracyjna i techniki relaksacji
DESCRIPTION:Łagodna\, spokojna praktyka dostosowuje się do indywidualnych potrzeb i możliwości każdego uczestnika i jest idealna dla wszystkich poszukujących spowolnienia i relaksu\, niezależnie od poziomu zaawansowania\, kondycji fizycznej czy wieku. Podczas zajęć jogi regeneracyjnej będziemy poznawać wyciszające i równoważące techniki Pranayamy a także praktykować łagodną i medytacyjną Yin jogę\, kończąc praktyki asan długim relaksem z elementami jogi Nidry. \n\n\n\n>> WIĘCEJ SZCZEGÓŁÓW <<
URL:https://ashtangaanyways.com/grafik/joga-regeneracyjna-i-techniki-relaksacji-2/2029-11-11/
CATEGORIES:joga regeneracyjna,nidra joga,yin joga
END:VEVENT
END:VCALENDAR