BEGIN:VCALENDAR
VERSION:2.0
PRODID:-//Ashtanga Anyways - ECPv6.15.18//NONSGML v1.0//EN
CALSCALE:GREGORIAN
METHOD:PUBLISH
X-WR-CALNAME:Ashtanga Anyways
X-ORIGINAL-URL:https://ashtangaanyways.com
X-WR-CALDESC:Wydarzenia dla Ashtanga Anyways
REFRESH-INTERVAL;VALUE=DURATION:PT1H
X-Robots-Tag:noindex
X-PUBLISHED-TTL:PT1H
BEGIN:VTIMEZONE
TZID:Europe/Warsaw
BEGIN:DAYLIGHT
TZOFFSETFROM:+0100
TZOFFSETTO:+0200
TZNAME:CEST
DTSTART:20280326T010000
END:DAYLIGHT
BEGIN:STANDARD
TZOFFSETFROM:+0200
TZOFFSETTO:+0100
TZNAME:CET
DTSTART:20281029T010000
END:STANDARD
BEGIN:DAYLIGHT
TZOFFSETFROM:+0100
TZOFFSETTO:+0200
TZNAME:CEST
DTSTART:20290325T010000
END:DAYLIGHT
BEGIN:STANDARD
TZOFFSETFROM:+0200
TZOFFSETTO:+0100
TZNAME:CET
DTSTART:20291028T010000
END:STANDARD
BEGIN:DAYLIGHT
TZOFFSETFROM:+0100
TZOFFSETTO:+0200
TZNAME:CEST
DTSTART:20300331T010000
END:DAYLIGHT
BEGIN:STANDARD
TZOFFSETFROM:+0200
TZOFFSETTO:+0100
TZNAME:CET
DTSTART:20301027T010000
END:STANDARD
BEGIN:DAYLIGHT
TZOFFSETFROM:+0100
TZOFFSETTO:+0200
TZNAME:CEST
DTSTART:20310330T010000
END:DAYLIGHT
BEGIN:STANDARD
TZOFFSETFROM:+0200
TZOFFSETTO:+0100
TZNAME:CET
DTSTART:20311026T010000
END:STANDARD
END:VTIMEZONE
BEGIN:VEVENT
DTSTART;TZID=Europe/Warsaw:20291007T180000
DTEND;TZID=Europe/Warsaw:20291007T190000
DTSTAMP:20260422T223830
CREATED:20250703T051838Z
LAST-MODIFIED:20250921T074333Z
UID:10002606-1886090400-1886094000@ashtangaanyways.com
SUMMARY:Joga regeneracyjna i techniki relaksacji
DESCRIPTION:Łagodna\, spokojna praktyka dostosowuje się do indywidualnych potrzeb i możliwości każdego uczestnika i jest idealna dla wszystkich poszukujących spowolnienia i relaksu\, niezależnie od poziomu zaawansowania\, kondycji fizycznej czy wieku. Podczas zajęć jogi regeneracyjnej będziemy poznawać wyciszające i równoważące techniki Pranayamy a także praktykować łagodną i medytacyjną Yin jogę\, kończąc praktyki asan długim relaksem z elementami jogi Nidry. \n\n\n\n>> WIĘCEJ SZCZEGÓŁÓW <<
URL:https://ashtangaanyways.com/grafik/joga-regeneracyjna-i-techniki-relaksacji-2/2029-10-07/
CATEGORIES:joga regeneracyjna,nidra joga,yin joga
END:VEVENT
BEGIN:VEVENT
DTSTART;TZID=Europe/Warsaw:20291014T180000
DTEND;TZID=Europe/Warsaw:20291014T190000
DTSTAMP:20260422T223830
CREATED:20250703T051838Z
LAST-MODIFIED:20250921T074333Z
UID:10002607-1886695200-1886698800@ashtangaanyways.com
SUMMARY:Joga regeneracyjna i techniki relaksacji
DESCRIPTION:Łagodna\, spokojna praktyka dostosowuje się do indywidualnych potrzeb i możliwości każdego uczestnika i jest idealna dla wszystkich poszukujących spowolnienia i relaksu\, niezależnie od poziomu zaawansowania\, kondycji fizycznej czy wieku. Podczas zajęć jogi regeneracyjnej będziemy poznawać wyciszające i równoważące techniki Pranayamy a także praktykować łagodną i medytacyjną Yin jogę\, kończąc praktyki asan długim relaksem z elementami jogi Nidry. \n\n\n\n>> WIĘCEJ SZCZEGÓŁÓW <<
URL:https://ashtangaanyways.com/grafik/joga-regeneracyjna-i-techniki-relaksacji-2/2029-10-14/
CATEGORIES:joga regeneracyjna,nidra joga,yin joga
END:VEVENT
BEGIN:VEVENT
DTSTART;TZID=Europe/Warsaw:20291021T180000
DTEND;TZID=Europe/Warsaw:20291021T190000
DTSTAMP:20260422T223830
CREATED:20250703T051838Z
LAST-MODIFIED:20250921T074333Z
UID:10002608-1887300000-1887303600@ashtangaanyways.com
SUMMARY:Joga regeneracyjna i techniki relaksacji
DESCRIPTION:Łagodna\, spokojna praktyka dostosowuje się do indywidualnych potrzeb i możliwości każdego uczestnika i jest idealna dla wszystkich poszukujących spowolnienia i relaksu\, niezależnie od poziomu zaawansowania\, kondycji fizycznej czy wieku. Podczas zajęć jogi regeneracyjnej będziemy poznawać wyciszające i równoważące techniki Pranayamy a także praktykować łagodną i medytacyjną Yin jogę\, kończąc praktyki asan długim relaksem z elementami jogi Nidry. \n\n\n\n>> WIĘCEJ SZCZEGÓŁÓW <<
URL:https://ashtangaanyways.com/grafik/joga-regeneracyjna-i-techniki-relaksacji-2/2029-10-21/
CATEGORIES:joga regeneracyjna,nidra joga,yin joga
END:VEVENT
BEGIN:VEVENT
DTSTART;TZID=Europe/Warsaw:20291028T180000
DTEND;TZID=Europe/Warsaw:20291028T190000
DTSTAMP:20260422T223830
CREATED:20250703T051838Z
LAST-MODIFIED:20250921T074333Z
UID:10002609-1887904800-1887908400@ashtangaanyways.com
SUMMARY:Joga regeneracyjna i techniki relaksacji
DESCRIPTION:Łagodna\, spokojna praktyka dostosowuje się do indywidualnych potrzeb i możliwości każdego uczestnika i jest idealna dla wszystkich poszukujących spowolnienia i relaksu\, niezależnie od poziomu zaawansowania\, kondycji fizycznej czy wieku. Podczas zajęć jogi regeneracyjnej będziemy poznawać wyciszające i równoważące techniki Pranayamy a także praktykować łagodną i medytacyjną Yin jogę\, kończąc praktyki asan długim relaksem z elementami jogi Nidry. \n\n\n\n>> WIĘCEJ SZCZEGÓŁÓW <<
URL:https://ashtangaanyways.com/grafik/joga-regeneracyjna-i-techniki-relaksacji-2/2029-10-28/
CATEGORIES:joga regeneracyjna,nidra joga,yin joga
END:VEVENT
BEGIN:VEVENT
DTSTART;TZID=Europe/Warsaw:20291104T180000
DTEND;TZID=Europe/Warsaw:20291104T190000
DTSTAMP:20260422T223830
CREATED:20250703T051838Z
LAST-MODIFIED:20250921T074333Z
UID:10002610-1888509600-1888513200@ashtangaanyways.com
SUMMARY:Joga regeneracyjna i techniki relaksacji
DESCRIPTION:Łagodna\, spokojna praktyka dostosowuje się do indywidualnych potrzeb i możliwości każdego uczestnika i jest idealna dla wszystkich poszukujących spowolnienia i relaksu\, niezależnie od poziomu zaawansowania\, kondycji fizycznej czy wieku. Podczas zajęć jogi regeneracyjnej będziemy poznawać wyciszające i równoważące techniki Pranayamy a także praktykować łagodną i medytacyjną Yin jogę\, kończąc praktyki asan długim relaksem z elementami jogi Nidry. \n\n\n\n>> WIĘCEJ SZCZEGÓŁÓW <<
URL:https://ashtangaanyways.com/grafik/joga-regeneracyjna-i-techniki-relaksacji-2/2029-11-04/
CATEGORIES:joga regeneracyjna,nidra joga,yin joga
END:VEVENT
BEGIN:VEVENT
DTSTART;TZID=Europe/Warsaw:20291111T180000
DTEND;TZID=Europe/Warsaw:20291111T190000
DTSTAMP:20260422T223830
CREATED:20250703T051838Z
LAST-MODIFIED:20250921T074333Z
UID:10002611-1889114400-1889118000@ashtangaanyways.com
SUMMARY:Joga regeneracyjna i techniki relaksacji
DESCRIPTION:Łagodna\, spokojna praktyka dostosowuje się do indywidualnych potrzeb i możliwości każdego uczestnika i jest idealna dla wszystkich poszukujących spowolnienia i relaksu\, niezależnie od poziomu zaawansowania\, kondycji fizycznej czy wieku. Podczas zajęć jogi regeneracyjnej będziemy poznawać wyciszające i równoważące techniki Pranayamy a także praktykować łagodną i medytacyjną Yin jogę\, kończąc praktyki asan długim relaksem z elementami jogi Nidry. \n\n\n\n>> WIĘCEJ SZCZEGÓŁÓW <<
URL:https://ashtangaanyways.com/grafik/joga-regeneracyjna-i-techniki-relaksacji-2/2029-11-11/
CATEGORIES:joga regeneracyjna,nidra joga,yin joga
END:VEVENT
BEGIN:VEVENT
DTSTART;TZID=Europe/Warsaw:20291118T180000
DTEND;TZID=Europe/Warsaw:20291118T190000
DTSTAMP:20260422T223830
CREATED:20250703T051838Z
LAST-MODIFIED:20250921T074333Z
UID:10002612-1889719200-1889722800@ashtangaanyways.com
SUMMARY:Joga regeneracyjna i techniki relaksacji
DESCRIPTION:Łagodna\, spokojna praktyka dostosowuje się do indywidualnych potrzeb i możliwości każdego uczestnika i jest idealna dla wszystkich poszukujących spowolnienia i relaksu\, niezależnie od poziomu zaawansowania\, kondycji fizycznej czy wieku. Podczas zajęć jogi regeneracyjnej będziemy poznawać wyciszające i równoważące techniki Pranayamy a także praktykować łagodną i medytacyjną Yin jogę\, kończąc praktyki asan długim relaksem z elementami jogi Nidry. \n\n\n\n>> WIĘCEJ SZCZEGÓŁÓW <<
URL:https://ashtangaanyways.com/grafik/joga-regeneracyjna-i-techniki-relaksacji-2/2029-11-18/
CATEGORIES:joga regeneracyjna,nidra joga,yin joga
END:VEVENT
BEGIN:VEVENT
DTSTART;TZID=Europe/Warsaw:20291125T180000
DTEND;TZID=Europe/Warsaw:20291125T190000
DTSTAMP:20260422T223830
CREATED:20250703T051838Z
LAST-MODIFIED:20250921T074333Z
UID:10002613-1890324000-1890327600@ashtangaanyways.com
SUMMARY:Joga regeneracyjna i techniki relaksacji
DESCRIPTION:Łagodna\, spokojna praktyka dostosowuje się do indywidualnych potrzeb i możliwości każdego uczestnika i jest idealna dla wszystkich poszukujących spowolnienia i relaksu\, niezależnie od poziomu zaawansowania\, kondycji fizycznej czy wieku. Podczas zajęć jogi regeneracyjnej będziemy poznawać wyciszające i równoważące techniki Pranayamy a także praktykować łagodną i medytacyjną Yin jogę\, kończąc praktyki asan długim relaksem z elementami jogi Nidry. \n\n\n\n>> WIĘCEJ SZCZEGÓŁÓW <<
URL:https://ashtangaanyways.com/grafik/joga-regeneracyjna-i-techniki-relaksacji-2/2029-11-25/
CATEGORIES:joga regeneracyjna,nidra joga,yin joga
END:VEVENT
BEGIN:VEVENT
DTSTART;TZID=Europe/Warsaw:20291202T180000
DTEND;TZID=Europe/Warsaw:20291202T190000
DTSTAMP:20260422T223830
CREATED:20250703T051838Z
LAST-MODIFIED:20250921T074333Z
UID:10002614-1890928800-1890932400@ashtangaanyways.com
SUMMARY:Joga regeneracyjna i techniki relaksacji
DESCRIPTION:Łagodna\, spokojna praktyka dostosowuje się do indywidualnych potrzeb i możliwości każdego uczestnika i jest idealna dla wszystkich poszukujących spowolnienia i relaksu\, niezależnie od poziomu zaawansowania\, kondycji fizycznej czy wieku. Podczas zajęć jogi regeneracyjnej będziemy poznawać wyciszające i równoważące techniki Pranayamy a także praktykować łagodną i medytacyjną Yin jogę\, kończąc praktyki asan długim relaksem z elementami jogi Nidry. \n\n\n\n>> WIĘCEJ SZCZEGÓŁÓW <<
URL:https://ashtangaanyways.com/grafik/joga-regeneracyjna-i-techniki-relaksacji-2/2029-12-02/
CATEGORIES:joga regeneracyjna,nidra joga,yin joga
END:VEVENT
BEGIN:VEVENT
DTSTART;TZID=Europe/Warsaw:20291209T180000
DTEND;TZID=Europe/Warsaw:20291209T190000
DTSTAMP:20260422T223830
CREATED:20250703T051838Z
LAST-MODIFIED:20250921T074333Z
UID:10002615-1891533600-1891537200@ashtangaanyways.com
SUMMARY:Joga regeneracyjna i techniki relaksacji
DESCRIPTION:Łagodna\, spokojna praktyka dostosowuje się do indywidualnych potrzeb i możliwości każdego uczestnika i jest idealna dla wszystkich poszukujących spowolnienia i relaksu\, niezależnie od poziomu zaawansowania\, kondycji fizycznej czy wieku. Podczas zajęć jogi regeneracyjnej będziemy poznawać wyciszające i równoważące techniki Pranayamy a także praktykować łagodną i medytacyjną Yin jogę\, kończąc praktyki asan długim relaksem z elementami jogi Nidry. \n\n\n\n>> WIĘCEJ SZCZEGÓŁÓW <<
URL:https://ashtangaanyways.com/grafik/joga-regeneracyjna-i-techniki-relaksacji-2/2029-12-09/
CATEGORIES:joga regeneracyjna,nidra joga,yin joga
END:VEVENT
BEGIN:VEVENT
DTSTART;TZID=Europe/Warsaw:20291216T180000
DTEND;TZID=Europe/Warsaw:20291216T190000
DTSTAMP:20260422T223830
CREATED:20250703T051838Z
LAST-MODIFIED:20250921T074333Z
UID:10002616-1892138400-1892142000@ashtangaanyways.com
SUMMARY:Joga regeneracyjna i techniki relaksacji
DESCRIPTION:Łagodna\, spokojna praktyka dostosowuje się do indywidualnych potrzeb i możliwości każdego uczestnika i jest idealna dla wszystkich poszukujących spowolnienia i relaksu\, niezależnie od poziomu zaawansowania\, kondycji fizycznej czy wieku. Podczas zajęć jogi regeneracyjnej będziemy poznawać wyciszające i równoważące techniki Pranayamy a także praktykować łagodną i medytacyjną Yin jogę\, kończąc praktyki asan długim relaksem z elementami jogi Nidry. \n\n\n\n>> WIĘCEJ SZCZEGÓŁÓW <<
URL:https://ashtangaanyways.com/grafik/joga-regeneracyjna-i-techniki-relaksacji-2/2029-12-16/
CATEGORIES:joga regeneracyjna,nidra joga,yin joga
END:VEVENT
BEGIN:VEVENT
DTSTART;TZID=Europe/Warsaw:20291223T180000
DTEND;TZID=Europe/Warsaw:20291223T190000
DTSTAMP:20260422T223830
CREATED:20250703T051838Z
LAST-MODIFIED:20250921T074333Z
UID:10002617-1892743200-1892746800@ashtangaanyways.com
SUMMARY:Joga regeneracyjna i techniki relaksacji
DESCRIPTION:Łagodna\, spokojna praktyka dostosowuje się do indywidualnych potrzeb i możliwości każdego uczestnika i jest idealna dla wszystkich poszukujących spowolnienia i relaksu\, niezależnie od poziomu zaawansowania\, kondycji fizycznej czy wieku. Podczas zajęć jogi regeneracyjnej będziemy poznawać wyciszające i równoważące techniki Pranayamy a także praktykować łagodną i medytacyjną Yin jogę\, kończąc praktyki asan długim relaksem z elementami jogi Nidry. \n\n\n\n>> WIĘCEJ SZCZEGÓŁÓW <<
URL:https://ashtangaanyways.com/grafik/joga-regeneracyjna-i-techniki-relaksacji-2/2029-12-23/
CATEGORIES:joga regeneracyjna,nidra joga,yin joga
END:VEVENT
BEGIN:VEVENT
DTSTART;TZID=Europe/Warsaw:20291230T180000
DTEND;TZID=Europe/Warsaw:20291230T190000
DTSTAMP:20260422T223830
CREATED:20250703T051838Z
LAST-MODIFIED:20250921T074333Z
UID:10002618-1893348000-1893351600@ashtangaanyways.com
SUMMARY:Joga regeneracyjna i techniki relaksacji
DESCRIPTION:Łagodna\, spokojna praktyka dostosowuje się do indywidualnych potrzeb i możliwości każdego uczestnika i jest idealna dla wszystkich poszukujących spowolnienia i relaksu\, niezależnie od poziomu zaawansowania\, kondycji fizycznej czy wieku. Podczas zajęć jogi regeneracyjnej będziemy poznawać wyciszające i równoważące techniki Pranayamy a także praktykować łagodną i medytacyjną Yin jogę\, kończąc praktyki asan długim relaksem z elementami jogi Nidry. \n\n\n\n>> WIĘCEJ SZCZEGÓŁÓW <<
URL:https://ashtangaanyways.com/grafik/joga-regeneracyjna-i-techniki-relaksacji-2/2029-12-30/
CATEGORIES:joga regeneracyjna,nidra joga,yin joga
END:VEVENT
BEGIN:VEVENT
DTSTART;TZID=Europe/Warsaw:20300106T180000
DTEND;TZID=Europe/Warsaw:20300106T190000
DTSTAMP:20260422T223830
CREATED:20250703T051838Z
LAST-MODIFIED:20250921T074333Z
UID:10002619-1893952800-1893956400@ashtangaanyways.com
SUMMARY:Joga regeneracyjna i techniki relaksacji
DESCRIPTION:Łagodna\, spokojna praktyka dostosowuje się do indywidualnych potrzeb i możliwości każdego uczestnika i jest idealna dla wszystkich poszukujących spowolnienia i relaksu\, niezależnie od poziomu zaawansowania\, kondycji fizycznej czy wieku. Podczas zajęć jogi regeneracyjnej będziemy poznawać wyciszające i równoważące techniki Pranayamy a także praktykować łagodną i medytacyjną Yin jogę\, kończąc praktyki asan długim relaksem z elementami jogi Nidry. \n\n\n\n>> WIĘCEJ SZCZEGÓŁÓW <<
URL:https://ashtangaanyways.com/grafik/joga-regeneracyjna-i-techniki-relaksacji-2/2030-01-06/
CATEGORIES:joga regeneracyjna,nidra joga,yin joga
END:VEVENT
BEGIN:VEVENT
DTSTART;TZID=Europe/Warsaw:20300113T180000
DTEND;TZID=Europe/Warsaw:20300113T190000
DTSTAMP:20260422T223830
CREATED:20250703T051838Z
LAST-MODIFIED:20250921T074333Z
UID:10002620-1894557600-1894561200@ashtangaanyways.com
SUMMARY:Joga regeneracyjna i techniki relaksacji
DESCRIPTION:Łagodna\, spokojna praktyka dostosowuje się do indywidualnych potrzeb i możliwości każdego uczestnika i jest idealna dla wszystkich poszukujących spowolnienia i relaksu\, niezależnie od poziomu zaawansowania\, kondycji fizycznej czy wieku. Podczas zajęć jogi regeneracyjnej będziemy poznawać wyciszające i równoważące techniki Pranayamy a także praktykować łagodną i medytacyjną Yin jogę\, kończąc praktyki asan długim relaksem z elementami jogi Nidry. \n\n\n\n>> WIĘCEJ SZCZEGÓŁÓW <<
URL:https://ashtangaanyways.com/grafik/joga-regeneracyjna-i-techniki-relaksacji-2/2030-01-13/
CATEGORIES:joga regeneracyjna,nidra joga,yin joga
END:VEVENT
BEGIN:VEVENT
DTSTART;TZID=Europe/Warsaw:20300120T180000
DTEND;TZID=Europe/Warsaw:20300120T190000
DTSTAMP:20260422T223830
CREATED:20250703T051838Z
LAST-MODIFIED:20250921T074333Z
UID:10002621-1895162400-1895166000@ashtangaanyways.com
SUMMARY:Joga regeneracyjna i techniki relaksacji
DESCRIPTION:Łagodna\, spokojna praktyka dostosowuje się do indywidualnych potrzeb i możliwości każdego uczestnika i jest idealna dla wszystkich poszukujących spowolnienia i relaksu\, niezależnie od poziomu zaawansowania\, kondycji fizycznej czy wieku. Podczas zajęć jogi regeneracyjnej będziemy poznawać wyciszające i równoważące techniki Pranayamy a także praktykować łagodną i medytacyjną Yin jogę\, kończąc praktyki asan długim relaksem z elementami jogi Nidry. \n\n\n\n>> WIĘCEJ SZCZEGÓŁÓW <<
URL:https://ashtangaanyways.com/grafik/joga-regeneracyjna-i-techniki-relaksacji-2/2030-01-20/
CATEGORIES:joga regeneracyjna,nidra joga,yin joga
END:VEVENT
BEGIN:VEVENT
DTSTART;TZID=Europe/Warsaw:20300127T180000
DTEND;TZID=Europe/Warsaw:20300127T190000
DTSTAMP:20260422T223830
CREATED:20250703T051838Z
LAST-MODIFIED:20250921T074333Z
UID:10002622-1895767200-1895770800@ashtangaanyways.com
SUMMARY:Joga regeneracyjna i techniki relaksacji
DESCRIPTION:Łagodna\, spokojna praktyka dostosowuje się do indywidualnych potrzeb i możliwości każdego uczestnika i jest idealna dla wszystkich poszukujących spowolnienia i relaksu\, niezależnie od poziomu zaawansowania\, kondycji fizycznej czy wieku. Podczas zajęć jogi regeneracyjnej będziemy poznawać wyciszające i równoważące techniki Pranayamy a także praktykować łagodną i medytacyjną Yin jogę\, kończąc praktyki asan długim relaksem z elementami jogi Nidry. \n\n\n\n>> WIĘCEJ SZCZEGÓŁÓW <<
URL:https://ashtangaanyways.com/grafik/joga-regeneracyjna-i-techniki-relaksacji-2/2030-01-27/
CATEGORIES:joga regeneracyjna,nidra joga,yin joga
END:VEVENT
BEGIN:VEVENT
DTSTART;TZID=Europe/Warsaw:20300203T180000
DTEND;TZID=Europe/Warsaw:20300203T190000
DTSTAMP:20260422T223830
CREATED:20250703T051838Z
LAST-MODIFIED:20250921T074333Z
UID:10002623-1896372000-1896375600@ashtangaanyways.com
SUMMARY:Joga regeneracyjna i techniki relaksacji
DESCRIPTION:Łagodna\, spokojna praktyka dostosowuje się do indywidualnych potrzeb i możliwości każdego uczestnika i jest idealna dla wszystkich poszukujących spowolnienia i relaksu\, niezależnie od poziomu zaawansowania\, kondycji fizycznej czy wieku. Podczas zajęć jogi regeneracyjnej będziemy poznawać wyciszające i równoważące techniki Pranayamy a także praktykować łagodną i medytacyjną Yin jogę\, kończąc praktyki asan długim relaksem z elementami jogi Nidry. \n\n\n\n>> WIĘCEJ SZCZEGÓŁÓW <<
URL:https://ashtangaanyways.com/grafik/joga-regeneracyjna-i-techniki-relaksacji-2/2030-02-03/
CATEGORIES:joga regeneracyjna,nidra joga,yin joga
END:VEVENT
BEGIN:VEVENT
DTSTART;TZID=Europe/Warsaw:20300210T180000
DTEND;TZID=Europe/Warsaw:20300210T190000
DTSTAMP:20260422T223830
CREATED:20250703T051838Z
LAST-MODIFIED:20250921T074333Z
UID:10002624-1896976800-1896980400@ashtangaanyways.com
SUMMARY:Joga regeneracyjna i techniki relaksacji
DESCRIPTION:Łagodna\, spokojna praktyka dostosowuje się do indywidualnych potrzeb i możliwości każdego uczestnika i jest idealna dla wszystkich poszukujących spowolnienia i relaksu\, niezależnie od poziomu zaawansowania\, kondycji fizycznej czy wieku. Podczas zajęć jogi regeneracyjnej będziemy poznawać wyciszające i równoważące techniki Pranayamy a także praktykować łagodną i medytacyjną Yin jogę\, kończąc praktyki asan długim relaksem z elementami jogi Nidry. \n\n\n\n>> WIĘCEJ SZCZEGÓŁÓW <<
URL:https://ashtangaanyways.com/grafik/joga-regeneracyjna-i-techniki-relaksacji-2/2030-02-10/
CATEGORIES:joga regeneracyjna,nidra joga,yin joga
END:VEVENT
BEGIN:VEVENT
DTSTART;TZID=Europe/Warsaw:20300217T180000
DTEND;TZID=Europe/Warsaw:20300217T190000
DTSTAMP:20260422T223830
CREATED:20250703T051838Z
LAST-MODIFIED:20250921T074333Z
UID:10002625-1897581600-1897585200@ashtangaanyways.com
SUMMARY:Joga regeneracyjna i techniki relaksacji
DESCRIPTION:Łagodna\, spokojna praktyka dostosowuje się do indywidualnych potrzeb i możliwości każdego uczestnika i jest idealna dla wszystkich poszukujących spowolnienia i relaksu\, niezależnie od poziomu zaawansowania\, kondycji fizycznej czy wieku. Podczas zajęć jogi regeneracyjnej będziemy poznawać wyciszające i równoważące techniki Pranayamy a także praktykować łagodną i medytacyjną Yin jogę\, kończąc praktyki asan długim relaksem z elementami jogi Nidry. \n\n\n\n>> WIĘCEJ SZCZEGÓŁÓW <<
URL:https://ashtangaanyways.com/grafik/joga-regeneracyjna-i-techniki-relaksacji-2/2030-02-17/
CATEGORIES:joga regeneracyjna,nidra joga,yin joga
END:VEVENT
BEGIN:VEVENT
DTSTART;TZID=Europe/Warsaw:20300224T180000
DTEND;TZID=Europe/Warsaw:20300224T190000
DTSTAMP:20260422T223830
CREATED:20250703T051838Z
LAST-MODIFIED:20250921T074333Z
UID:10002626-1898186400-1898190000@ashtangaanyways.com
SUMMARY:Joga regeneracyjna i techniki relaksacji
DESCRIPTION:Łagodna\, spokojna praktyka dostosowuje się do indywidualnych potrzeb i możliwości każdego uczestnika i jest idealna dla wszystkich poszukujących spowolnienia i relaksu\, niezależnie od poziomu zaawansowania\, kondycji fizycznej czy wieku. Podczas zajęć jogi regeneracyjnej będziemy poznawać wyciszające i równoważące techniki Pranayamy a także praktykować łagodną i medytacyjną Yin jogę\, kończąc praktyki asan długim relaksem z elementami jogi Nidry. \n\n\n\n>> WIĘCEJ SZCZEGÓŁÓW <<
URL:https://ashtangaanyways.com/grafik/joga-regeneracyjna-i-techniki-relaksacji-2/2030-02-24/
CATEGORIES:joga regeneracyjna,nidra joga,yin joga
END:VEVENT
BEGIN:VEVENT
DTSTART;TZID=Europe/Warsaw:20300303T180000
DTEND;TZID=Europe/Warsaw:20300303T190000
DTSTAMP:20260422T223830
CREATED:20250703T051838Z
LAST-MODIFIED:20250921T074333Z
UID:10002627-1898791200-1898794800@ashtangaanyways.com
SUMMARY:Joga regeneracyjna i techniki relaksacji
DESCRIPTION:Łagodna\, spokojna praktyka dostosowuje się do indywidualnych potrzeb i możliwości każdego uczestnika i jest idealna dla wszystkich poszukujących spowolnienia i relaksu\, niezależnie od poziomu zaawansowania\, kondycji fizycznej czy wieku. Podczas zajęć jogi regeneracyjnej będziemy poznawać wyciszające i równoważące techniki Pranayamy a także praktykować łagodną i medytacyjną Yin jogę\, kończąc praktyki asan długim relaksem z elementami jogi Nidry. \n\n\n\n>> WIĘCEJ SZCZEGÓŁÓW <<
URL:https://ashtangaanyways.com/grafik/joga-regeneracyjna-i-techniki-relaksacji-2/2030-03-03/
CATEGORIES:joga regeneracyjna,nidra joga,yin joga
END:VEVENT
BEGIN:VEVENT
DTSTART;TZID=Europe/Warsaw:20300310T180000
DTEND;TZID=Europe/Warsaw:20300310T190000
DTSTAMP:20260422T223830
CREATED:20250703T051838Z
LAST-MODIFIED:20250921T074333Z
UID:10002628-1899396000-1899399600@ashtangaanyways.com
SUMMARY:Joga regeneracyjna i techniki relaksacji
DESCRIPTION:Łagodna\, spokojna praktyka dostosowuje się do indywidualnych potrzeb i możliwości każdego uczestnika i jest idealna dla wszystkich poszukujących spowolnienia i relaksu\, niezależnie od poziomu zaawansowania\, kondycji fizycznej czy wieku. Podczas zajęć jogi regeneracyjnej będziemy poznawać wyciszające i równoważące techniki Pranayamy a także praktykować łagodną i medytacyjną Yin jogę\, kończąc praktyki asan długim relaksem z elementami jogi Nidry. \n\n\n\n>> WIĘCEJ SZCZEGÓŁÓW <<
URL:https://ashtangaanyways.com/grafik/joga-regeneracyjna-i-techniki-relaksacji-2/2030-03-10/
CATEGORIES:joga regeneracyjna,nidra joga,yin joga
END:VEVENT
BEGIN:VEVENT
DTSTART;TZID=Europe/Warsaw:20300317T180000
DTEND;TZID=Europe/Warsaw:20300317T190000
DTSTAMP:20260422T223830
CREATED:20250703T051838Z
LAST-MODIFIED:20250921T074333Z
UID:10002629-1900000800-1900004400@ashtangaanyways.com
SUMMARY:Joga regeneracyjna i techniki relaksacji
DESCRIPTION:Łagodna\, spokojna praktyka dostosowuje się do indywidualnych potrzeb i możliwości każdego uczestnika i jest idealna dla wszystkich poszukujących spowolnienia i relaksu\, niezależnie od poziomu zaawansowania\, kondycji fizycznej czy wieku. Podczas zajęć jogi regeneracyjnej będziemy poznawać wyciszające i równoważące techniki Pranayamy a także praktykować łagodną i medytacyjną Yin jogę\, kończąc praktyki asan długim relaksem z elementami jogi Nidry. \n\n\n\n>> WIĘCEJ SZCZEGÓŁÓW <<
URL:https://ashtangaanyways.com/grafik/joga-regeneracyjna-i-techniki-relaksacji-2/2030-03-17/
CATEGORIES:joga regeneracyjna,nidra joga,yin joga
END:VEVENT
BEGIN:VEVENT
DTSTART;TZID=Europe/Warsaw:20300324T180000
DTEND;TZID=Europe/Warsaw:20300324T190000
DTSTAMP:20260422T223830
CREATED:20250703T051838Z
LAST-MODIFIED:20250921T074333Z
UID:10002630-1900605600-1900609200@ashtangaanyways.com
SUMMARY:Joga regeneracyjna i techniki relaksacji
DESCRIPTION:Łagodna\, spokojna praktyka dostosowuje się do indywidualnych potrzeb i możliwości każdego uczestnika i jest idealna dla wszystkich poszukujących spowolnienia i relaksu\, niezależnie od poziomu zaawansowania\, kondycji fizycznej czy wieku. Podczas zajęć jogi regeneracyjnej będziemy poznawać wyciszające i równoważące techniki Pranayamy a także praktykować łagodną i medytacyjną Yin jogę\, kończąc praktyki asan długim relaksem z elementami jogi Nidry. \n\n\n\n>> WIĘCEJ SZCZEGÓŁÓW <<
URL:https://ashtangaanyways.com/grafik/joga-regeneracyjna-i-techniki-relaksacji-2/2030-03-24/
CATEGORIES:joga regeneracyjna,nidra joga,yin joga
END:VEVENT
BEGIN:VEVENT
DTSTART;TZID=Europe/Warsaw:20300331T180000
DTEND;TZID=Europe/Warsaw:20300331T190000
DTSTAMP:20260422T223830
CREATED:20250703T051838Z
LAST-MODIFIED:20250921T074333Z
UID:10002631-1901210400-1901214000@ashtangaanyways.com
SUMMARY:Joga regeneracyjna i techniki relaksacji
DESCRIPTION:Łagodna\, spokojna praktyka dostosowuje się do indywidualnych potrzeb i możliwości każdego uczestnika i jest idealna dla wszystkich poszukujących spowolnienia i relaksu\, niezależnie od poziomu zaawansowania\, kondycji fizycznej czy wieku. Podczas zajęć jogi regeneracyjnej będziemy poznawać wyciszające i równoważące techniki Pranayamy a także praktykować łagodną i medytacyjną Yin jogę\, kończąc praktyki asan długim relaksem z elementami jogi Nidry. \n\n\n\n>> WIĘCEJ SZCZEGÓŁÓW <<
URL:https://ashtangaanyways.com/grafik/joga-regeneracyjna-i-techniki-relaksacji-2/2030-03-31/
CATEGORIES:joga regeneracyjna,nidra joga,yin joga
END:VEVENT
BEGIN:VEVENT
DTSTART;TZID=Europe/Warsaw:20300407T180000
DTEND;TZID=Europe/Warsaw:20300407T190000
DTSTAMP:20260422T223830
CREATED:20250703T051838Z
LAST-MODIFIED:20250921T074333Z
UID:10002632-1901815200-1901818800@ashtangaanyways.com
SUMMARY:Joga regeneracyjna i techniki relaksacji
DESCRIPTION:Łagodna\, spokojna praktyka dostosowuje się do indywidualnych potrzeb i możliwości każdego uczestnika i jest idealna dla wszystkich poszukujących spowolnienia i relaksu\, niezależnie od poziomu zaawansowania\, kondycji fizycznej czy wieku. Podczas zajęć jogi regeneracyjnej będziemy poznawać wyciszające i równoważące techniki Pranayamy a także praktykować łagodną i medytacyjną Yin jogę\, kończąc praktyki asan długim relaksem z elementami jogi Nidry. \n\n\n\n>> WIĘCEJ SZCZEGÓŁÓW <<
URL:https://ashtangaanyways.com/grafik/joga-regeneracyjna-i-techniki-relaksacji-2/2030-04-07/
CATEGORIES:joga regeneracyjna,nidra joga,yin joga
END:VEVENT
BEGIN:VEVENT
DTSTART;TZID=Europe/Warsaw:20300414T180000
DTEND;TZID=Europe/Warsaw:20300414T190000
DTSTAMP:20260422T223830
CREATED:20250703T051838Z
LAST-MODIFIED:20250921T074333Z
UID:10002633-1902420000-1902423600@ashtangaanyways.com
SUMMARY:Joga regeneracyjna i techniki relaksacji
DESCRIPTION:Łagodna\, spokojna praktyka dostosowuje się do indywidualnych potrzeb i możliwości każdego uczestnika i jest idealna dla wszystkich poszukujących spowolnienia i relaksu\, niezależnie od poziomu zaawansowania\, kondycji fizycznej czy wieku. Podczas zajęć jogi regeneracyjnej będziemy poznawać wyciszające i równoważące techniki Pranayamy a także praktykować łagodną i medytacyjną Yin jogę\, kończąc praktyki asan długim relaksem z elementami jogi Nidry. \n\n\n\n>> WIĘCEJ SZCZEGÓŁÓW <<
URL:https://ashtangaanyways.com/grafik/joga-regeneracyjna-i-techniki-relaksacji-2/2030-04-14/
CATEGORIES:joga regeneracyjna,nidra joga,yin joga
END:VEVENT
BEGIN:VEVENT
DTSTART;TZID=Europe/Warsaw:20300421T180000
DTEND;TZID=Europe/Warsaw:20300421T190000
DTSTAMP:20260422T223830
CREATED:20250703T051838Z
LAST-MODIFIED:20250921T074333Z
UID:10002634-1903024800-1903028400@ashtangaanyways.com
SUMMARY:Joga regeneracyjna i techniki relaksacji
DESCRIPTION:Łagodna\, spokojna praktyka dostosowuje się do indywidualnych potrzeb i możliwości każdego uczestnika i jest idealna dla wszystkich poszukujących spowolnienia i relaksu\, niezależnie od poziomu zaawansowania\, kondycji fizycznej czy wieku. Podczas zajęć jogi regeneracyjnej będziemy poznawać wyciszające i równoważące techniki Pranayamy a także praktykować łagodną i medytacyjną Yin jogę\, kończąc praktyki asan długim relaksem z elementami jogi Nidry. \n\n\n\n>> WIĘCEJ SZCZEGÓŁÓW <<
URL:https://ashtangaanyways.com/grafik/joga-regeneracyjna-i-techniki-relaksacji-2/2030-04-21/
CATEGORIES:joga regeneracyjna,nidra joga,yin joga
END:VEVENT
BEGIN:VEVENT
DTSTART;TZID=Europe/Warsaw:20300428T180000
DTEND;TZID=Europe/Warsaw:20300428T190000
DTSTAMP:20260422T223830
CREATED:20250703T051838Z
LAST-MODIFIED:20250921T074333Z
UID:10002635-1903629600-1903633200@ashtangaanyways.com
SUMMARY:Joga regeneracyjna i techniki relaksacji
DESCRIPTION:Łagodna\, spokojna praktyka dostosowuje się do indywidualnych potrzeb i możliwości każdego uczestnika i jest idealna dla wszystkich poszukujących spowolnienia i relaksu\, niezależnie od poziomu zaawansowania\, kondycji fizycznej czy wieku. Podczas zajęć jogi regeneracyjnej będziemy poznawać wyciszające i równoważące techniki Pranayamy a także praktykować łagodną i medytacyjną Yin jogę\, kończąc praktyki asan długim relaksem z elementami jogi Nidry. \n\n\n\n>> WIĘCEJ SZCZEGÓŁÓW <<
URL:https://ashtangaanyways.com/grafik/joga-regeneracyjna-i-techniki-relaksacji-2/2030-04-28/
CATEGORIES:joga regeneracyjna,nidra joga,yin joga
END:VEVENT
END:VCALENDAR