BEGIN:VCALENDAR
VERSION:2.0
PRODID:-//Ashtanga Anyways - ECPv6.15.18//NONSGML v1.0//EN
CALSCALE:GREGORIAN
METHOD:PUBLISH
X-ORIGINAL-URL:https://ashtangaanyways.com
X-WR-CALDESC:Wydarzenia dla Ashtanga Anyways
REFRESH-INTERVAL;VALUE=DURATION:PT1H
X-Robots-Tag:noindex
X-PUBLISHED-TTL:PT1H
BEGIN:VTIMEZONE
TZID:Europe/Warsaw
BEGIN:DAYLIGHT
TZOFFSETFROM:+0100
TZOFFSETTO:+0200
TZNAME:CEST
DTSTART:20280326T010000
END:DAYLIGHT
BEGIN:STANDARD
TZOFFSETFROM:+0200
TZOFFSETTO:+0100
TZNAME:CET
DTSTART:20281029T010000
END:STANDARD
BEGIN:DAYLIGHT
TZOFFSETFROM:+0100
TZOFFSETTO:+0200
TZNAME:CEST
DTSTART:20290325T010000
END:DAYLIGHT
BEGIN:STANDARD
TZOFFSETFROM:+0200
TZOFFSETTO:+0100
TZNAME:CET
DTSTART:20291028T010000
END:STANDARD
BEGIN:DAYLIGHT
TZOFFSETFROM:+0100
TZOFFSETTO:+0200
TZNAME:CEST
DTSTART:20300331T010000
END:DAYLIGHT
BEGIN:STANDARD
TZOFFSETFROM:+0200
TZOFFSETTO:+0100
TZNAME:CET
DTSTART:20301027T010000
END:STANDARD
BEGIN:DAYLIGHT
TZOFFSETFROM:+0100
TZOFFSETTO:+0200
TZNAME:CEST
DTSTART:20310330T010000
END:DAYLIGHT
BEGIN:STANDARD
TZOFFSETFROM:+0200
TZOFFSETTO:+0100
TZNAME:CET
DTSTART:20311026T010000
END:STANDARD
END:VTIMEZONE
BEGIN:VEVENT
DTSTART;TZID=Europe/Warsaw:20291010T173000
DTEND;TZID=Europe/Warsaw:20291010T190000
DTSTAMP:20260422T194709
CREATED:20260110T204055Z
LAST-MODIFIED:20260110T204056Z
UID:10003741-1886347800-1886353200@ashtangaanyways.com
SUMMARY:Pierwsza seria prowadzona
DESCRIPTION:Zajęcia odbywają się w każdą środę od 17:30 do 19:00 w Ashtanga Yoga Wrocław (ul. Trzebnicka 12/1\, 50-246 Wrocław).
URL:https://ashtangaanyways.com/grafik/pierwsza-seria-prowadzona-5/2029-10-10/
END:VEVENT
BEGIN:VEVENT
DTSTART;TZID=Europe/Warsaw:20291017T173000
DTEND;TZID=Europe/Warsaw:20291017T190000
DTSTAMP:20260422T194709
CREATED:20260110T204055Z
LAST-MODIFIED:20260110T204056Z
UID:10003742-1886952600-1886958000@ashtangaanyways.com
SUMMARY:Pierwsza seria prowadzona
DESCRIPTION:Zajęcia odbywają się w każdą środę od 17:30 do 19:00 w Ashtanga Yoga Wrocław (ul. Trzebnicka 12/1\, 50-246 Wrocław).
URL:https://ashtangaanyways.com/grafik/pierwsza-seria-prowadzona-5/2029-10-17/
END:VEVENT
BEGIN:VEVENT
DTSTART;TZID=Europe/Warsaw:20291024T173000
DTEND;TZID=Europe/Warsaw:20291024T190000
DTSTAMP:20260422T194709
CREATED:20260110T204055Z
LAST-MODIFIED:20260110T204056Z
UID:10003743-1887557400-1887562800@ashtangaanyways.com
SUMMARY:Pierwsza seria prowadzona
DESCRIPTION:Zajęcia odbywają się w każdą środę od 17:30 do 19:00 w Ashtanga Yoga Wrocław (ul. Trzebnicka 12/1\, 50-246 Wrocław).
URL:https://ashtangaanyways.com/grafik/pierwsza-seria-prowadzona-5/2029-10-24/
END:VEVENT
BEGIN:VEVENT
DTSTART;TZID=Europe/Warsaw:20291031T173000
DTEND;TZID=Europe/Warsaw:20291031T190000
DTSTAMP:20260422T194709
CREATED:20260110T204055Z
LAST-MODIFIED:20260110T204056Z
UID:10003744-1888162200-1888167600@ashtangaanyways.com
SUMMARY:Pierwsza seria prowadzona
DESCRIPTION:Zajęcia odbywają się w każdą środę od 17:30 do 19:00 w Ashtanga Yoga Wrocław (ul. Trzebnicka 12/1\, 50-246 Wrocław).
URL:https://ashtangaanyways.com/grafik/pierwsza-seria-prowadzona-5/2029-10-31/
END:VEVENT
BEGIN:VEVENT
DTSTART;TZID=Europe/Warsaw:20291107T173000
DTEND;TZID=Europe/Warsaw:20291107T190000
DTSTAMP:20260422T194709
CREATED:20260110T204055Z
LAST-MODIFIED:20260110T204056Z
UID:10003745-1888767000-1888772400@ashtangaanyways.com
SUMMARY:Pierwsza seria prowadzona
DESCRIPTION:Zajęcia odbywają się w każdą środę od 17:30 do 19:00 w Ashtanga Yoga Wrocław (ul. Trzebnicka 12/1\, 50-246 Wrocław).
URL:https://ashtangaanyways.com/grafik/pierwsza-seria-prowadzona-5/2029-11-07/
END:VEVENT
BEGIN:VEVENT
DTSTART;TZID=Europe/Warsaw:20291114T173000
DTEND;TZID=Europe/Warsaw:20291114T190000
DTSTAMP:20260422T194709
CREATED:20260110T204055Z
LAST-MODIFIED:20260110T204056Z
UID:10003746-1889371800-1889377200@ashtangaanyways.com
SUMMARY:Pierwsza seria prowadzona
DESCRIPTION:Zajęcia odbywają się w każdą środę od 17:30 do 19:00 w Ashtanga Yoga Wrocław (ul. Trzebnicka 12/1\, 50-246 Wrocław).
URL:https://ashtangaanyways.com/grafik/pierwsza-seria-prowadzona-5/2029-11-14/
END:VEVENT
BEGIN:VEVENT
DTSTART;TZID=Europe/Warsaw:20291121T173000
DTEND;TZID=Europe/Warsaw:20291121T190000
DTSTAMP:20260422T194709
CREATED:20260110T204055Z
LAST-MODIFIED:20260110T204056Z
UID:10003747-1889976600-1889982000@ashtangaanyways.com
SUMMARY:Pierwsza seria prowadzona
DESCRIPTION:Zajęcia odbywają się w każdą środę od 17:30 do 19:00 w Ashtanga Yoga Wrocław (ul. Trzebnicka 12/1\, 50-246 Wrocław).
URL:https://ashtangaanyways.com/grafik/pierwsza-seria-prowadzona-5/2029-11-21/
END:VEVENT
BEGIN:VEVENT
DTSTART;TZID=Europe/Warsaw:20291128T173000
DTEND;TZID=Europe/Warsaw:20291128T190000
DTSTAMP:20260422T194709
CREATED:20260110T204055Z
LAST-MODIFIED:20260110T204056Z
UID:10003748-1890581400-1890586800@ashtangaanyways.com
SUMMARY:Pierwsza seria prowadzona
DESCRIPTION:Zajęcia odbywają się w każdą środę od 17:30 do 19:00 w Ashtanga Yoga Wrocław (ul. Trzebnicka 12/1\, 50-246 Wrocław).
URL:https://ashtangaanyways.com/grafik/pierwsza-seria-prowadzona-5/2029-11-28/
END:VEVENT
BEGIN:VEVENT
DTSTART;TZID=Europe/Warsaw:20291205T173000
DTEND;TZID=Europe/Warsaw:20291205T190000
DTSTAMP:20260422T194709
CREATED:20260110T204055Z
LAST-MODIFIED:20260110T204056Z
UID:10003749-1891186200-1891191600@ashtangaanyways.com
SUMMARY:Pierwsza seria prowadzona
DESCRIPTION:Zajęcia odbywają się w każdą środę od 17:30 do 19:00 w Ashtanga Yoga Wrocław (ul. Trzebnicka 12/1\, 50-246 Wrocław).
URL:https://ashtangaanyways.com/grafik/pierwsza-seria-prowadzona-5/2029-12-05/
END:VEVENT
BEGIN:VEVENT
DTSTART;TZID=Europe/Warsaw:20291212T173000
DTEND;TZID=Europe/Warsaw:20291212T190000
DTSTAMP:20260422T194709
CREATED:20260110T204055Z
LAST-MODIFIED:20260110T204056Z
UID:10003750-1891791000-1891796400@ashtangaanyways.com
SUMMARY:Pierwsza seria prowadzona
DESCRIPTION:Zajęcia odbywają się w każdą środę od 17:30 do 19:00 w Ashtanga Yoga Wrocław (ul. Trzebnicka 12/1\, 50-246 Wrocław).
URL:https://ashtangaanyways.com/grafik/pierwsza-seria-prowadzona-5/2029-12-12/
END:VEVENT
BEGIN:VEVENT
DTSTART;TZID=Europe/Warsaw:20291219T173000
DTEND;TZID=Europe/Warsaw:20291219T190000
DTSTAMP:20260422T194709
CREATED:20260110T204055Z
LAST-MODIFIED:20260110T204056Z
UID:10003751-1892395800-1892401200@ashtangaanyways.com
SUMMARY:Pierwsza seria prowadzona
DESCRIPTION:Zajęcia odbywają się w każdą środę od 17:30 do 19:00 w Ashtanga Yoga Wrocław (ul. Trzebnicka 12/1\, 50-246 Wrocław).
URL:https://ashtangaanyways.com/grafik/pierwsza-seria-prowadzona-5/2029-12-19/
END:VEVENT
BEGIN:VEVENT
DTSTART;TZID=Europe/Warsaw:20291226T173000
DTEND;TZID=Europe/Warsaw:20291226T190000
DTSTAMP:20260422T194709
CREATED:20260110T204055Z
LAST-MODIFIED:20260110T204056Z
UID:10003752-1893000600-1893006000@ashtangaanyways.com
SUMMARY:Pierwsza seria prowadzona
DESCRIPTION:Zajęcia odbywają się w każdą środę od 17:30 do 19:00 w Ashtanga Yoga Wrocław (ul. Trzebnicka 12/1\, 50-246 Wrocław).
URL:https://ashtangaanyways.com/grafik/pierwsza-seria-prowadzona-5/2029-12-26/
END:VEVENT
BEGIN:VEVENT
DTSTART;TZID=Europe/Warsaw:20300102T173000
DTEND;TZID=Europe/Warsaw:20300102T190000
DTSTAMP:20260422T194709
CREATED:20260110T204055Z
LAST-MODIFIED:20260110T204056Z
UID:10003753-1893605400-1893610800@ashtangaanyways.com
SUMMARY:Pierwsza seria prowadzona
DESCRIPTION:Zajęcia odbywają się w każdą środę od 17:30 do 19:00 w Ashtanga Yoga Wrocław (ul. Trzebnicka 12/1\, 50-246 Wrocław).
URL:https://ashtangaanyways.com/grafik/pierwsza-seria-prowadzona-5/2030-01-02/
END:VEVENT
BEGIN:VEVENT
DTSTART;TZID=Europe/Warsaw:20300109T173000
DTEND;TZID=Europe/Warsaw:20300109T190000
DTSTAMP:20260422T194709
CREATED:20260110T204055Z
LAST-MODIFIED:20260110T204056Z
UID:10003754-1894210200-1894215600@ashtangaanyways.com
SUMMARY:Pierwsza seria prowadzona
DESCRIPTION:Zajęcia odbywają się w każdą środę od 17:30 do 19:00 w Ashtanga Yoga Wrocław (ul. Trzebnicka 12/1\, 50-246 Wrocław).
URL:https://ashtangaanyways.com/grafik/pierwsza-seria-prowadzona-5/2030-01-09/
END:VEVENT
BEGIN:VEVENT
DTSTART;TZID=Europe/Warsaw:20300116T173000
DTEND;TZID=Europe/Warsaw:20300116T190000
DTSTAMP:20260422T194709
CREATED:20260110T204055Z
LAST-MODIFIED:20260110T204056Z
UID:10003755-1894815000-1894820400@ashtangaanyways.com
SUMMARY:Pierwsza seria prowadzona
DESCRIPTION:Zajęcia odbywają się w każdą środę od 17:30 do 19:00 w Ashtanga Yoga Wrocław (ul. Trzebnicka 12/1\, 50-246 Wrocław).
URL:https://ashtangaanyways.com/grafik/pierwsza-seria-prowadzona-5/2030-01-16/
END:VEVENT
BEGIN:VEVENT
DTSTART;TZID=Europe/Warsaw:20300123T173000
DTEND;TZID=Europe/Warsaw:20300123T190000
DTSTAMP:20260422T194709
CREATED:20260110T204055Z
LAST-MODIFIED:20260110T204056Z
UID:10003756-1895419800-1895425200@ashtangaanyways.com
SUMMARY:Pierwsza seria prowadzona
DESCRIPTION:Zajęcia odbywają się w każdą środę od 17:30 do 19:00 w Ashtanga Yoga Wrocław (ul. Trzebnicka 12/1\, 50-246 Wrocław).
URL:https://ashtangaanyways.com/grafik/pierwsza-seria-prowadzona-5/2030-01-23/
END:VEVENT
BEGIN:VEVENT
DTSTART;TZID=Europe/Warsaw:20300130T173000
DTEND;TZID=Europe/Warsaw:20300130T190000
DTSTAMP:20260422T194709
CREATED:20260110T204055Z
LAST-MODIFIED:20260110T204056Z
UID:10003757-1896024600-1896030000@ashtangaanyways.com
SUMMARY:Pierwsza seria prowadzona
DESCRIPTION:Zajęcia odbywają się w każdą środę od 17:30 do 19:00 w Ashtanga Yoga Wrocław (ul. Trzebnicka 12/1\, 50-246 Wrocław).
URL:https://ashtangaanyways.com/grafik/pierwsza-seria-prowadzona-5/2030-01-30/
END:VEVENT
BEGIN:VEVENT
DTSTART;TZID=Europe/Warsaw:20300206T173000
DTEND;TZID=Europe/Warsaw:20300206T190000
DTSTAMP:20260422T194709
CREATED:20260110T204055Z
LAST-MODIFIED:20260110T204056Z
UID:10003758-1896629400-1896634800@ashtangaanyways.com
SUMMARY:Pierwsza seria prowadzona
DESCRIPTION:Zajęcia odbywają się w każdą środę od 17:30 do 19:00 w Ashtanga Yoga Wrocław (ul. Trzebnicka 12/1\, 50-246 Wrocław).
URL:https://ashtangaanyways.com/grafik/pierwsza-seria-prowadzona-5/2030-02-06/
END:VEVENT
BEGIN:VEVENT
DTSTART;TZID=Europe/Warsaw:20300213T173000
DTEND;TZID=Europe/Warsaw:20300213T190000
DTSTAMP:20260422T194709
CREATED:20260110T204055Z
LAST-MODIFIED:20260110T204056Z
UID:10003759-1897234200-1897239600@ashtangaanyways.com
SUMMARY:Pierwsza seria prowadzona
DESCRIPTION:Zajęcia odbywają się w każdą środę od 17:30 do 19:00 w Ashtanga Yoga Wrocław (ul. Trzebnicka 12/1\, 50-246 Wrocław).
URL:https://ashtangaanyways.com/grafik/pierwsza-seria-prowadzona-5/2030-02-13/
END:VEVENT
BEGIN:VEVENT
DTSTART;TZID=Europe/Warsaw:20300220T173000
DTEND;TZID=Europe/Warsaw:20300220T190000
DTSTAMP:20260422T194709
CREATED:20260110T204055Z
LAST-MODIFIED:20260110T204056Z
UID:10003760-1897839000-1897844400@ashtangaanyways.com
SUMMARY:Pierwsza seria prowadzona
DESCRIPTION:Zajęcia odbywają się w każdą środę od 17:30 do 19:00 w Ashtanga Yoga Wrocław (ul. Trzebnicka 12/1\, 50-246 Wrocław).
URL:https://ashtangaanyways.com/grafik/pierwsza-seria-prowadzona-5/2030-02-20/
END:VEVENT
BEGIN:VEVENT
DTSTART;TZID=Europe/Warsaw:20300227T173000
DTEND;TZID=Europe/Warsaw:20300227T190000
DTSTAMP:20260422T194709
CREATED:20260110T204055Z
LAST-MODIFIED:20260110T204056Z
UID:10003761-1898443800-1898449200@ashtangaanyways.com
SUMMARY:Pierwsza seria prowadzona
DESCRIPTION:Zajęcia odbywają się w każdą środę od 17:30 do 19:00 w Ashtanga Yoga Wrocław (ul. Trzebnicka 12/1\, 50-246 Wrocław).
URL:https://ashtangaanyways.com/grafik/pierwsza-seria-prowadzona-5/2030-02-27/
END:VEVENT
BEGIN:VEVENT
DTSTART;TZID=Europe/Warsaw:20300306T173000
DTEND;TZID=Europe/Warsaw:20300306T190000
DTSTAMP:20260422T194709
CREATED:20260110T204055Z
LAST-MODIFIED:20260110T204056Z
UID:10003762-1899048600-1899054000@ashtangaanyways.com
SUMMARY:Pierwsza seria prowadzona
DESCRIPTION:Zajęcia odbywają się w każdą środę od 17:30 do 19:00 w Ashtanga Yoga Wrocław (ul. Trzebnicka 12/1\, 50-246 Wrocław).
URL:https://ashtangaanyways.com/grafik/pierwsza-seria-prowadzona-5/2030-03-06/
END:VEVENT
BEGIN:VEVENT
DTSTART;TZID=Europe/Warsaw:20300313T173000
DTEND;TZID=Europe/Warsaw:20300313T190000
DTSTAMP:20260422T194709
CREATED:20260110T204055Z
LAST-MODIFIED:20260110T204056Z
UID:10003763-1899653400-1899658800@ashtangaanyways.com
SUMMARY:Pierwsza seria prowadzona
DESCRIPTION:Zajęcia odbywają się w każdą środę od 17:30 do 19:00 w Ashtanga Yoga Wrocław (ul. Trzebnicka 12/1\, 50-246 Wrocław).
URL:https://ashtangaanyways.com/grafik/pierwsza-seria-prowadzona-5/2030-03-13/
END:VEVENT
BEGIN:VEVENT
DTSTART;TZID=Europe/Warsaw:20300320T173000
DTEND;TZID=Europe/Warsaw:20300320T190000
DTSTAMP:20260422T194709
CREATED:20260110T204055Z
LAST-MODIFIED:20260110T204056Z
UID:10003764-1900258200-1900263600@ashtangaanyways.com
SUMMARY:Pierwsza seria prowadzona
DESCRIPTION:Zajęcia odbywają się w każdą środę od 17:30 do 19:00 w Ashtanga Yoga Wrocław (ul. Trzebnicka 12/1\, 50-246 Wrocław).
URL:https://ashtangaanyways.com/grafik/pierwsza-seria-prowadzona-5/2030-03-20/
END:VEVENT
BEGIN:VEVENT
DTSTART;TZID=Europe/Warsaw:20300327T173000
DTEND;TZID=Europe/Warsaw:20300327T190000
DTSTAMP:20260422T194709
CREATED:20260110T204055Z
LAST-MODIFIED:20260110T204056Z
UID:10003765-1900863000-1900868400@ashtangaanyways.com
SUMMARY:Pierwsza seria prowadzona
DESCRIPTION:Zajęcia odbywają się w każdą środę od 17:30 do 19:00 w Ashtanga Yoga Wrocław (ul. Trzebnicka 12/1\, 50-246 Wrocław).
URL:https://ashtangaanyways.com/grafik/pierwsza-seria-prowadzona-5/2030-03-27/
END:VEVENT
BEGIN:VEVENT
DTSTART;TZID=Europe/Warsaw:20300403T173000
DTEND;TZID=Europe/Warsaw:20300403T190000
DTSTAMP:20260422T194709
CREATED:20260110T204055Z
LAST-MODIFIED:20260110T204056Z
UID:10003766-1901467800-1901473200@ashtangaanyways.com
SUMMARY:Pierwsza seria prowadzona
DESCRIPTION:Zajęcia odbywają się w każdą środę od 17:30 do 19:00 w Ashtanga Yoga Wrocław (ul. Trzebnicka 12/1\, 50-246 Wrocław).
URL:https://ashtangaanyways.com/grafik/pierwsza-seria-prowadzona-5/2030-04-03/
END:VEVENT
BEGIN:VEVENT
DTSTART;TZID=Europe/Warsaw:20300410T173000
DTEND;TZID=Europe/Warsaw:20300410T190000
DTSTAMP:20260422T194709
CREATED:20260110T204055Z
LAST-MODIFIED:20260110T204056Z
UID:10003767-1902072600-1902078000@ashtangaanyways.com
SUMMARY:Pierwsza seria prowadzona
DESCRIPTION:Zajęcia odbywają się w każdą środę od 17:30 do 19:00 w Ashtanga Yoga Wrocław (ul. Trzebnicka 12/1\, 50-246 Wrocław).
URL:https://ashtangaanyways.com/grafik/pierwsza-seria-prowadzona-5/2030-04-10/
END:VEVENT
BEGIN:VEVENT
DTSTART;TZID=Europe/Warsaw:20300417T173000
DTEND;TZID=Europe/Warsaw:20300417T190000
DTSTAMP:20260422T194709
CREATED:20260110T204055Z
LAST-MODIFIED:20260110T204056Z
UID:10003768-1902677400-1902682800@ashtangaanyways.com
SUMMARY:Pierwsza seria prowadzona
DESCRIPTION:Zajęcia odbywają się w każdą środę od 17:30 do 19:00 w Ashtanga Yoga Wrocław (ul. Trzebnicka 12/1\, 50-246 Wrocław).
URL:https://ashtangaanyways.com/grafik/pierwsza-seria-prowadzona-5/2030-04-17/
END:VEVENT
BEGIN:VEVENT
DTSTART;TZID=Europe/Warsaw:20300424T173000
DTEND;TZID=Europe/Warsaw:20300424T190000
DTSTAMP:20260422T194709
CREATED:20260110T204055Z
LAST-MODIFIED:20260110T204056Z
UID:10003769-1903282200-1903287600@ashtangaanyways.com
SUMMARY:Pierwsza seria prowadzona
DESCRIPTION:Zajęcia odbywają się w każdą środę od 17:30 do 19:00 w Ashtanga Yoga Wrocław (ul. Trzebnicka 12/1\, 50-246 Wrocław).
URL:https://ashtangaanyways.com/grafik/pierwsza-seria-prowadzona-5/2030-04-24/
END:VEVENT
BEGIN:VEVENT
DTSTART;TZID=Europe/Warsaw:20300501T173000
DTEND;TZID=Europe/Warsaw:20300501T190000
DTSTAMP:20260422T194709
CREATED:20260110T204055Z
LAST-MODIFIED:20260110T204056Z
UID:10003770-1903887000-1903892400@ashtangaanyways.com
SUMMARY:Pierwsza seria prowadzona
DESCRIPTION:Zajęcia odbywają się w każdą środę od 17:30 do 19:00 w Ashtanga Yoga Wrocław (ul. Trzebnicka 12/1\, 50-246 Wrocław).
URL:https://ashtangaanyways.com/grafik/pierwsza-seria-prowadzona-5/2030-05-01/
END:VEVENT
END:VCALENDAR