BEGIN:VCALENDAR
VERSION:2.0
PRODID:-//Ashtanga Anyways - ECPv6.15.18//NONSGML v1.0//EN
CALSCALE:GREGORIAN
METHOD:PUBLISH
X-ORIGINAL-URL:https://ashtangaanyways.com
X-WR-CALDESC:Wydarzenia dla Ashtanga Anyways
REFRESH-INTERVAL;VALUE=DURATION:PT1H
X-Robots-Tag:noindex
X-PUBLISHED-TTL:PT1H
BEGIN:VTIMEZONE
TZID:Europe/Warsaw
BEGIN:DAYLIGHT
TZOFFSETFROM:+0100
TZOFFSETTO:+0200
TZNAME:CEST
DTSTART:20290325T010000
END:DAYLIGHT
BEGIN:STANDARD
TZOFFSETFROM:+0200
TZOFFSETTO:+0100
TZNAME:CET
DTSTART:20291028T010000
END:STANDARD
BEGIN:DAYLIGHT
TZOFFSETFROM:+0100
TZOFFSETTO:+0200
TZNAME:CEST
DTSTART:20300331T010000
END:DAYLIGHT
BEGIN:STANDARD
TZOFFSETFROM:+0200
TZOFFSETTO:+0100
TZNAME:CET
DTSTART:20301027T010000
END:STANDARD
BEGIN:DAYLIGHT
TZOFFSETFROM:+0100
TZOFFSETTO:+0200
TZNAME:CEST
DTSTART:20310330T010000
END:DAYLIGHT
BEGIN:STANDARD
TZOFFSETFROM:+0200
TZOFFSETTO:+0100
TZNAME:CET
DTSTART:20311026T010000
END:STANDARD
END:VTIMEZONE
BEGIN:VEVENT
DTSTART;TZID=Europe/Warsaw:20300101T170000
DTEND;TZID=Europe/Warsaw:20300101T183000
DTSTAMP:20260422T210228
CREATED:20251228T102742Z
LAST-MODIFIED:20251228T102744Z
UID:10003490-1893517200-1893522600@ashtangaanyways.com
SUMMARY:Mysore
DESCRIPTION:Zajęcia odbywają się w każdy wtorek o 17:00-18:30 w Ashtanga Yoga Wrocław (ul. Trzebnicka 12/1\, 50-246 Wrocław). \n\n\n\n>> WIĘCEJ SZCZEGÓŁÓW <<
URL:https://ashtangaanyways.com/grafik/mysore-10/2030-01-01/
CATEGORIES:ashtanga joga,mysore,praktyka
END:VEVENT
BEGIN:VEVENT
DTSTART;TZID=Europe/Warsaw:20300108T170000
DTEND;TZID=Europe/Warsaw:20300108T183000
DTSTAMP:20260422T210228
CREATED:20251228T102742Z
LAST-MODIFIED:20251228T102744Z
UID:10003491-1894122000-1894127400@ashtangaanyways.com
SUMMARY:Mysore
DESCRIPTION:Zajęcia odbywają się w każdy wtorek o 17:00-18:30 w Ashtanga Yoga Wrocław (ul. Trzebnicka 12/1\, 50-246 Wrocław). \n\n\n\n>> WIĘCEJ SZCZEGÓŁÓW <<
URL:https://ashtangaanyways.com/grafik/mysore-10/2030-01-08/
CATEGORIES:ashtanga joga,mysore,praktyka
END:VEVENT
BEGIN:VEVENT
DTSTART;TZID=Europe/Warsaw:20300115T170000
DTEND;TZID=Europe/Warsaw:20300115T183000
DTSTAMP:20260422T210228
CREATED:20251228T102742Z
LAST-MODIFIED:20251228T102744Z
UID:10003492-1894726800-1894732200@ashtangaanyways.com
SUMMARY:Mysore
DESCRIPTION:Zajęcia odbywają się w każdy wtorek o 17:00-18:30 w Ashtanga Yoga Wrocław (ul. Trzebnicka 12/1\, 50-246 Wrocław). \n\n\n\n>> WIĘCEJ SZCZEGÓŁÓW <<
URL:https://ashtangaanyways.com/grafik/mysore-10/2030-01-15/
CATEGORIES:ashtanga joga,mysore,praktyka
END:VEVENT
BEGIN:VEVENT
DTSTART;TZID=Europe/Warsaw:20300122T170000
DTEND;TZID=Europe/Warsaw:20300122T183000
DTSTAMP:20260422T210228
CREATED:20251228T102742Z
LAST-MODIFIED:20251228T102744Z
UID:10003493-1895331600-1895337000@ashtangaanyways.com
SUMMARY:Mysore
DESCRIPTION:Zajęcia odbywają się w każdy wtorek o 17:00-18:30 w Ashtanga Yoga Wrocław (ul. Trzebnicka 12/1\, 50-246 Wrocław). \n\n\n\n>> WIĘCEJ SZCZEGÓŁÓW <<
URL:https://ashtangaanyways.com/grafik/mysore-10/2030-01-22/
CATEGORIES:ashtanga joga,mysore,praktyka
END:VEVENT
BEGIN:VEVENT
DTSTART;TZID=Europe/Warsaw:20300129T170000
DTEND;TZID=Europe/Warsaw:20300129T183000
DTSTAMP:20260422T210228
CREATED:20251228T102742Z
LAST-MODIFIED:20251228T102744Z
UID:10003494-1895936400-1895941800@ashtangaanyways.com
SUMMARY:Mysore
DESCRIPTION:Zajęcia odbywają się w każdy wtorek o 17:00-18:30 w Ashtanga Yoga Wrocław (ul. Trzebnicka 12/1\, 50-246 Wrocław). \n\n\n\n>> WIĘCEJ SZCZEGÓŁÓW <<
URL:https://ashtangaanyways.com/grafik/mysore-10/2030-01-29/
CATEGORIES:ashtanga joga,mysore,praktyka
END:VEVENT
BEGIN:VEVENT
DTSTART;TZID=Europe/Warsaw:20300205T170000
DTEND;TZID=Europe/Warsaw:20300205T183000
DTSTAMP:20260422T210228
CREATED:20251228T102742Z
LAST-MODIFIED:20251228T102744Z
UID:10003495-1896541200-1896546600@ashtangaanyways.com
SUMMARY:Mysore
DESCRIPTION:Zajęcia odbywają się w każdy wtorek o 17:00-18:30 w Ashtanga Yoga Wrocław (ul. Trzebnicka 12/1\, 50-246 Wrocław). \n\n\n\n>> WIĘCEJ SZCZEGÓŁÓW <<
URL:https://ashtangaanyways.com/grafik/mysore-10/2030-02-05/
CATEGORIES:ashtanga joga,mysore,praktyka
END:VEVENT
BEGIN:VEVENT
DTSTART;TZID=Europe/Warsaw:20300212T170000
DTEND;TZID=Europe/Warsaw:20300212T183000
DTSTAMP:20260422T210228
CREATED:20251228T102742Z
LAST-MODIFIED:20251228T102744Z
UID:10003496-1897146000-1897151400@ashtangaanyways.com
SUMMARY:Mysore
DESCRIPTION:Zajęcia odbywają się w każdy wtorek o 17:00-18:30 w Ashtanga Yoga Wrocław (ul. Trzebnicka 12/1\, 50-246 Wrocław). \n\n\n\n>> WIĘCEJ SZCZEGÓŁÓW <<
URL:https://ashtangaanyways.com/grafik/mysore-10/2030-02-12/
CATEGORIES:ashtanga joga,mysore,praktyka
END:VEVENT
BEGIN:VEVENT
DTSTART;TZID=Europe/Warsaw:20300219T170000
DTEND;TZID=Europe/Warsaw:20300219T183000
DTSTAMP:20260422T210228
CREATED:20251228T102742Z
LAST-MODIFIED:20251228T102744Z
UID:10003497-1897750800-1897756200@ashtangaanyways.com
SUMMARY:Mysore
DESCRIPTION:Zajęcia odbywają się w każdy wtorek o 17:00-18:30 w Ashtanga Yoga Wrocław (ul. Trzebnicka 12/1\, 50-246 Wrocław). \n\n\n\n>> WIĘCEJ SZCZEGÓŁÓW <<
URL:https://ashtangaanyways.com/grafik/mysore-10/2030-02-19/
CATEGORIES:ashtanga joga,mysore,praktyka
END:VEVENT
BEGIN:VEVENT
DTSTART;TZID=Europe/Warsaw:20300226T170000
DTEND;TZID=Europe/Warsaw:20300226T183000
DTSTAMP:20260422T210228
CREATED:20251228T102742Z
LAST-MODIFIED:20251228T102744Z
UID:10003498-1898355600-1898361000@ashtangaanyways.com
SUMMARY:Mysore
DESCRIPTION:Zajęcia odbywają się w każdy wtorek o 17:00-18:30 w Ashtanga Yoga Wrocław (ul. Trzebnicka 12/1\, 50-246 Wrocław). \n\n\n\n>> WIĘCEJ SZCZEGÓŁÓW <<
URL:https://ashtangaanyways.com/grafik/mysore-10/2030-02-26/
CATEGORIES:ashtanga joga,mysore,praktyka
END:VEVENT
BEGIN:VEVENT
DTSTART;TZID=Europe/Warsaw:20300305T170000
DTEND;TZID=Europe/Warsaw:20300305T183000
DTSTAMP:20260422T210228
CREATED:20251228T102742Z
LAST-MODIFIED:20251228T102744Z
UID:10003499-1898960400-1898965800@ashtangaanyways.com
SUMMARY:Mysore
DESCRIPTION:Zajęcia odbywają się w każdy wtorek o 17:00-18:30 w Ashtanga Yoga Wrocław (ul. Trzebnicka 12/1\, 50-246 Wrocław). \n\n\n\n>> WIĘCEJ SZCZEGÓŁÓW <<
URL:https://ashtangaanyways.com/grafik/mysore-10/2030-03-05/
CATEGORIES:ashtanga joga,mysore,praktyka
END:VEVENT
BEGIN:VEVENT
DTSTART;TZID=Europe/Warsaw:20300312T170000
DTEND;TZID=Europe/Warsaw:20300312T183000
DTSTAMP:20260422T210228
CREATED:20251228T102742Z
LAST-MODIFIED:20251228T102744Z
UID:10003500-1899565200-1899570600@ashtangaanyways.com
SUMMARY:Mysore
DESCRIPTION:Zajęcia odbywają się w każdy wtorek o 17:00-18:30 w Ashtanga Yoga Wrocław (ul. Trzebnicka 12/1\, 50-246 Wrocław). \n\n\n\n>> WIĘCEJ SZCZEGÓŁÓW <<
URL:https://ashtangaanyways.com/grafik/mysore-10/2030-03-12/
CATEGORIES:ashtanga joga,mysore,praktyka
END:VEVENT
BEGIN:VEVENT
DTSTART;TZID=Europe/Warsaw:20300319T170000
DTEND;TZID=Europe/Warsaw:20300319T183000
DTSTAMP:20260422T210228
CREATED:20251228T102742Z
LAST-MODIFIED:20251228T102744Z
UID:10003501-1900170000-1900175400@ashtangaanyways.com
SUMMARY:Mysore
DESCRIPTION:Zajęcia odbywają się w każdy wtorek o 17:00-18:30 w Ashtanga Yoga Wrocław (ul. Trzebnicka 12/1\, 50-246 Wrocław). \n\n\n\n>> WIĘCEJ SZCZEGÓŁÓW <<
URL:https://ashtangaanyways.com/grafik/mysore-10/2030-03-19/
CATEGORIES:ashtanga joga,mysore,praktyka
END:VEVENT
BEGIN:VEVENT
DTSTART;TZID=Europe/Warsaw:20300326T170000
DTEND;TZID=Europe/Warsaw:20300326T183000
DTSTAMP:20260422T210228
CREATED:20251228T102742Z
LAST-MODIFIED:20251228T102744Z
UID:10003502-1900774800-1900780200@ashtangaanyways.com
SUMMARY:Mysore
DESCRIPTION:Zajęcia odbywają się w każdy wtorek o 17:00-18:30 w Ashtanga Yoga Wrocław (ul. Trzebnicka 12/1\, 50-246 Wrocław). \n\n\n\n>> WIĘCEJ SZCZEGÓŁÓW <<
URL:https://ashtangaanyways.com/grafik/mysore-10/2030-03-26/
CATEGORIES:ashtanga joga,mysore,praktyka
END:VEVENT
BEGIN:VEVENT
DTSTART;TZID=Europe/Warsaw:20300402T170000
DTEND;TZID=Europe/Warsaw:20300402T183000
DTSTAMP:20260422T210228
CREATED:20251228T102742Z
LAST-MODIFIED:20251228T102744Z
UID:10003503-1901379600-1901385000@ashtangaanyways.com
SUMMARY:Mysore
DESCRIPTION:Zajęcia odbywają się w każdy wtorek o 17:00-18:30 w Ashtanga Yoga Wrocław (ul. Trzebnicka 12/1\, 50-246 Wrocław). \n\n\n\n>> WIĘCEJ SZCZEGÓŁÓW <<
URL:https://ashtangaanyways.com/grafik/mysore-10/2030-04-02/
CATEGORIES:ashtanga joga,mysore,praktyka
END:VEVENT
BEGIN:VEVENT
DTSTART;TZID=Europe/Warsaw:20300409T170000
DTEND;TZID=Europe/Warsaw:20300409T183000
DTSTAMP:20260422T210228
CREATED:20251228T102742Z
LAST-MODIFIED:20251228T102744Z
UID:10003504-1901984400-1901989800@ashtangaanyways.com
SUMMARY:Mysore
DESCRIPTION:Zajęcia odbywają się w każdy wtorek o 17:00-18:30 w Ashtanga Yoga Wrocław (ul. Trzebnicka 12/1\, 50-246 Wrocław). \n\n\n\n>> WIĘCEJ SZCZEGÓŁÓW <<
URL:https://ashtangaanyways.com/grafik/mysore-10/2030-04-09/
CATEGORIES:ashtanga joga,mysore,praktyka
END:VEVENT
BEGIN:VEVENT
DTSTART;TZID=Europe/Warsaw:20300416T170000
DTEND;TZID=Europe/Warsaw:20300416T183000
DTSTAMP:20260422T210228
CREATED:20251228T102742Z
LAST-MODIFIED:20251228T102744Z
UID:10003505-1902589200-1902594600@ashtangaanyways.com
SUMMARY:Mysore
DESCRIPTION:Zajęcia odbywają się w każdy wtorek o 17:00-18:30 w Ashtanga Yoga Wrocław (ul. Trzebnicka 12/1\, 50-246 Wrocław). \n\n\n\n>> WIĘCEJ SZCZEGÓŁÓW <<
URL:https://ashtangaanyways.com/grafik/mysore-10/2030-04-16/
CATEGORIES:ashtanga joga,mysore,praktyka
END:VEVENT
BEGIN:VEVENT
DTSTART;TZID=Europe/Warsaw:20300423T170000
DTEND;TZID=Europe/Warsaw:20300423T183000
DTSTAMP:20260422T210228
CREATED:20251228T102742Z
LAST-MODIFIED:20251228T102744Z
UID:10003506-1903194000-1903199400@ashtangaanyways.com
SUMMARY:Mysore
DESCRIPTION:Zajęcia odbywają się w każdy wtorek o 17:00-18:30 w Ashtanga Yoga Wrocław (ul. Trzebnicka 12/1\, 50-246 Wrocław). \n\n\n\n>> WIĘCEJ SZCZEGÓŁÓW <<
URL:https://ashtangaanyways.com/grafik/mysore-10/2030-04-23/
CATEGORIES:ashtanga joga,mysore,praktyka
END:VEVENT
BEGIN:VEVENT
DTSTART;TZID=Europe/Warsaw:20300430T170000
DTEND;TZID=Europe/Warsaw:20300430T183000
DTSTAMP:20260422T210228
CREATED:20251228T102742Z
LAST-MODIFIED:20251228T102744Z
UID:10003507-1903798800-1903804200@ashtangaanyways.com
SUMMARY:Mysore
DESCRIPTION:Zajęcia odbywają się w każdy wtorek o 17:00-18:30 w Ashtanga Yoga Wrocław (ul. Trzebnicka 12/1\, 50-246 Wrocław). \n\n\n\n>> WIĘCEJ SZCZEGÓŁÓW <<
URL:https://ashtangaanyways.com/grafik/mysore-10/2030-04-30/
CATEGORIES:ashtanga joga,mysore,praktyka
END:VEVENT
BEGIN:VEVENT
DTSTART;TZID=Europe/Warsaw:20300507T170000
DTEND;TZID=Europe/Warsaw:20300507T183000
DTSTAMP:20260422T210228
CREATED:20251228T102742Z
LAST-MODIFIED:20251228T102744Z
UID:10003508-1904403600-1904409000@ashtangaanyways.com
SUMMARY:Mysore
DESCRIPTION:Zajęcia odbywają się w każdy wtorek o 17:00-18:30 w Ashtanga Yoga Wrocław (ul. Trzebnicka 12/1\, 50-246 Wrocław). \n\n\n\n>> WIĘCEJ SZCZEGÓŁÓW <<
URL:https://ashtangaanyways.com/grafik/mysore-10/2030-05-07/
CATEGORIES:ashtanga joga,mysore,praktyka
END:VEVENT
BEGIN:VEVENT
DTSTART;TZID=Europe/Warsaw:20300514T170000
DTEND;TZID=Europe/Warsaw:20300514T183000
DTSTAMP:20260422T210228
CREATED:20251228T102742Z
LAST-MODIFIED:20251228T102744Z
UID:10003509-1905008400-1905013800@ashtangaanyways.com
SUMMARY:Mysore
DESCRIPTION:Zajęcia odbywają się w każdy wtorek o 17:00-18:30 w Ashtanga Yoga Wrocław (ul. Trzebnicka 12/1\, 50-246 Wrocław). \n\n\n\n>> WIĘCEJ SZCZEGÓŁÓW <<
URL:https://ashtangaanyways.com/grafik/mysore-10/2030-05-14/
CATEGORIES:ashtanga joga,mysore,praktyka
END:VEVENT
BEGIN:VEVENT
DTSTART;TZID=Europe/Warsaw:20300521T170000
DTEND;TZID=Europe/Warsaw:20300521T183000
DTSTAMP:20260422T210228
CREATED:20251228T102742Z
LAST-MODIFIED:20251228T102744Z
UID:10003510-1905613200-1905618600@ashtangaanyways.com
SUMMARY:Mysore
DESCRIPTION:Zajęcia odbywają się w każdy wtorek o 17:00-18:30 w Ashtanga Yoga Wrocław (ul. Trzebnicka 12/1\, 50-246 Wrocław). \n\n\n\n>> WIĘCEJ SZCZEGÓŁÓW <<
URL:https://ashtangaanyways.com/grafik/mysore-10/2030-05-21/
CATEGORIES:ashtanga joga,mysore,praktyka
END:VEVENT
BEGIN:VEVENT
DTSTART;TZID=Europe/Warsaw:20300528T170000
DTEND;TZID=Europe/Warsaw:20300528T183000
DTSTAMP:20260422T210228
CREATED:20251228T102742Z
LAST-MODIFIED:20251228T102744Z
UID:10003511-1906218000-1906223400@ashtangaanyways.com
SUMMARY:Mysore
DESCRIPTION:Zajęcia odbywają się w każdy wtorek o 17:00-18:30 w Ashtanga Yoga Wrocław (ul. Trzebnicka 12/1\, 50-246 Wrocław). \n\n\n\n>> WIĘCEJ SZCZEGÓŁÓW <<
URL:https://ashtangaanyways.com/grafik/mysore-10/2030-05-28/
CATEGORIES:ashtanga joga,mysore,praktyka
END:VEVENT
BEGIN:VEVENT
DTSTART;TZID=Europe/Warsaw:20300604T170000
DTEND;TZID=Europe/Warsaw:20300604T183000
DTSTAMP:20260422T210228
CREATED:20251228T102742Z
LAST-MODIFIED:20251228T102744Z
UID:10003512-1906822800-1906828200@ashtangaanyways.com
SUMMARY:Mysore
DESCRIPTION:Zajęcia odbywają się w każdy wtorek o 17:00-18:30 w Ashtanga Yoga Wrocław (ul. Trzebnicka 12/1\, 50-246 Wrocław). \n\n\n\n>> WIĘCEJ SZCZEGÓŁÓW <<
URL:https://ashtangaanyways.com/grafik/mysore-10/2030-06-04/
CATEGORIES:ashtanga joga,mysore,praktyka
END:VEVENT
BEGIN:VEVENT
DTSTART;TZID=Europe/Warsaw:20300611T170000
DTEND;TZID=Europe/Warsaw:20300611T183000
DTSTAMP:20260422T210228
CREATED:20251228T102742Z
LAST-MODIFIED:20251228T102744Z
UID:10003513-1907427600-1907433000@ashtangaanyways.com
SUMMARY:Mysore
DESCRIPTION:Zajęcia odbywają się w każdy wtorek o 17:00-18:30 w Ashtanga Yoga Wrocław (ul. Trzebnicka 12/1\, 50-246 Wrocław). \n\n\n\n>> WIĘCEJ SZCZEGÓŁÓW <<
URL:https://ashtangaanyways.com/grafik/mysore-10/2030-06-11/
CATEGORIES:ashtanga joga,mysore,praktyka
END:VEVENT
BEGIN:VEVENT
DTSTART;TZID=Europe/Warsaw:20300618T170000
DTEND;TZID=Europe/Warsaw:20300618T183000
DTSTAMP:20260422T210228
CREATED:20251228T102742Z
LAST-MODIFIED:20251228T102744Z
UID:10003514-1908032400-1908037800@ashtangaanyways.com
SUMMARY:Mysore
DESCRIPTION:Zajęcia odbywają się w każdy wtorek o 17:00-18:30 w Ashtanga Yoga Wrocław (ul. Trzebnicka 12/1\, 50-246 Wrocław). \n\n\n\n>> WIĘCEJ SZCZEGÓŁÓW <<
URL:https://ashtangaanyways.com/grafik/mysore-10/2030-06-18/
CATEGORIES:ashtanga joga,mysore,praktyka
END:VEVENT
BEGIN:VEVENT
DTSTART;TZID=Europe/Warsaw:20300625T170000
DTEND;TZID=Europe/Warsaw:20300625T183000
DTSTAMP:20260422T210228
CREATED:20251228T102742Z
LAST-MODIFIED:20251228T102744Z
UID:10003515-1908637200-1908642600@ashtangaanyways.com
SUMMARY:Mysore
DESCRIPTION:Zajęcia odbywają się w każdy wtorek o 17:00-18:30 w Ashtanga Yoga Wrocław (ul. Trzebnicka 12/1\, 50-246 Wrocław). \n\n\n\n>> WIĘCEJ SZCZEGÓŁÓW <<
URL:https://ashtangaanyways.com/grafik/mysore-10/2030-06-25/
CATEGORIES:ashtanga joga,mysore,praktyka
END:VEVENT
BEGIN:VEVENT
DTSTART;TZID=Europe/Warsaw:20300702T170000
DTEND;TZID=Europe/Warsaw:20300702T183000
DTSTAMP:20260422T210229
CREATED:20251228T102742Z
LAST-MODIFIED:20251228T102744Z
UID:10003516-1909242000-1909247400@ashtangaanyways.com
SUMMARY:Mysore
DESCRIPTION:Zajęcia odbywają się w każdy wtorek o 17:00-18:30 w Ashtanga Yoga Wrocław (ul. Trzebnicka 12/1\, 50-246 Wrocław). \n\n\n\n>> WIĘCEJ SZCZEGÓŁÓW <<
URL:https://ashtangaanyways.com/grafik/mysore-10/2030-07-02/
CATEGORIES:ashtanga joga,mysore,praktyka
END:VEVENT
BEGIN:VEVENT
DTSTART;TZID=Europe/Warsaw:20300709T170000
DTEND;TZID=Europe/Warsaw:20300709T183000
DTSTAMP:20260422T210229
CREATED:20251228T102742Z
LAST-MODIFIED:20251228T102744Z
UID:10003517-1909846800-1909852200@ashtangaanyways.com
SUMMARY:Mysore
DESCRIPTION:Zajęcia odbywają się w każdy wtorek o 17:00-18:30 w Ashtanga Yoga Wrocław (ul. Trzebnicka 12/1\, 50-246 Wrocław). \n\n\n\n>> WIĘCEJ SZCZEGÓŁÓW <<
URL:https://ashtangaanyways.com/grafik/mysore-10/2030-07-09/
CATEGORIES:ashtanga joga,mysore,praktyka
END:VEVENT
BEGIN:VEVENT
DTSTART;TZID=Europe/Warsaw:20300716T170000
DTEND;TZID=Europe/Warsaw:20300716T183000
DTSTAMP:20260422T210229
CREATED:20251228T102742Z
LAST-MODIFIED:20251228T102744Z
UID:10003518-1910451600-1910457000@ashtangaanyways.com
SUMMARY:Mysore
DESCRIPTION:Zajęcia odbywają się w każdy wtorek o 17:00-18:30 w Ashtanga Yoga Wrocław (ul. Trzebnicka 12/1\, 50-246 Wrocław). \n\n\n\n>> WIĘCEJ SZCZEGÓŁÓW <<
URL:https://ashtangaanyways.com/grafik/mysore-10/2030-07-16/
CATEGORIES:ashtanga joga,mysore,praktyka
END:VEVENT
BEGIN:VEVENT
DTSTART;TZID=Europe/Warsaw:20300723T170000
DTEND;TZID=Europe/Warsaw:20300723T183000
DTSTAMP:20260422T210229
CREATED:20251228T102742Z
LAST-MODIFIED:20251228T102744Z
UID:10003519-1911056400-1911061800@ashtangaanyways.com
SUMMARY:Mysore
DESCRIPTION:Zajęcia odbywają się w każdy wtorek o 17:00-18:30 w Ashtanga Yoga Wrocław (ul. Trzebnicka 12/1\, 50-246 Wrocław). \n\n\n\n>> WIĘCEJ SZCZEGÓŁÓW <<
URL:https://ashtangaanyways.com/grafik/mysore-10/2030-07-23/
CATEGORIES:ashtanga joga,mysore,praktyka
END:VEVENT
END:VCALENDAR