BEGIN:VCALENDAR
VERSION:2.0
PRODID:-//Ashtanga Anyways - ECPv6.15.18//NONSGML v1.0//EN
CALSCALE:GREGORIAN
METHOD:PUBLISH
X-ORIGINAL-URL:https://ashtangaanyways.com
X-WR-CALDESC:Wydarzenia dla Ashtanga Anyways
REFRESH-INTERVAL;VALUE=DURATION:PT1H
X-Robots-Tag:noindex
X-PUBLISHED-TTL:PT1H
BEGIN:VTIMEZONE
TZID:Europe/Warsaw
BEGIN:DAYLIGHT
TZOFFSETFROM:+0100
TZOFFSETTO:+0200
TZNAME:CEST
DTSTART:20290325T010000
END:DAYLIGHT
BEGIN:STANDARD
TZOFFSETFROM:+0200
TZOFFSETTO:+0100
TZNAME:CET
DTSTART:20291028T010000
END:STANDARD
BEGIN:DAYLIGHT
TZOFFSETFROM:+0100
TZOFFSETTO:+0200
TZNAME:CEST
DTSTART:20300331T010000
END:DAYLIGHT
BEGIN:STANDARD
TZOFFSETFROM:+0200
TZOFFSETTO:+0100
TZNAME:CET
DTSTART:20301027T010000
END:STANDARD
BEGIN:DAYLIGHT
TZOFFSETFROM:+0100
TZOFFSETTO:+0200
TZNAME:CEST
DTSTART:20310330T010000
END:DAYLIGHT
BEGIN:STANDARD
TZOFFSETFROM:+0200
TZOFFSETTO:+0100
TZNAME:CET
DTSTART:20311026T010000
END:STANDARD
END:VTIMEZONE
BEGIN:VEVENT
DTSTART;TZID=Europe/Warsaw:20300327T173000
DTEND;TZID=Europe/Warsaw:20300327T190000
DTSTAMP:20260422T235959
CREATED:20260110T204055Z
LAST-MODIFIED:20260110T204056Z
UID:10003765-1900863000-1900868400@ashtangaanyways.com
SUMMARY:Pierwsza seria prowadzona
DESCRIPTION:Zajęcia odbywają się w każdą środę od 17:30 do 19:00 w Ashtanga Yoga Wrocław (ul. Trzebnicka 12/1\, 50-246 Wrocław).
URL:https://ashtangaanyways.com/grafik/pierwsza-seria-prowadzona-5/2030-03-27/
END:VEVENT
BEGIN:VEVENT
DTSTART;TZID=Europe/Warsaw:20300403T173000
DTEND;TZID=Europe/Warsaw:20300403T190000
DTSTAMP:20260422T235959
CREATED:20260110T204055Z
LAST-MODIFIED:20260110T204056Z
UID:10003766-1901467800-1901473200@ashtangaanyways.com
SUMMARY:Pierwsza seria prowadzona
DESCRIPTION:Zajęcia odbywają się w każdą środę od 17:30 do 19:00 w Ashtanga Yoga Wrocław (ul. Trzebnicka 12/1\, 50-246 Wrocław).
URL:https://ashtangaanyways.com/grafik/pierwsza-seria-prowadzona-5/2030-04-03/
END:VEVENT
BEGIN:VEVENT
DTSTART;TZID=Europe/Warsaw:20300410T173000
DTEND;TZID=Europe/Warsaw:20300410T190000
DTSTAMP:20260422T235959
CREATED:20260110T204055Z
LAST-MODIFIED:20260110T204056Z
UID:10003767-1902072600-1902078000@ashtangaanyways.com
SUMMARY:Pierwsza seria prowadzona
DESCRIPTION:Zajęcia odbywają się w każdą środę od 17:30 do 19:00 w Ashtanga Yoga Wrocław (ul. Trzebnicka 12/1\, 50-246 Wrocław).
URL:https://ashtangaanyways.com/grafik/pierwsza-seria-prowadzona-5/2030-04-10/
END:VEVENT
BEGIN:VEVENT
DTSTART;TZID=Europe/Warsaw:20300417T173000
DTEND;TZID=Europe/Warsaw:20300417T190000
DTSTAMP:20260422T235959
CREATED:20260110T204055Z
LAST-MODIFIED:20260110T204056Z
UID:10003768-1902677400-1902682800@ashtangaanyways.com
SUMMARY:Pierwsza seria prowadzona
DESCRIPTION:Zajęcia odbywają się w każdą środę od 17:30 do 19:00 w Ashtanga Yoga Wrocław (ul. Trzebnicka 12/1\, 50-246 Wrocław).
URL:https://ashtangaanyways.com/grafik/pierwsza-seria-prowadzona-5/2030-04-17/
END:VEVENT
BEGIN:VEVENT
DTSTART;TZID=Europe/Warsaw:20300424T173000
DTEND;TZID=Europe/Warsaw:20300424T190000
DTSTAMP:20260422T235959
CREATED:20260110T204055Z
LAST-MODIFIED:20260110T204056Z
UID:10003769-1903282200-1903287600@ashtangaanyways.com
SUMMARY:Pierwsza seria prowadzona
DESCRIPTION:Zajęcia odbywają się w każdą środę od 17:30 do 19:00 w Ashtanga Yoga Wrocław (ul. Trzebnicka 12/1\, 50-246 Wrocław).
URL:https://ashtangaanyways.com/grafik/pierwsza-seria-prowadzona-5/2030-04-24/
END:VEVENT
BEGIN:VEVENT
DTSTART;TZID=Europe/Warsaw:20300501T173000
DTEND;TZID=Europe/Warsaw:20300501T190000
DTSTAMP:20260422T235959
CREATED:20260110T204055Z
LAST-MODIFIED:20260110T204056Z
UID:10003770-1903887000-1903892400@ashtangaanyways.com
SUMMARY:Pierwsza seria prowadzona
DESCRIPTION:Zajęcia odbywają się w każdą środę od 17:30 do 19:00 w Ashtanga Yoga Wrocław (ul. Trzebnicka 12/1\, 50-246 Wrocław).
URL:https://ashtangaanyways.com/grafik/pierwsza-seria-prowadzona-5/2030-05-01/
END:VEVENT
BEGIN:VEVENT
DTSTART;TZID=Europe/Warsaw:20300508T173000
DTEND;TZID=Europe/Warsaw:20300508T190000
DTSTAMP:20260422T235959
CREATED:20260110T204055Z
LAST-MODIFIED:20260110T204056Z
UID:10003771-1904491800-1904497200@ashtangaanyways.com
SUMMARY:Pierwsza seria prowadzona
DESCRIPTION:Zajęcia odbywają się w każdą środę od 17:30 do 19:00 w Ashtanga Yoga Wrocław (ul. Trzebnicka 12/1\, 50-246 Wrocław).
URL:https://ashtangaanyways.com/grafik/pierwsza-seria-prowadzona-5/2030-05-08/
END:VEVENT
BEGIN:VEVENT
DTSTART;TZID=Europe/Warsaw:20300515T173000
DTEND;TZID=Europe/Warsaw:20300515T190000
DTSTAMP:20260422T235959
CREATED:20260110T204055Z
LAST-MODIFIED:20260110T204056Z
UID:10003772-1905096600-1905102000@ashtangaanyways.com
SUMMARY:Pierwsza seria prowadzona
DESCRIPTION:Zajęcia odbywają się w każdą środę od 17:30 do 19:00 w Ashtanga Yoga Wrocław (ul. Trzebnicka 12/1\, 50-246 Wrocław).
URL:https://ashtangaanyways.com/grafik/pierwsza-seria-prowadzona-5/2030-05-15/
END:VEVENT
BEGIN:VEVENT
DTSTART;TZID=Europe/Warsaw:20300522T173000
DTEND;TZID=Europe/Warsaw:20300522T190000
DTSTAMP:20260422T235959
CREATED:20260110T204055Z
LAST-MODIFIED:20260110T204056Z
UID:10003773-1905701400-1905706800@ashtangaanyways.com
SUMMARY:Pierwsza seria prowadzona
DESCRIPTION:Zajęcia odbywają się w każdą środę od 17:30 do 19:00 w Ashtanga Yoga Wrocław (ul. Trzebnicka 12/1\, 50-246 Wrocław).
URL:https://ashtangaanyways.com/grafik/pierwsza-seria-prowadzona-5/2030-05-22/
END:VEVENT
BEGIN:VEVENT
DTSTART;TZID=Europe/Warsaw:20300529T173000
DTEND;TZID=Europe/Warsaw:20300529T190000
DTSTAMP:20260422T235959
CREATED:20260110T204055Z
LAST-MODIFIED:20260110T204056Z
UID:10003774-1906306200-1906311600@ashtangaanyways.com
SUMMARY:Pierwsza seria prowadzona
DESCRIPTION:Zajęcia odbywają się w każdą środę od 17:30 do 19:00 w Ashtanga Yoga Wrocław (ul. Trzebnicka 12/1\, 50-246 Wrocław).
URL:https://ashtangaanyways.com/grafik/pierwsza-seria-prowadzona-5/2030-05-29/
END:VEVENT
BEGIN:VEVENT
DTSTART;TZID=Europe/Warsaw:20300605T173000
DTEND;TZID=Europe/Warsaw:20300605T190000
DTSTAMP:20260422T235959
CREATED:20260110T204055Z
LAST-MODIFIED:20260110T204056Z
UID:10003775-1906911000-1906916400@ashtangaanyways.com
SUMMARY:Pierwsza seria prowadzona
DESCRIPTION:Zajęcia odbywają się w każdą środę od 17:30 do 19:00 w Ashtanga Yoga Wrocław (ul. Trzebnicka 12/1\, 50-246 Wrocław).
URL:https://ashtangaanyways.com/grafik/pierwsza-seria-prowadzona-5/2030-06-05/
END:VEVENT
BEGIN:VEVENT
DTSTART;TZID=Europe/Warsaw:20300612T173000
DTEND;TZID=Europe/Warsaw:20300612T190000
DTSTAMP:20260422T235959
CREATED:20260110T204055Z
LAST-MODIFIED:20260110T204056Z
UID:10003776-1907515800-1907521200@ashtangaanyways.com
SUMMARY:Pierwsza seria prowadzona
DESCRIPTION:Zajęcia odbywają się w każdą środę od 17:30 do 19:00 w Ashtanga Yoga Wrocław (ul. Trzebnicka 12/1\, 50-246 Wrocław).
URL:https://ashtangaanyways.com/grafik/pierwsza-seria-prowadzona-5/2030-06-12/
END:VEVENT
BEGIN:VEVENT
DTSTART;TZID=Europe/Warsaw:20300619T173000
DTEND;TZID=Europe/Warsaw:20300619T190000
DTSTAMP:20260422T235959
CREATED:20260110T204055Z
LAST-MODIFIED:20260110T204056Z
UID:10003777-1908120600-1908126000@ashtangaanyways.com
SUMMARY:Pierwsza seria prowadzona
DESCRIPTION:Zajęcia odbywają się w każdą środę od 17:30 do 19:00 w Ashtanga Yoga Wrocław (ul. Trzebnicka 12/1\, 50-246 Wrocław).
URL:https://ashtangaanyways.com/grafik/pierwsza-seria-prowadzona-5/2030-06-19/
END:VEVENT
BEGIN:VEVENT
DTSTART;TZID=Europe/Warsaw:20300626T173000
DTEND;TZID=Europe/Warsaw:20300626T190000
DTSTAMP:20260422T235959
CREATED:20260110T204055Z
LAST-MODIFIED:20260110T204056Z
UID:10003778-1908725400-1908730800@ashtangaanyways.com
SUMMARY:Pierwsza seria prowadzona
DESCRIPTION:Zajęcia odbywają się w każdą środę od 17:30 do 19:00 w Ashtanga Yoga Wrocław (ul. Trzebnicka 12/1\, 50-246 Wrocław).
URL:https://ashtangaanyways.com/grafik/pierwsza-seria-prowadzona-5/2030-06-26/
END:VEVENT
BEGIN:VEVENT
DTSTART;TZID=Europe/Warsaw:20300703T173000
DTEND;TZID=Europe/Warsaw:20300703T190000
DTSTAMP:20260422T235959
CREATED:20260110T204055Z
LAST-MODIFIED:20260110T204056Z
UID:10003779-1909330200-1909335600@ashtangaanyways.com
SUMMARY:Pierwsza seria prowadzona
DESCRIPTION:Zajęcia odbywają się w każdą środę od 17:30 do 19:00 w Ashtanga Yoga Wrocław (ul. Trzebnicka 12/1\, 50-246 Wrocław).
URL:https://ashtangaanyways.com/grafik/pierwsza-seria-prowadzona-5/2030-07-03/
END:VEVENT
BEGIN:VEVENT
DTSTART;TZID=Europe/Warsaw:20300710T173000
DTEND;TZID=Europe/Warsaw:20300710T190000
DTSTAMP:20260422T235959
CREATED:20260110T204055Z
LAST-MODIFIED:20260110T204056Z
UID:10003780-1909935000-1909940400@ashtangaanyways.com
SUMMARY:Pierwsza seria prowadzona
DESCRIPTION:Zajęcia odbywają się w każdą środę od 17:30 do 19:00 w Ashtanga Yoga Wrocław (ul. Trzebnicka 12/1\, 50-246 Wrocław).
URL:https://ashtangaanyways.com/grafik/pierwsza-seria-prowadzona-5/2030-07-10/
END:VEVENT
BEGIN:VEVENT
DTSTART;TZID=Europe/Warsaw:20300717T173000
DTEND;TZID=Europe/Warsaw:20300717T190000
DTSTAMP:20260422T235959
CREATED:20260110T204055Z
LAST-MODIFIED:20260110T204056Z
UID:10003781-1910539800-1910545200@ashtangaanyways.com
SUMMARY:Pierwsza seria prowadzona
DESCRIPTION:Zajęcia odbywają się w każdą środę od 17:30 do 19:00 w Ashtanga Yoga Wrocław (ul. Trzebnicka 12/1\, 50-246 Wrocław).
URL:https://ashtangaanyways.com/grafik/pierwsza-seria-prowadzona-5/2030-07-17/
END:VEVENT
BEGIN:VEVENT
DTSTART;TZID=Europe/Warsaw:20300724T173000
DTEND;TZID=Europe/Warsaw:20300724T190000
DTSTAMP:20260422T235959
CREATED:20260110T204055Z
LAST-MODIFIED:20260110T204056Z
UID:10003782-1911144600-1911150000@ashtangaanyways.com
SUMMARY:Pierwsza seria prowadzona
DESCRIPTION:Zajęcia odbywają się w każdą środę od 17:30 do 19:00 w Ashtanga Yoga Wrocław (ul. Trzebnicka 12/1\, 50-246 Wrocław).
URL:https://ashtangaanyways.com/grafik/pierwsza-seria-prowadzona-5/2030-07-24/
END:VEVENT
BEGIN:VEVENT
DTSTART;TZID=Europe/Warsaw:20300731T173000
DTEND;TZID=Europe/Warsaw:20300731T190000
DTSTAMP:20260422T235959
CREATED:20260110T204055Z
LAST-MODIFIED:20260110T204056Z
UID:10003783-1911749400-1911754800@ashtangaanyways.com
SUMMARY:Pierwsza seria prowadzona
DESCRIPTION:Zajęcia odbywają się w każdą środę od 17:30 do 19:00 w Ashtanga Yoga Wrocław (ul. Trzebnicka 12/1\, 50-246 Wrocław).
URL:https://ashtangaanyways.com/grafik/pierwsza-seria-prowadzona-5/2030-07-31/
END:VEVENT
BEGIN:VEVENT
DTSTART;TZID=Europe/Warsaw:20300807T173000
DTEND;TZID=Europe/Warsaw:20300807T190000
DTSTAMP:20260422T235959
CREATED:20260110T204055Z
LAST-MODIFIED:20260110T204056Z
UID:10003784-1912354200-1912359600@ashtangaanyways.com
SUMMARY:Pierwsza seria prowadzona
DESCRIPTION:Zajęcia odbywają się w każdą środę od 17:30 do 19:00 w Ashtanga Yoga Wrocław (ul. Trzebnicka 12/1\, 50-246 Wrocław).
URL:https://ashtangaanyways.com/grafik/pierwsza-seria-prowadzona-5/2030-08-07/
END:VEVENT
BEGIN:VEVENT
DTSTART;TZID=Europe/Warsaw:20300814T173000
DTEND;TZID=Europe/Warsaw:20300814T190000
DTSTAMP:20260422T235959
CREATED:20260110T204055Z
LAST-MODIFIED:20260110T204056Z
UID:10003785-1912959000-1912964400@ashtangaanyways.com
SUMMARY:Pierwsza seria prowadzona
DESCRIPTION:Zajęcia odbywają się w każdą środę od 17:30 do 19:00 w Ashtanga Yoga Wrocław (ul. Trzebnicka 12/1\, 50-246 Wrocław).
URL:https://ashtangaanyways.com/grafik/pierwsza-seria-prowadzona-5/2030-08-14/
END:VEVENT
BEGIN:VEVENT
DTSTART;TZID=Europe/Warsaw:20300821T173000
DTEND;TZID=Europe/Warsaw:20300821T190000
DTSTAMP:20260422T235959
CREATED:20260110T204055Z
LAST-MODIFIED:20260110T204056Z
UID:10003786-1913563800-1913569200@ashtangaanyways.com
SUMMARY:Pierwsza seria prowadzona
DESCRIPTION:Zajęcia odbywają się w każdą środę od 17:30 do 19:00 w Ashtanga Yoga Wrocław (ul. Trzebnicka 12/1\, 50-246 Wrocław).
URL:https://ashtangaanyways.com/grafik/pierwsza-seria-prowadzona-5/2030-08-21/
END:VEVENT
BEGIN:VEVENT
DTSTART;TZID=Europe/Warsaw:20300828T173000
DTEND;TZID=Europe/Warsaw:20300828T190000
DTSTAMP:20260422T235959
CREATED:20260110T204055Z
LAST-MODIFIED:20260110T204056Z
UID:10003787-1914168600-1914174000@ashtangaanyways.com
SUMMARY:Pierwsza seria prowadzona
DESCRIPTION:Zajęcia odbywają się w każdą środę od 17:30 do 19:00 w Ashtanga Yoga Wrocław (ul. Trzebnicka 12/1\, 50-246 Wrocław).
URL:https://ashtangaanyways.com/grafik/pierwsza-seria-prowadzona-5/2030-08-28/
END:VEVENT
BEGIN:VEVENT
DTSTART;TZID=Europe/Warsaw:20300904T173000
DTEND;TZID=Europe/Warsaw:20300904T190000
DTSTAMP:20260422T235959
CREATED:20260110T204055Z
LAST-MODIFIED:20260110T204056Z
UID:10003788-1914773400-1914778800@ashtangaanyways.com
SUMMARY:Pierwsza seria prowadzona
DESCRIPTION:Zajęcia odbywają się w każdą środę od 17:30 do 19:00 w Ashtanga Yoga Wrocław (ul. Trzebnicka 12/1\, 50-246 Wrocław).
URL:https://ashtangaanyways.com/grafik/pierwsza-seria-prowadzona-5/2030-09-04/
END:VEVENT
BEGIN:VEVENT
DTSTART;TZID=Europe/Warsaw:20300911T173000
DTEND;TZID=Europe/Warsaw:20300911T190000
DTSTAMP:20260422T235959
CREATED:20260110T204055Z
LAST-MODIFIED:20260110T204056Z
UID:10003789-1915378200-1915383600@ashtangaanyways.com
SUMMARY:Pierwsza seria prowadzona
DESCRIPTION:Zajęcia odbywają się w każdą środę od 17:30 do 19:00 w Ashtanga Yoga Wrocław (ul. Trzebnicka 12/1\, 50-246 Wrocław).
URL:https://ashtangaanyways.com/grafik/pierwsza-seria-prowadzona-5/2030-09-11/
END:VEVENT
BEGIN:VEVENT
DTSTART;TZID=Europe/Warsaw:20300918T173000
DTEND;TZID=Europe/Warsaw:20300918T190000
DTSTAMP:20260422T235959
CREATED:20260110T204055Z
LAST-MODIFIED:20260110T204056Z
UID:10003790-1915983000-1915988400@ashtangaanyways.com
SUMMARY:Pierwsza seria prowadzona
DESCRIPTION:Zajęcia odbywają się w każdą środę od 17:30 do 19:00 w Ashtanga Yoga Wrocław (ul. Trzebnicka 12/1\, 50-246 Wrocław).
URL:https://ashtangaanyways.com/grafik/pierwsza-seria-prowadzona-5/2030-09-18/
END:VEVENT
BEGIN:VEVENT
DTSTART;TZID=Europe/Warsaw:20300925T173000
DTEND;TZID=Europe/Warsaw:20300925T190000
DTSTAMP:20260422T235959
CREATED:20260110T204055Z
LAST-MODIFIED:20260110T204056Z
UID:10003791-1916587800-1916593200@ashtangaanyways.com
SUMMARY:Pierwsza seria prowadzona
DESCRIPTION:Zajęcia odbywają się w każdą środę od 17:30 do 19:00 w Ashtanga Yoga Wrocław (ul. Trzebnicka 12/1\, 50-246 Wrocław).
URL:https://ashtangaanyways.com/grafik/pierwsza-seria-prowadzona-5/2030-09-25/
END:VEVENT
BEGIN:VEVENT
DTSTART;TZID=Europe/Warsaw:20301002T173000
DTEND;TZID=Europe/Warsaw:20301002T190000
DTSTAMP:20260422T235959
CREATED:20260110T204055Z
LAST-MODIFIED:20260110T204056Z
UID:10003792-1917192600-1917198000@ashtangaanyways.com
SUMMARY:Pierwsza seria prowadzona
DESCRIPTION:Zajęcia odbywają się w każdą środę od 17:30 do 19:00 w Ashtanga Yoga Wrocław (ul. Trzebnicka 12/1\, 50-246 Wrocław).
URL:https://ashtangaanyways.com/grafik/pierwsza-seria-prowadzona-5/2030-10-02/
END:VEVENT
BEGIN:VEVENT
DTSTART;TZID=Europe/Warsaw:20301009T173000
DTEND;TZID=Europe/Warsaw:20301009T190000
DTSTAMP:20260422T235959
CREATED:20260110T204055Z
LAST-MODIFIED:20260110T204056Z
UID:10003793-1917797400-1917802800@ashtangaanyways.com
SUMMARY:Pierwsza seria prowadzona
DESCRIPTION:Zajęcia odbywają się w każdą środę od 17:30 do 19:00 w Ashtanga Yoga Wrocław (ul. Trzebnicka 12/1\, 50-246 Wrocław).
URL:https://ashtangaanyways.com/grafik/pierwsza-seria-prowadzona-5/2030-10-09/
END:VEVENT
BEGIN:VEVENT
DTSTART;TZID=Europe/Warsaw:20301016T173000
DTEND;TZID=Europe/Warsaw:20301016T190000
DTSTAMP:20260422T235959
CREATED:20260110T204055Z
LAST-MODIFIED:20260110T204056Z
UID:10003794-1918402200-1918407600@ashtangaanyways.com
SUMMARY:Pierwsza seria prowadzona
DESCRIPTION:Zajęcia odbywają się w każdą środę od 17:30 do 19:00 w Ashtanga Yoga Wrocław (ul. Trzebnicka 12/1\, 50-246 Wrocław).
URL:https://ashtangaanyways.com/grafik/pierwsza-seria-prowadzona-5/2030-10-16/
END:VEVENT
END:VCALENDAR