BEGIN:VCALENDAR
VERSION:2.0
PRODID:-//Ashtanga Anyways - ECPv6.15.18//NONSGML v1.0//EN
CALSCALE:GREGORIAN
METHOD:PUBLISH
X-WR-CALNAME:Ashtanga Anyways
X-ORIGINAL-URL:https://ashtangaanyways.com
X-WR-CALDESC:Wydarzenia dla Ashtanga Anyways
REFRESH-INTERVAL;VALUE=DURATION:PT1H
X-Robots-Tag:noindex
X-PUBLISHED-TTL:PT1H
BEGIN:VTIMEZONE
TZID:Europe/Warsaw
BEGIN:DAYLIGHT
TZOFFSETFROM:+0100
TZOFFSETTO:+0200
TZNAME:CEST
DTSTART:20290325T010000
END:DAYLIGHT
BEGIN:STANDARD
TZOFFSETFROM:+0200
TZOFFSETTO:+0100
TZNAME:CET
DTSTART:20291028T010000
END:STANDARD
BEGIN:DAYLIGHT
TZOFFSETFROM:+0100
TZOFFSETTO:+0200
TZNAME:CEST
DTSTART:20300331T010000
END:DAYLIGHT
BEGIN:STANDARD
TZOFFSETFROM:+0200
TZOFFSETTO:+0100
TZNAME:CET
DTSTART:20301027T010000
END:STANDARD
BEGIN:DAYLIGHT
TZOFFSETFROM:+0100
TZOFFSETTO:+0200
TZNAME:CEST
DTSTART:20310330T010000
END:DAYLIGHT
BEGIN:STANDARD
TZOFFSETFROM:+0200
TZOFFSETTO:+0100
TZNAME:CET
DTSTART:20311026T010000
END:STANDARD
END:VTIMEZONE
BEGIN:VEVENT
DTSTART;TZID=Europe/Warsaw:20300618T170000
DTEND;TZID=Europe/Warsaw:20300618T183000
DTSTAMP:20260423T004447
CREATED:20251228T102742Z
LAST-MODIFIED:20251228T102744Z
UID:10003514-1908032400-1908037800@ashtangaanyways.com
SUMMARY:Mysore
DESCRIPTION:Zajęcia odbywają się w każdy wtorek o 17:00-18:30 w Ashtanga Yoga Wrocław (ul. Trzebnicka 12/1\, 50-246 Wrocław). \n\n\n\n>> WIĘCEJ SZCZEGÓŁÓW <<
URL:https://ashtangaanyways.com/grafik/mysore-10/2030-06-18/
CATEGORIES:ashtanga joga,mysore,praktyka
END:VEVENT
BEGIN:VEVENT
DTSTART;TZID=Europe/Warsaw:20300625T170000
DTEND;TZID=Europe/Warsaw:20300625T183000
DTSTAMP:20260423T004447
CREATED:20251228T102742Z
LAST-MODIFIED:20251228T102744Z
UID:10003515-1908637200-1908642600@ashtangaanyways.com
SUMMARY:Mysore
DESCRIPTION:Zajęcia odbywają się w każdy wtorek o 17:00-18:30 w Ashtanga Yoga Wrocław (ul. Trzebnicka 12/1\, 50-246 Wrocław). \n\n\n\n>> WIĘCEJ SZCZEGÓŁÓW <<
URL:https://ashtangaanyways.com/grafik/mysore-10/2030-06-25/
CATEGORIES:ashtanga joga,mysore,praktyka
END:VEVENT
BEGIN:VEVENT
DTSTART;TZID=Europe/Warsaw:20300702T170000
DTEND;TZID=Europe/Warsaw:20300702T183000
DTSTAMP:20260423T004447
CREATED:20251228T102742Z
LAST-MODIFIED:20251228T102744Z
UID:10003516-1909242000-1909247400@ashtangaanyways.com
SUMMARY:Mysore
DESCRIPTION:Zajęcia odbywają się w każdy wtorek o 17:00-18:30 w Ashtanga Yoga Wrocław (ul. Trzebnicka 12/1\, 50-246 Wrocław). \n\n\n\n>> WIĘCEJ SZCZEGÓŁÓW <<
URL:https://ashtangaanyways.com/grafik/mysore-10/2030-07-02/
CATEGORIES:ashtanga joga,mysore,praktyka
END:VEVENT
BEGIN:VEVENT
DTSTART;TZID=Europe/Warsaw:20300709T170000
DTEND;TZID=Europe/Warsaw:20300709T183000
DTSTAMP:20260423T004447
CREATED:20251228T102742Z
LAST-MODIFIED:20251228T102744Z
UID:10003517-1909846800-1909852200@ashtangaanyways.com
SUMMARY:Mysore
DESCRIPTION:Zajęcia odbywają się w każdy wtorek o 17:00-18:30 w Ashtanga Yoga Wrocław (ul. Trzebnicka 12/1\, 50-246 Wrocław). \n\n\n\n>> WIĘCEJ SZCZEGÓŁÓW <<
URL:https://ashtangaanyways.com/grafik/mysore-10/2030-07-09/
CATEGORIES:ashtanga joga,mysore,praktyka
END:VEVENT
BEGIN:VEVENT
DTSTART;TZID=Europe/Warsaw:20300716T170000
DTEND;TZID=Europe/Warsaw:20300716T183000
DTSTAMP:20260423T004447
CREATED:20251228T102742Z
LAST-MODIFIED:20251228T102744Z
UID:10003518-1910451600-1910457000@ashtangaanyways.com
SUMMARY:Mysore
DESCRIPTION:Zajęcia odbywają się w każdy wtorek o 17:00-18:30 w Ashtanga Yoga Wrocław (ul. Trzebnicka 12/1\, 50-246 Wrocław). \n\n\n\n>> WIĘCEJ SZCZEGÓŁÓW <<
URL:https://ashtangaanyways.com/grafik/mysore-10/2030-07-16/
CATEGORIES:ashtanga joga,mysore,praktyka
END:VEVENT
BEGIN:VEVENT
DTSTART;TZID=Europe/Warsaw:20300723T170000
DTEND;TZID=Europe/Warsaw:20300723T183000
DTSTAMP:20260423T004447
CREATED:20251228T102742Z
LAST-MODIFIED:20251228T102744Z
UID:10003519-1911056400-1911061800@ashtangaanyways.com
SUMMARY:Mysore
DESCRIPTION:Zajęcia odbywają się w każdy wtorek o 17:00-18:30 w Ashtanga Yoga Wrocław (ul. Trzebnicka 12/1\, 50-246 Wrocław). \n\n\n\n>> WIĘCEJ SZCZEGÓŁÓW <<
URL:https://ashtangaanyways.com/grafik/mysore-10/2030-07-23/
CATEGORIES:ashtanga joga,mysore,praktyka
END:VEVENT
BEGIN:VEVENT
DTSTART;TZID=Europe/Warsaw:20300730T170000
DTEND;TZID=Europe/Warsaw:20300730T183000
DTSTAMP:20260423T004447
CREATED:20251228T102742Z
LAST-MODIFIED:20251228T102744Z
UID:10003520-1911661200-1911666600@ashtangaanyways.com
SUMMARY:Mysore
DESCRIPTION:Zajęcia odbywają się w każdy wtorek o 17:00-18:30 w Ashtanga Yoga Wrocław (ul. Trzebnicka 12/1\, 50-246 Wrocław). \n\n\n\n>> WIĘCEJ SZCZEGÓŁÓW <<
URL:https://ashtangaanyways.com/grafik/mysore-10/2030-07-30/
CATEGORIES:ashtanga joga,mysore,praktyka
END:VEVENT
BEGIN:VEVENT
DTSTART;TZID=Europe/Warsaw:20300806T170000
DTEND;TZID=Europe/Warsaw:20300806T183000
DTSTAMP:20260423T004447
CREATED:20251228T102742Z
LAST-MODIFIED:20251228T102744Z
UID:10003521-1912266000-1912271400@ashtangaanyways.com
SUMMARY:Mysore
DESCRIPTION:Zajęcia odbywają się w każdy wtorek o 17:00-18:30 w Ashtanga Yoga Wrocław (ul. Trzebnicka 12/1\, 50-246 Wrocław). \n\n\n\n>> WIĘCEJ SZCZEGÓŁÓW <<
URL:https://ashtangaanyways.com/grafik/mysore-10/2030-08-06/
CATEGORIES:ashtanga joga,mysore,praktyka
END:VEVENT
BEGIN:VEVENT
DTSTART;TZID=Europe/Warsaw:20300813T170000
DTEND;TZID=Europe/Warsaw:20300813T183000
DTSTAMP:20260423T004447
CREATED:20251228T102742Z
LAST-MODIFIED:20251228T102744Z
UID:10003522-1912870800-1912876200@ashtangaanyways.com
SUMMARY:Mysore
DESCRIPTION:Zajęcia odbywają się w każdy wtorek o 17:00-18:30 w Ashtanga Yoga Wrocław (ul. Trzebnicka 12/1\, 50-246 Wrocław). \n\n\n\n>> WIĘCEJ SZCZEGÓŁÓW <<
URL:https://ashtangaanyways.com/grafik/mysore-10/2030-08-13/
CATEGORIES:ashtanga joga,mysore,praktyka
END:VEVENT
BEGIN:VEVENT
DTSTART;TZID=Europe/Warsaw:20300820T170000
DTEND;TZID=Europe/Warsaw:20300820T183000
DTSTAMP:20260423T004447
CREATED:20251228T102742Z
LAST-MODIFIED:20251228T102744Z
UID:10003523-1913475600-1913481000@ashtangaanyways.com
SUMMARY:Mysore
DESCRIPTION:Zajęcia odbywają się w każdy wtorek o 17:00-18:30 w Ashtanga Yoga Wrocław (ul. Trzebnicka 12/1\, 50-246 Wrocław). \n\n\n\n>> WIĘCEJ SZCZEGÓŁÓW <<
URL:https://ashtangaanyways.com/grafik/mysore-10/2030-08-20/
CATEGORIES:ashtanga joga,mysore,praktyka
END:VEVENT
BEGIN:VEVENT
DTSTART;TZID=Europe/Warsaw:20300827T170000
DTEND;TZID=Europe/Warsaw:20300827T183000
DTSTAMP:20260423T004447
CREATED:20251228T102742Z
LAST-MODIFIED:20251228T102744Z
UID:10003524-1914080400-1914085800@ashtangaanyways.com
SUMMARY:Mysore
DESCRIPTION:Zajęcia odbywają się w każdy wtorek o 17:00-18:30 w Ashtanga Yoga Wrocław (ul. Trzebnicka 12/1\, 50-246 Wrocław). \n\n\n\n>> WIĘCEJ SZCZEGÓŁÓW <<
URL:https://ashtangaanyways.com/grafik/mysore-10/2030-08-27/
CATEGORIES:ashtanga joga,mysore,praktyka
END:VEVENT
BEGIN:VEVENT
DTSTART;TZID=Europe/Warsaw:20300903T170000
DTEND;TZID=Europe/Warsaw:20300903T183000
DTSTAMP:20260423T004447
CREATED:20251228T102742Z
LAST-MODIFIED:20251228T102744Z
UID:10003525-1914685200-1914690600@ashtangaanyways.com
SUMMARY:Mysore
DESCRIPTION:Zajęcia odbywają się w każdy wtorek o 17:00-18:30 w Ashtanga Yoga Wrocław (ul. Trzebnicka 12/1\, 50-246 Wrocław). \n\n\n\n>> WIĘCEJ SZCZEGÓŁÓW <<
URL:https://ashtangaanyways.com/grafik/mysore-10/2030-09-03/
CATEGORIES:ashtanga joga,mysore,praktyka
END:VEVENT
BEGIN:VEVENT
DTSTART;TZID=Europe/Warsaw:20300910T170000
DTEND;TZID=Europe/Warsaw:20300910T183000
DTSTAMP:20260423T004447
CREATED:20251228T102742Z
LAST-MODIFIED:20251228T102744Z
UID:10003526-1915290000-1915295400@ashtangaanyways.com
SUMMARY:Mysore
DESCRIPTION:Zajęcia odbywają się w każdy wtorek o 17:00-18:30 w Ashtanga Yoga Wrocław (ul. Trzebnicka 12/1\, 50-246 Wrocław). \n\n\n\n>> WIĘCEJ SZCZEGÓŁÓW <<
URL:https://ashtangaanyways.com/grafik/mysore-10/2030-09-10/
CATEGORIES:ashtanga joga,mysore,praktyka
END:VEVENT
BEGIN:VEVENT
DTSTART;TZID=Europe/Warsaw:20300917T170000
DTEND;TZID=Europe/Warsaw:20300917T183000
DTSTAMP:20260423T004447
CREATED:20251228T102742Z
LAST-MODIFIED:20251228T102744Z
UID:10003527-1915894800-1915900200@ashtangaanyways.com
SUMMARY:Mysore
DESCRIPTION:Zajęcia odbywają się w każdy wtorek o 17:00-18:30 w Ashtanga Yoga Wrocław (ul. Trzebnicka 12/1\, 50-246 Wrocław). \n\n\n\n>> WIĘCEJ SZCZEGÓŁÓW <<
URL:https://ashtangaanyways.com/grafik/mysore-10/2030-09-17/
CATEGORIES:ashtanga joga,mysore,praktyka
END:VEVENT
BEGIN:VEVENT
DTSTART;TZID=Europe/Warsaw:20300924T170000
DTEND;TZID=Europe/Warsaw:20300924T183000
DTSTAMP:20260423T004447
CREATED:20251228T102742Z
LAST-MODIFIED:20251228T102744Z
UID:10003528-1916499600-1916505000@ashtangaanyways.com
SUMMARY:Mysore
DESCRIPTION:Zajęcia odbywają się w każdy wtorek o 17:00-18:30 w Ashtanga Yoga Wrocław (ul. Trzebnicka 12/1\, 50-246 Wrocław). \n\n\n\n>> WIĘCEJ SZCZEGÓŁÓW <<
URL:https://ashtangaanyways.com/grafik/mysore-10/2030-09-24/
CATEGORIES:ashtanga joga,mysore,praktyka
END:VEVENT
BEGIN:VEVENT
DTSTART;TZID=Europe/Warsaw:20301001T170000
DTEND;TZID=Europe/Warsaw:20301001T183000
DTSTAMP:20260423T004447
CREATED:20251228T102742Z
LAST-MODIFIED:20251228T102744Z
UID:10003529-1917104400-1917109800@ashtangaanyways.com
SUMMARY:Mysore
DESCRIPTION:Zajęcia odbywają się w każdy wtorek o 17:00-18:30 w Ashtanga Yoga Wrocław (ul. Trzebnicka 12/1\, 50-246 Wrocław). \n\n\n\n>> WIĘCEJ SZCZEGÓŁÓW <<
URL:https://ashtangaanyways.com/grafik/mysore-10/2030-10-01/
CATEGORIES:ashtanga joga,mysore,praktyka
END:VEVENT
BEGIN:VEVENT
DTSTART;TZID=Europe/Warsaw:20301008T170000
DTEND;TZID=Europe/Warsaw:20301008T183000
DTSTAMP:20260423T004447
CREATED:20251228T102742Z
LAST-MODIFIED:20251228T102744Z
UID:10003530-1917709200-1917714600@ashtangaanyways.com
SUMMARY:Mysore
DESCRIPTION:Zajęcia odbywają się w każdy wtorek o 17:00-18:30 w Ashtanga Yoga Wrocław (ul. Trzebnicka 12/1\, 50-246 Wrocław). \n\n\n\n>> WIĘCEJ SZCZEGÓŁÓW <<
URL:https://ashtangaanyways.com/grafik/mysore-10/2030-10-08/
CATEGORIES:ashtanga joga,mysore,praktyka
END:VEVENT
BEGIN:VEVENT
DTSTART;TZID=Europe/Warsaw:20301015T170000
DTEND;TZID=Europe/Warsaw:20301015T183000
DTSTAMP:20260423T004447
CREATED:20251228T102742Z
LAST-MODIFIED:20251228T102744Z
UID:10003531-1918314000-1918319400@ashtangaanyways.com
SUMMARY:Mysore
DESCRIPTION:Zajęcia odbywają się w każdy wtorek o 17:00-18:30 w Ashtanga Yoga Wrocław (ul. Trzebnicka 12/1\, 50-246 Wrocław). \n\n\n\n>> WIĘCEJ SZCZEGÓŁÓW <<
URL:https://ashtangaanyways.com/grafik/mysore-10/2030-10-15/
CATEGORIES:ashtanga joga,mysore,praktyka
END:VEVENT
BEGIN:VEVENT
DTSTART;TZID=Europe/Warsaw:20301022T170000
DTEND;TZID=Europe/Warsaw:20301022T183000
DTSTAMP:20260423T004447
CREATED:20251228T102742Z
LAST-MODIFIED:20251228T102744Z
UID:10003532-1918918800-1918924200@ashtangaanyways.com
SUMMARY:Mysore
DESCRIPTION:Zajęcia odbywają się w każdy wtorek o 17:00-18:30 w Ashtanga Yoga Wrocław (ul. Trzebnicka 12/1\, 50-246 Wrocław). \n\n\n\n>> WIĘCEJ SZCZEGÓŁÓW <<
URL:https://ashtangaanyways.com/grafik/mysore-10/2030-10-22/
CATEGORIES:ashtanga joga,mysore,praktyka
END:VEVENT
BEGIN:VEVENT
DTSTART;TZID=Europe/Warsaw:20301029T170000
DTEND;TZID=Europe/Warsaw:20301029T183000
DTSTAMP:20260423T004447
CREATED:20251228T102742Z
LAST-MODIFIED:20251228T102744Z
UID:10003533-1919523600-1919529000@ashtangaanyways.com
SUMMARY:Mysore
DESCRIPTION:Zajęcia odbywają się w każdy wtorek o 17:00-18:30 w Ashtanga Yoga Wrocław (ul. Trzebnicka 12/1\, 50-246 Wrocław). \n\n\n\n>> WIĘCEJ SZCZEGÓŁÓW <<
URL:https://ashtangaanyways.com/grafik/mysore-10/2030-10-29/
CATEGORIES:ashtanga joga,mysore,praktyka
END:VEVENT
BEGIN:VEVENT
DTSTART;TZID=Europe/Warsaw:20301105T170000
DTEND;TZID=Europe/Warsaw:20301105T183000
DTSTAMP:20260423T004447
CREATED:20251228T102742Z
LAST-MODIFIED:20251228T102744Z
UID:10003534-1920128400-1920133800@ashtangaanyways.com
SUMMARY:Mysore
DESCRIPTION:Zajęcia odbywają się w każdy wtorek o 17:00-18:30 w Ashtanga Yoga Wrocław (ul. Trzebnicka 12/1\, 50-246 Wrocław). \n\n\n\n>> WIĘCEJ SZCZEGÓŁÓW <<
URL:https://ashtangaanyways.com/grafik/mysore-10/2030-11-05/
CATEGORIES:ashtanga joga,mysore,praktyka
END:VEVENT
BEGIN:VEVENT
DTSTART;TZID=Europe/Warsaw:20301112T170000
DTEND;TZID=Europe/Warsaw:20301112T183000
DTSTAMP:20260423T004447
CREATED:20251228T102742Z
LAST-MODIFIED:20251228T102744Z
UID:10003535-1920733200-1920738600@ashtangaanyways.com
SUMMARY:Mysore
DESCRIPTION:Zajęcia odbywają się w każdy wtorek o 17:00-18:30 w Ashtanga Yoga Wrocław (ul. Trzebnicka 12/1\, 50-246 Wrocław). \n\n\n\n>> WIĘCEJ SZCZEGÓŁÓW <<
URL:https://ashtangaanyways.com/grafik/mysore-10/2030-11-12/
CATEGORIES:ashtanga joga,mysore,praktyka
END:VEVENT
BEGIN:VEVENT
DTSTART;TZID=Europe/Warsaw:20301119T170000
DTEND;TZID=Europe/Warsaw:20301119T183000
DTSTAMP:20260423T004447
CREATED:20251228T102742Z
LAST-MODIFIED:20251228T102744Z
UID:10003536-1921338000-1921343400@ashtangaanyways.com
SUMMARY:Mysore
DESCRIPTION:Zajęcia odbywają się w każdy wtorek o 17:00-18:30 w Ashtanga Yoga Wrocław (ul. Trzebnicka 12/1\, 50-246 Wrocław). \n\n\n\n>> WIĘCEJ SZCZEGÓŁÓW <<
URL:https://ashtangaanyways.com/grafik/mysore-10/2030-11-19/
CATEGORIES:ashtanga joga,mysore,praktyka
END:VEVENT
BEGIN:VEVENT
DTSTART;TZID=Europe/Warsaw:20301126T170000
DTEND;TZID=Europe/Warsaw:20301126T183000
DTSTAMP:20260423T004447
CREATED:20251228T102742Z
LAST-MODIFIED:20251228T102744Z
UID:10003537-1921942800-1921948200@ashtangaanyways.com
SUMMARY:Mysore
DESCRIPTION:Zajęcia odbywają się w każdy wtorek o 17:00-18:30 w Ashtanga Yoga Wrocław (ul. Trzebnicka 12/1\, 50-246 Wrocław). \n\n\n\n>> WIĘCEJ SZCZEGÓŁÓW <<
URL:https://ashtangaanyways.com/grafik/mysore-10/2030-11-26/
CATEGORIES:ashtanga joga,mysore,praktyka
END:VEVENT
BEGIN:VEVENT
DTSTART;TZID=Europe/Warsaw:20301203T170000
DTEND;TZID=Europe/Warsaw:20301203T183000
DTSTAMP:20260423T004447
CREATED:20251228T102742Z
LAST-MODIFIED:20251228T102744Z
UID:10003538-1922547600-1922553000@ashtangaanyways.com
SUMMARY:Mysore
DESCRIPTION:Zajęcia odbywają się w każdy wtorek o 17:00-18:30 w Ashtanga Yoga Wrocław (ul. Trzebnicka 12/1\, 50-246 Wrocław). \n\n\n\n>> WIĘCEJ SZCZEGÓŁÓW <<
URL:https://ashtangaanyways.com/grafik/mysore-10/2030-12-03/
CATEGORIES:ashtanga joga,mysore,praktyka
END:VEVENT
BEGIN:VEVENT
DTSTART;TZID=Europe/Warsaw:20301210T170000
DTEND;TZID=Europe/Warsaw:20301210T183000
DTSTAMP:20260423T004447
CREATED:20251228T102742Z
LAST-MODIFIED:20251228T102744Z
UID:10003539-1923152400-1923157800@ashtangaanyways.com
SUMMARY:Mysore
DESCRIPTION:Zajęcia odbywają się w każdy wtorek o 17:00-18:30 w Ashtanga Yoga Wrocław (ul. Trzebnicka 12/1\, 50-246 Wrocław). \n\n\n\n>> WIĘCEJ SZCZEGÓŁÓW <<
URL:https://ashtangaanyways.com/grafik/mysore-10/2030-12-10/
CATEGORIES:ashtanga joga,mysore,praktyka
END:VEVENT
BEGIN:VEVENT
DTSTART;TZID=Europe/Warsaw:20301217T170000
DTEND;TZID=Europe/Warsaw:20301217T183000
DTSTAMP:20260423T004447
CREATED:20251228T102742Z
LAST-MODIFIED:20251228T102744Z
UID:10003540-1923757200-1923762600@ashtangaanyways.com
SUMMARY:Mysore
DESCRIPTION:Zajęcia odbywają się w każdy wtorek o 17:00-18:30 w Ashtanga Yoga Wrocław (ul. Trzebnicka 12/1\, 50-246 Wrocław). \n\n\n\n>> WIĘCEJ SZCZEGÓŁÓW <<
URL:https://ashtangaanyways.com/grafik/mysore-10/2030-12-17/
CATEGORIES:ashtanga joga,mysore,praktyka
END:VEVENT
BEGIN:VEVENT
DTSTART;TZID=Europe/Warsaw:20301224T170000
DTEND;TZID=Europe/Warsaw:20301224T183000
DTSTAMP:20260423T004447
CREATED:20251228T102742Z
LAST-MODIFIED:20251228T102744Z
UID:10003541-1924362000-1924367400@ashtangaanyways.com
SUMMARY:Mysore
DESCRIPTION:Zajęcia odbywają się w każdy wtorek o 17:00-18:30 w Ashtanga Yoga Wrocław (ul. Trzebnicka 12/1\, 50-246 Wrocław). \n\n\n\n>> WIĘCEJ SZCZEGÓŁÓW <<
URL:https://ashtangaanyways.com/grafik/mysore-10/2030-12-24/
CATEGORIES:ashtanga joga,mysore,praktyka
END:VEVENT
END:VCALENDAR