BEGIN:VCALENDAR
VERSION:2.0
PRODID:-//Ashtanga Anyways - ECPv6.15.18//NONSGML v1.0//EN
CALSCALE:GREGORIAN
METHOD:PUBLISH
X-WR-CALNAME:Ashtanga Anyways
X-ORIGINAL-URL:https://ashtangaanyways.com
X-WR-CALDESC:Wydarzenia dla Ashtanga Anyways
REFRESH-INTERVAL;VALUE=DURATION:PT1H
X-Robots-Tag:noindex
X-PUBLISHED-TTL:PT1H
BEGIN:VTIMEZONE
TZID:Europe/Warsaw
BEGIN:DAYLIGHT
TZOFFSETFROM:+0100
TZOFFSETTO:+0200
TZNAME:CEST
DTSTART:20230326T010000
END:DAYLIGHT
BEGIN:STANDARD
TZOFFSETFROM:+0200
TZOFFSETTO:+0100
TZNAME:CET
DTSTART:20231029T010000
END:STANDARD
BEGIN:DAYLIGHT
TZOFFSETFROM:+0100
TZOFFSETTO:+0200
TZNAME:CEST
DTSTART:20240331T010000
END:DAYLIGHT
BEGIN:STANDARD
TZOFFSETFROM:+0200
TZOFFSETTO:+0100
TZNAME:CET
DTSTART:20241027T010000
END:STANDARD
BEGIN:DAYLIGHT
TZOFFSETFROM:+0100
TZOFFSETTO:+0200
TZNAME:CEST
DTSTART:20250330T010000
END:DAYLIGHT
BEGIN:STANDARD
TZOFFSETFROM:+0200
TZOFFSETTO:+0100
TZNAME:CET
DTSTART:20251026T010000
END:STANDARD
END:VTIMEZONE
BEGIN:VEVENT
DTSTART;TZID=Europe/Warsaw:20241026T113000
DTEND;TZID=Europe/Warsaw:20241026T140000
DTSTAMP:20260423T004109
CREATED:20240917T125345Z
LAST-MODIFIED:20240917T132048Z
UID:10000452-1729942200-1729951200@ashtangaanyways.com
SUMMARY:Vinyasa – oddech\, siła i elastyczność
DESCRIPTION:Warsztat z przeskoków i wyskoków w Ashtanga Jodze. Zapraszam osoby praktykujące ashtanga vinyasa jogę\, które chcą się wzmocnić\, odnaleźć balans w pozycjach oraz popracować nad techniką przeskoków i wyskoków oraz nauczyć się “Chakrasany”.>> WIĘCEJ SZCZEGÓŁÓW <<
URL:https://ashtangaanyways.com/grafik/vinyasa-oddech-sila-i-elastycznosc/
LOCATION:Dolnośląskie
CATEGORIES:ashtanga joga
ATTACH;FMTTYPE=image/png:https://ashtangaanyways.com/wp-content/uploads/2024/09/Vinyasa-–-oddech-sila-i-elastycznosc.-600-x-400-px.png
END:VEVENT
BEGIN:VEVENT
DTSTART;TZID=Europe/Warsaw:20241025T173000
DTEND;TZID=Europe/Warsaw:20241025T190000
DTSTAMP:20260423T004109
CREATED:20240813T101648Z
LAST-MODIFIED:20240908T182307Z
UID:10000028-1729877400-1729882800@ashtangaanyways.com
SUMMARY:Pierwsza Seria Prowadzona
DESCRIPTION:Zajęcia odbywają się w każdy piątek od 17:30 do 19:00 w Ashtanga Yoga Wrocław (ul. Trzebnicka 12/1\, 50-246 Wrocław). \n\n\n\n >> WIĘCEJ SZCZEGÓŁÓW <<
URL:https://ashtangaanyways.com/grafik/pierwsza-seria-prowadzona-2/2024-10-25/
LOCATION:Ashtanga Yoga Wrocław\, Trzebnicka 12/1\, Wrocław\, Dolnośląskie\, Poland
CATEGORIES:ashtanga joga,praktyka
END:VEVENT
BEGIN:VEVENT
DTSTART;TZID=Europe/Warsaw:20241025T110000
DTEND;TZID=Europe/Warsaw:20241027T120000
DTSTAMP:20260423T004109
CREATED:20241008T171939Z
LAST-MODIFIED:20241008T171942Z
UID:10001137-1729854000-1730030400@ashtangaanyways.com
SUMMARY:40 H Ashtanga Vinyasa Yoga Intensive
DESCRIPTION:Weekendowy 40-godzinny kurs pogłębionej praktyki Ashtanga Jogi obejmuje przygotowanie do praktyki oraz praktykę własną. Kurs jest przeznaczony dla osób regularnie praktykujących jogę przez minimum pół roku\, chcących pogłębić swoją praktykę oraz poznać historię i filozofię Ashtanga Jogi. Zajęcia odbędą się w Ashtanga Yoga Wrocław.  \n\n\n\n>> WIĘCEJ SZCZEGÓŁÓW <<
URL:https://ashtangaanyways.com/grafik/40-h-ashtanga-vinyasa-yoga-intensive/2024-10-25/
LOCATION:Dolnośląskie
CATEGORIES:ashtanga joga,kurs
ATTACH;FMTTYPE=image/jpeg:https://ashtangaanyways.com/wp-content/uploads/2024/08/2023_AYW_czerwiec_fot.-Dominika-Hull-104_terapuetyczne-scaled-e1725952837321.jpg
END:VEVENT
BEGIN:VEVENT
DTSTART;TZID=Europe/Warsaw:20241024T194500
DTEND;TZID=Europe/Warsaw:20241024T210000
DTSTAMP:20260423T004109
CREATED:20240813T101254Z
LAST-MODIFIED:20241130T184448Z
UID:10000168-1729799100-1729803600@ashtangaanyways.com
SUMMARY:Yin Joga
DESCRIPTION:Zajęcia odbywają się w każdy czwartek od 19:45 do 21:00 w Ashtanga Yoga Wrocław (ul. Trzebnicka 12/1\, 50-246 Wrocław). \n\n\n\n>> WIĘCEJ SZCZEGÓŁÓW <<
URL:https://ashtangaanyways.com/grafik/pol-pierwszej-serii-prowadzonej/2024-10-24/
LOCATION:Ashtanga Yoga Wrocław\, Trzebnicka 12/1\, Wrocław\, Dolnośląskie\, Poland
CATEGORIES:ashtanga joga,praktyka
END:VEVENT
BEGIN:VEVENT
DTSTART;TZID=Europe/Warsaw:20241024T183000
DTEND;TZID=Europe/Warsaw:20241024T194500
DTSTAMP:20260423T004109
CREATED:20240813T101125Z
LAST-MODIFIED:20241130T184235Z
UID:10000238-1729794600-1729799100@ashtangaanyways.com
SUMMARY:Pół Pierwszej Serii Prowadzonej
DESCRIPTION:Zajęcia odbywają się w każdy czwartek od 18:30 do 19:45 w Ashtanga Yoga Wrocław (ul. Trzebnicka 12/1\, 50-246 Wrocław). \n\n\n\n>> WIĘCEJ SZCZEGÓŁÓW <<
URL:https://ashtangaanyways.com/grafik/ashtanga-wstep-do-drugiej-serii/2024-10-24/
LOCATION:Dolnośląskie
CATEGORIES:ashtanga joga,praktyka
END:VEVENT
BEGIN:VEVENT
DTSTART;TZID=Europe/Warsaw:20241024T170000
DTEND;TZID=Europe/Warsaw:20241024T183000
DTSTAMP:20260423T004109
CREATED:20240813T100816Z
LAST-MODIFIED:20250120T175955Z
UID:10000308-1729789200-1729794600@ashtangaanyways.com
SUMMARY:Mysore
DESCRIPTION:Zajęcia odbywają się w każdy czwartek o 17:00-18:30 w Ashtanga Yoga Wrocław (ul. Trzebnicka 12/1\, 50-246 Wrocław). \n\n\n\n>> WIĘCEJ SZCZEGÓŁÓW <<
URL:https://ashtangaanyways.com/grafik/mysore-3/2024-10-24/
LOCATION:Dolnośląskie
CATEGORIES:ashtanga joga,mysore,praktyka
END:VEVENT
BEGIN:VEVENT
DTSTART;TZID=Europe/Warsaw:20241024T063000
DTEND;TZID=Europe/Warsaw:20241024T090000
DTSTAMP:20260423T004109
CREATED:20241007T104025Z
LAST-MODIFIED:20241130T180202Z
UID:10000500-1729751400-1729760400@ashtangaanyways.com
SUMMARY:Mysore
DESCRIPTION:Zajęcia odbywają się w każdy wtorek o 6:30-7:45 w Fabryce Energii (ul. Plac Wolności 7 (I piętro)\,  50-071 Wrocław). \n\n\n\n>> WIĘCEJ SZCZEGÓŁÓW <<
URL:https://ashtangaanyways.com/grafik/ashtanga-0-prowadzona/2024-10-24/
LOCATION:Dolnośląskie
CATEGORIES:ashtanga joga,praktyka
END:VEVENT
BEGIN:VEVENT
DTSTART;TZID=Europe/Warsaw:20241023T194500
DTEND;TZID=Europe/Warsaw:20241023T204500
DTSTAMP:20260423T004109
CREATED:20240813T100513Z
LAST-MODIFIED:20250608T073501Z
UID:10000326-1729712700-1729716300@ashtangaanyways.com
SUMMARY:Pół Pierwszej Serii Prowadzonej
DESCRIPTION:Zajęcia odbywają się w każdą środę od 19:45 do 20:45 w Ashtanga Yoga Wrocław (ul. Trzebnicka 12/1\, 50-246 Wrocław). \n\n\n\n>> WIĘCEJ SZCZEGÓŁÓW <<
URL:https://ashtangaanyways.com/grafik/yin-joga/2024-10-23/
LOCATION:Dolnośląskie
CATEGORIES:ashtanga joga,praktyka
END:VEVENT
BEGIN:VEVENT
DTSTART;TZID=Europe/Warsaw:20241023T183000
DTEND;TZID=Europe/Warsaw:20241023T193000
DTSTAMP:20260423T004109
CREATED:20240813T100101Z
LAST-MODIFIED:20250120T175216Z
UID:10000344-1729708200-1729711800@ashtangaanyways.com
SUMMARY:Ashtanga joga dla początkujących
DESCRIPTION:Zajęcia odbywają się w każdą środę od 18:30 do 19:30 w Ashtanga Yoga Wrocław (ul. Trzebnicka 12/1\, 50-246 Wrocław). \n\n\n\n>> WIĘCEJ SZCZEGÓŁÓW <<
URL:https://ashtangaanyways.com/grafik/ashtanga-joga-dla-poczatkujacych-2/2024-10-23/
LOCATION:Dolnośląskie
CATEGORIES:ashtanga joga,praktyka
END:VEVENT
BEGIN:VEVENT
DTSTART;TZID=Europe/Warsaw:20241023T170000
DTEND;TZID=Europe/Warsaw:20241023T183000
DTSTAMP:20260423T004109
CREATED:20240813T095806Z
LAST-MODIFIED:20240908T181845Z
UID:10000362-1729702800-1729708200@ashtangaanyways.com
SUMMARY:Mysore
DESCRIPTION:Zajęcia odbywają się w każdą środę od 17:00 do 18:30 w Ashtanga Yoga Wrocław (ul. Trzebnicka 12/1\, 50-246 Wrocław). \n\n\n\n>> WIĘCEJ SZCZEGÓŁÓW <<
URL:https://ashtangaanyways.com/grafik/mysore-2/2024-10-23/
LOCATION:Dolnośląskie
CATEGORIES:ashtanga joga,mysore,praktyka
END:VEVENT
BEGIN:VEVENT
DTSTART;TZID=Europe/Warsaw:20241023T070000
DTEND;TZID=Europe/Warsaw:20241023T090000
DTSTAMP:20260423T004109
CREATED:20241007T103400Z
LAST-MODIFIED:20251228T104600Z
UID:10001859-1729666800-1729674000@ashtangaanyways.com
SUMMARY:Ashtanga All – MYSORE
DESCRIPTION:Zajęcia odbywają się w każdy wtorek o 7:00-9:00 w Ashtanga Yoga Wrocław (ul. Trzebnicka 12/1\, 50-246 Wrocław). \n\n\n\n>> WIĘCEJ SZCZEGÓŁÓW <<
URL:https://ashtangaanyways.com/grafik/ashtanga-all-mysore-3/2024-10-23/
LOCATION:Dolnośląskie
CATEGORIES:nidra joga,praktyka
END:VEVENT
BEGIN:VEVENT
DTSTART;TZID=Europe/Warsaw:20241022T194500
DTEND;TZID=Europe/Warsaw:20241022T210000
DTSTAMP:20260423T004109
CREATED:20240813T095625Z
LAST-MODIFIED:20250120T174817Z
UID:10000380-1729626300-1729630800@ashtangaanyways.com
SUMMARY:Pierwsza Seria Prowadzona
DESCRIPTION:Zajęcia odbywają się w każdy wtorek od 19:45 do 21:00 w Ashtanga Yoga Wrocław (ul. Trzebnicka 12/1\, 50-246 Wrocław). \n\n\n\n>> WIĘCEJ SZCZEGÓŁÓW <<
URL:https://ashtangaanyways.com/grafik/pierwsza-seria-prowadzona/2024-10-22/
LOCATION:Dolnośląskie
CATEGORIES:ashtanga joga,mysore,praktyka
END:VEVENT
BEGIN:VEVENT
DTSTART;TZID=Europe/Warsaw:20241022T183000
DTEND;TZID=Europe/Warsaw:20241022T193000
DTSTAMP:20260423T004109
CREATED:20240813T095954Z
LAST-MODIFIED:20251215T193627Z
UID:10000399-1729621800-1729625400@ashtangaanyways.com
SUMMARY:Ashtanga joga dla początkujących
DESCRIPTION:Zajęcia odbywają się w każdy wtorek od 18:30 do 19:30 w Ashtanga Yoga Wrocław (ul. Trzebnicka 12/1\, 50-246 Wrocław). \n\n\n\n>> WIĘCEJ SZCZEGÓŁÓW <<
URL:https://ashtangaanyways.com/grafik/ashtanga-joga-dla-poczatkujacych/2024-10-22/
LOCATION:Dolnośląskie
CATEGORIES:ashtanga joga,praktyka
END:VEVENT
BEGIN:VEVENT
DTSTART;TZID=Europe/Warsaw:20241022T170000
DTEND;TZID=Europe/Warsaw:20241022T183000
DTSTAMP:20260423T004109
CREATED:20240813T095331Z
LAST-MODIFIED:20250120T174433Z
UID:10000418-1729616400-1729621800@ashtangaanyways.com
SUMMARY:Mysore
DESCRIPTION:Zajęcia odbywają się w każdy wtorek o 17:00-18:30 w Ashtanga Yoga Wrocław (ul. Trzebnicka 12/1\, 50-246 Wrocław). \n\n\n\n>> WIĘCEJ SZCZEGÓŁÓW <<
URL:https://ashtangaanyways.com/grafik/mysore/2024-10-22/
LOCATION:Dolnośląskie
CATEGORIES:ashtanga joga,mysore,praktyka
END:VEVENT
BEGIN:VEVENT
DTSTART;TZID=Europe/Warsaw:20241022T063000
DTEND;TZID=Europe/Warsaw:20241022T090000
DTSTAMP:20260423T004109
CREATED:20241007T104025Z
LAST-MODIFIED:20241130T180202Z
UID:10000499-1729578600-1729587600@ashtangaanyways.com
SUMMARY:Mysore
DESCRIPTION:Zajęcia odbywają się w każdy wtorek o 6:30-7:45 w Fabryce Energii (ul. Plac Wolności 7 (I piętro)\,  50-071 Wrocław). \n\n\n\n>> WIĘCEJ SZCZEGÓŁÓW <<
URL:https://ashtangaanyways.com/grafik/ashtanga-0-prowadzona/2024-10-22/
LOCATION:Dolnośląskie
CATEGORIES:ashtanga joga,praktyka
END:VEVENT
BEGIN:VEVENT
DTSTART;TZID=Europe/Warsaw:20241018T173000
DTEND;TZID=Europe/Warsaw:20241018T190000
DTSTAMP:20260423T004109
CREATED:20240813T101648Z
LAST-MODIFIED:20240908T182307Z
UID:10000027-1729272600-1729278000@ashtangaanyways.com
SUMMARY:Pierwsza Seria Prowadzona
DESCRIPTION:Zajęcia odbywają się w każdy piątek od 17:30 do 19:00 w Ashtanga Yoga Wrocław (ul. Trzebnicka 12/1\, 50-246 Wrocław). \n\n\n\n >> WIĘCEJ SZCZEGÓŁÓW <<
URL:https://ashtangaanyways.com/grafik/pierwsza-seria-prowadzona-2/2024-10-18/
LOCATION:Ashtanga Yoga Wrocław\, Trzebnicka 12/1\, Wrocław\, Dolnośląskie\, Poland
CATEGORIES:ashtanga joga,praktyka
END:VEVENT
BEGIN:VEVENT
DTSTART;TZID=Europe/Warsaw:20241017T194500
DTEND;TZID=Europe/Warsaw:20241017T210000
DTSTAMP:20260423T004109
CREATED:20240813T101254Z
LAST-MODIFIED:20241130T184448Z
UID:10000167-1729194300-1729198800@ashtangaanyways.com
SUMMARY:Yin Joga
DESCRIPTION:Zajęcia odbywają się w każdy czwartek od 19:45 do 21:00 w Ashtanga Yoga Wrocław (ul. Trzebnicka 12/1\, 50-246 Wrocław). \n\n\n\n>> WIĘCEJ SZCZEGÓŁÓW <<
URL:https://ashtangaanyways.com/grafik/pol-pierwszej-serii-prowadzonej/2024-10-17/
LOCATION:Ashtanga Yoga Wrocław\, Trzebnicka 12/1\, Wrocław\, Dolnośląskie\, Poland
CATEGORIES:ashtanga joga,praktyka
END:VEVENT
BEGIN:VEVENT
DTSTART;TZID=Europe/Warsaw:20241017T183000
DTEND;TZID=Europe/Warsaw:20241017T194500
DTSTAMP:20260423T004109
CREATED:20240813T101125Z
LAST-MODIFIED:20241130T184235Z
UID:10000237-1729189800-1729194300@ashtangaanyways.com
SUMMARY:Pół Pierwszej Serii Prowadzonej
DESCRIPTION:Zajęcia odbywają się w każdy czwartek od 18:30 do 19:45 w Ashtanga Yoga Wrocław (ul. Trzebnicka 12/1\, 50-246 Wrocław). \n\n\n\n>> WIĘCEJ SZCZEGÓŁÓW <<
URL:https://ashtangaanyways.com/grafik/ashtanga-wstep-do-drugiej-serii/2024-10-17/
LOCATION:Dolnośląskie
CATEGORIES:ashtanga joga,praktyka
END:VEVENT
BEGIN:VEVENT
DTSTART;TZID=Europe/Warsaw:20241017T170000
DTEND;TZID=Europe/Warsaw:20241017T183000
DTSTAMP:20260423T004109
CREATED:20240813T100816Z
LAST-MODIFIED:20250120T175955Z
UID:10000307-1729184400-1729189800@ashtangaanyways.com
SUMMARY:Mysore
DESCRIPTION:Zajęcia odbywają się w każdy czwartek o 17:00-18:30 w Ashtanga Yoga Wrocław (ul. Trzebnicka 12/1\, 50-246 Wrocław). \n\n\n\n>> WIĘCEJ SZCZEGÓŁÓW <<
URL:https://ashtangaanyways.com/grafik/mysore-3/2024-10-17/
LOCATION:Dolnośląskie
CATEGORIES:ashtanga joga,mysore,praktyka
END:VEVENT
BEGIN:VEVENT
DTSTART;TZID=Europe/Warsaw:20241017T063000
DTEND;TZID=Europe/Warsaw:20241017T090000
DTSTAMP:20260423T004109
CREATED:20241007T104025Z
LAST-MODIFIED:20241130T180202Z
UID:10000498-1729146600-1729155600@ashtangaanyways.com
SUMMARY:Mysore
DESCRIPTION:Zajęcia odbywają się w każdy wtorek o 6:30-7:45 w Fabryce Energii (ul. Plac Wolności 7 (I piętro)\,  50-071 Wrocław). \n\n\n\n>> WIĘCEJ SZCZEGÓŁÓW <<
URL:https://ashtangaanyways.com/grafik/ashtanga-0-prowadzona/2024-10-17/
LOCATION:Dolnośląskie
CATEGORIES:ashtanga joga,praktyka
END:VEVENT
BEGIN:VEVENT
DTSTART;TZID=Europe/Warsaw:20241016T194500
DTEND;TZID=Europe/Warsaw:20241016T204500
DTSTAMP:20260423T004109
CREATED:20240813T100513Z
LAST-MODIFIED:20250608T073501Z
UID:10000325-1729107900-1729111500@ashtangaanyways.com
SUMMARY:Pół Pierwszej Serii Prowadzonej
DESCRIPTION:Zajęcia odbywają się w każdą środę od 19:45 do 20:45 w Ashtanga Yoga Wrocław (ul. Trzebnicka 12/1\, 50-246 Wrocław). \n\n\n\n>> WIĘCEJ SZCZEGÓŁÓW <<
URL:https://ashtangaanyways.com/grafik/yin-joga/2024-10-16/
LOCATION:Dolnośląskie
CATEGORIES:ashtanga joga,praktyka
END:VEVENT
BEGIN:VEVENT
DTSTART;TZID=Europe/Warsaw:20241016T183000
DTEND;TZID=Europe/Warsaw:20241016T193000
DTSTAMP:20260423T004109
CREATED:20240813T100101Z
LAST-MODIFIED:20250120T175216Z
UID:10000343-1729103400-1729107000@ashtangaanyways.com
SUMMARY:Ashtanga joga dla początkujących
DESCRIPTION:Zajęcia odbywają się w każdą środę od 18:30 do 19:30 w Ashtanga Yoga Wrocław (ul. Trzebnicka 12/1\, 50-246 Wrocław). \n\n\n\n>> WIĘCEJ SZCZEGÓŁÓW <<
URL:https://ashtangaanyways.com/grafik/ashtanga-joga-dla-poczatkujacych-2/2024-10-16/
LOCATION:Dolnośląskie
CATEGORIES:ashtanga joga,praktyka
END:VEVENT
BEGIN:VEVENT
DTSTART;TZID=Europe/Warsaw:20241016T170000
DTEND;TZID=Europe/Warsaw:20241016T183000
DTSTAMP:20260423T004109
CREATED:20240813T095806Z
LAST-MODIFIED:20240908T181845Z
UID:10000361-1729098000-1729103400@ashtangaanyways.com
SUMMARY:Mysore
DESCRIPTION:Zajęcia odbywają się w każdą środę od 17:00 do 18:30 w Ashtanga Yoga Wrocław (ul. Trzebnicka 12/1\, 50-246 Wrocław). \n\n\n\n>> WIĘCEJ SZCZEGÓŁÓW <<
URL:https://ashtangaanyways.com/grafik/mysore-2/2024-10-16/
LOCATION:Dolnośląskie
CATEGORIES:ashtanga joga,mysore,praktyka
END:VEVENT
BEGIN:VEVENT
DTSTART;TZID=Europe/Warsaw:20241016T070000
DTEND;TZID=Europe/Warsaw:20241016T090000
DTSTAMP:20260423T004109
CREATED:20241007T103400Z
LAST-MODIFIED:20251228T104600Z
UID:10001858-1729062000-1729069200@ashtangaanyways.com
SUMMARY:Ashtanga All – MYSORE
DESCRIPTION:Zajęcia odbywają się w każdy wtorek o 7:00-9:00 w Ashtanga Yoga Wrocław (ul. Trzebnicka 12/1\, 50-246 Wrocław). \n\n\n\n>> WIĘCEJ SZCZEGÓŁÓW <<
URL:https://ashtangaanyways.com/grafik/ashtanga-all-mysore-3/2024-10-16/
LOCATION:Dolnośląskie
CATEGORIES:nidra joga,praktyka
END:VEVENT
BEGIN:VEVENT
DTSTART;TZID=Europe/Warsaw:20241015T194500
DTEND;TZID=Europe/Warsaw:20241015T210000
DTSTAMP:20260423T004109
CREATED:20240813T095625Z
LAST-MODIFIED:20250120T174817Z
UID:10000379-1729021500-1729026000@ashtangaanyways.com
SUMMARY:Pierwsza Seria Prowadzona
DESCRIPTION:Zajęcia odbywają się w każdy wtorek od 19:45 do 21:00 w Ashtanga Yoga Wrocław (ul. Trzebnicka 12/1\, 50-246 Wrocław). \n\n\n\n>> WIĘCEJ SZCZEGÓŁÓW <<
URL:https://ashtangaanyways.com/grafik/pierwsza-seria-prowadzona/2024-10-15/
LOCATION:Dolnośląskie
CATEGORIES:ashtanga joga,mysore,praktyka
END:VEVENT
BEGIN:VEVENT
DTSTART;TZID=Europe/Warsaw:20241015T183000
DTEND;TZID=Europe/Warsaw:20241015T193000
DTSTAMP:20260423T004109
CREATED:20240813T095954Z
LAST-MODIFIED:20251215T193627Z
UID:10000398-1729017000-1729020600@ashtangaanyways.com
SUMMARY:Ashtanga joga dla początkujących
DESCRIPTION:Zajęcia odbywają się w każdy wtorek od 18:30 do 19:30 w Ashtanga Yoga Wrocław (ul. Trzebnicka 12/1\, 50-246 Wrocław). \n\n\n\n>> WIĘCEJ SZCZEGÓŁÓW <<
URL:https://ashtangaanyways.com/grafik/ashtanga-joga-dla-poczatkujacych/2024-10-15/
LOCATION:Dolnośląskie
CATEGORIES:ashtanga joga,praktyka
END:VEVENT
BEGIN:VEVENT
DTSTART;TZID=Europe/Warsaw:20241015T170000
DTEND;TZID=Europe/Warsaw:20241015T183000
DTSTAMP:20260423T004109
CREATED:20240813T095331Z
LAST-MODIFIED:20250120T174433Z
UID:10000417-1729011600-1729017000@ashtangaanyways.com
SUMMARY:Mysore
DESCRIPTION:Zajęcia odbywają się w każdy wtorek o 17:00-18:30 w Ashtanga Yoga Wrocław (ul. Trzebnicka 12/1\, 50-246 Wrocław). \n\n\n\n>> WIĘCEJ SZCZEGÓŁÓW <<
URL:https://ashtangaanyways.com/grafik/mysore/2024-10-15/
LOCATION:Dolnośląskie
CATEGORIES:ashtanga joga,mysore,praktyka
END:VEVENT
BEGIN:VEVENT
DTSTART;TZID=Europe/Warsaw:20241015T063000
DTEND;TZID=Europe/Warsaw:20241015T090000
DTSTAMP:20260423T004109
CREATED:20241007T104025Z
LAST-MODIFIED:20241130T180202Z
UID:10000497-1728973800-1728982800@ashtangaanyways.com
SUMMARY:Mysore
DESCRIPTION:Zajęcia odbywają się w każdy wtorek o 6:30-7:45 w Fabryce Energii (ul. Plac Wolności 7 (I piętro)\,  50-071 Wrocław). \n\n\n\n>> WIĘCEJ SZCZEGÓŁÓW <<
URL:https://ashtangaanyways.com/grafik/ashtanga-0-prowadzona/2024-10-15/
LOCATION:Dolnośląskie
CATEGORIES:ashtanga joga,praktyka
END:VEVENT
BEGIN:VEVENT
DTSTART;TZID=Europe/Warsaw:20241011T173000
DTEND;TZID=Europe/Warsaw:20241011T190000
DTSTAMP:20260423T004109
CREATED:20240813T101648Z
LAST-MODIFIED:20240908T182307Z
UID:10000026-1728667800-1728673200@ashtangaanyways.com
SUMMARY:Pierwsza Seria Prowadzona
DESCRIPTION:Zajęcia odbywają się w każdy piątek od 17:30 do 19:00 w Ashtanga Yoga Wrocław (ul. Trzebnicka 12/1\, 50-246 Wrocław). \n\n\n\n >> WIĘCEJ SZCZEGÓŁÓW <<
URL:https://ashtangaanyways.com/grafik/pierwsza-seria-prowadzona-2/2024-10-11/
LOCATION:Ashtanga Yoga Wrocław\, Trzebnicka 12/1\, Wrocław\, Dolnośląskie\, Poland
CATEGORIES:ashtanga joga,praktyka
END:VEVENT
BEGIN:VEVENT
DTSTART;TZID=Europe/Warsaw:20241011T110000
DTEND;TZID=Europe/Warsaw:20241013T130000
DTSTAMP:20260423T004109
CREATED:20241008T171939Z
LAST-MODIFIED:20241008T171942Z
UID:10001134-1728644400-1728824400@ashtangaanyways.com
SUMMARY:40 H Ashtanga Vinyasa Yoga Intensive
DESCRIPTION:Weekendowy 40-godzinny kurs pogłębionej praktyki Ashtanga Jogi obejmuje przygotowanie do praktyki oraz praktykę własną. Kurs jest przeznaczony dla osób regularnie praktykujących jogę przez minimum pół roku\, chcących pogłębić swoją praktykę oraz poznać historię i filozofię Ashtanga Jogi. Zajęcia odbędą się w Ashtanga Yoga Wrocław.  \n\n\n\n>> WIĘCEJ SZCZEGÓŁÓW <<
URL:https://ashtangaanyways.com/grafik/40-h-ashtanga-vinyasa-yoga-intensive/2024-10-11/
LOCATION:Dolnośląskie
CATEGORIES:ashtanga joga,kurs
ATTACH;FMTTYPE=image/jpeg:https://ashtangaanyways.com/wp-content/uploads/2024/08/2023_AYW_czerwiec_fot.-Dominika-Hull-104_terapuetyczne-scaled-e1725952837321.jpg
END:VEVENT
END:VCALENDAR