BEGIN:VCALENDAR
VERSION:2.0
PRODID:-//Ashtanga Anyways - ECPv6.15.18//NONSGML v1.0//EN
CALSCALE:GREGORIAN
METHOD:PUBLISH
X-WR-CALNAME:Ashtanga Anyways
X-ORIGINAL-URL:https://ashtangaanyways.com
X-WR-CALDESC:Wydarzenia dla Ashtanga Anyways
REFRESH-INTERVAL;VALUE=DURATION:PT1H
X-Robots-Tag:noindex
X-PUBLISHED-TTL:PT1H
BEGIN:VTIMEZONE
TZID:Europe/Warsaw
BEGIN:DAYLIGHT
TZOFFSETFROM:+0100
TZOFFSETTO:+0200
TZNAME:CEST
DTSTART:20260329T010000
END:DAYLIGHT
BEGIN:STANDARD
TZOFFSETFROM:+0200
TZOFFSETTO:+0100
TZNAME:CET
DTSTART:20261025T010000
END:STANDARD
BEGIN:DAYLIGHT
TZOFFSETFROM:+0100
TZOFFSETTO:+0200
TZNAME:CEST
DTSTART:20270328T010000
END:DAYLIGHT
BEGIN:STANDARD
TZOFFSETFROM:+0200
TZOFFSETTO:+0100
TZNAME:CET
DTSTART:20271031T010000
END:STANDARD
BEGIN:DAYLIGHT
TZOFFSETFROM:+0100
TZOFFSETTO:+0200
TZNAME:CEST
DTSTART:20280326T010000
END:DAYLIGHT
BEGIN:STANDARD
TZOFFSETFROM:+0200
TZOFFSETTO:+0100
TZNAME:CET
DTSTART:20281029T010000
END:STANDARD
END:VTIMEZONE
BEGIN:VEVENT
DTSTART;TZID=Europe/Warsaw:20271116T183000
DTEND;TZID=Europe/Warsaw:20271116T193000
DTSTAMP:20260423T115522
CREATED:20240813T095954Z
LAST-MODIFIED:20251215T193627Z
UID:10002861-1826389800-1826393400@ashtangaanyways.com
SUMMARY:Ashtanga joga dla początkujących
DESCRIPTION:Zajęcia odbywają się w każdy wtorek od 18:30 do 19:30 w Ashtanga Yoga Wrocław (ul. Trzebnicka 12/1\, 50-246 Wrocław). \n\n\n\n>> WIĘCEJ SZCZEGÓŁÓW <<
URL:https://ashtangaanyways.com/grafik/ashtanga-joga-dla-poczatkujacych/2027-11-16/
LOCATION:Dolnośląskie
CATEGORIES:ashtanga joga,praktyka
END:VEVENT
BEGIN:VEVENT
DTSTART;TZID=Europe/Warsaw:20271116T170000
DTEND;TZID=Europe/Warsaw:20271116T183000
DTSTAMP:20260423T115522
CREATED:20251228T102742Z
LAST-MODIFIED:20251228T102744Z
UID:10003379-1826384400-1826389800@ashtangaanyways.com
SUMMARY:Mysore
DESCRIPTION:Zajęcia odbywają się w każdy wtorek o 17:00-18:30 w Ashtanga Yoga Wrocław (ul. Trzebnicka 12/1\, 50-246 Wrocław). \n\n\n\n>> WIĘCEJ SZCZEGÓŁÓW <<
URL:https://ashtangaanyways.com/grafik/mysore-10/2027-11-16/
LOCATION:Dolnośląskie
CATEGORIES:ashtanga joga,mysore,praktyka
END:VEVENT
BEGIN:VEVENT
DTSTART;TZID=Europe/Warsaw:20271114T180000
DTEND;TZID=Europe/Warsaw:20271114T190000
DTSTAMP:20260423T115522
CREATED:20250703T051838Z
LAST-MODIFIED:20250921T074333Z
UID:10002507-1826215200-1826218800@ashtangaanyways.com
SUMMARY:Joga regeneracyjna i techniki relaksacji
DESCRIPTION:Łagodna\, spokojna praktyka dostosowuje się do indywidualnych potrzeb i możliwości każdego uczestnika i jest idealna dla wszystkich poszukujących spowolnienia i relaksu\, niezależnie od poziomu zaawansowania\, kondycji fizycznej czy wieku. Podczas zajęć jogi regeneracyjnej będziemy poznawać wyciszające i równoważące techniki Pranayamy a także praktykować łagodną i medytacyjną Yin jogę\, kończąc praktyki asan długim relaksem z elementami jogi Nidry. \n\n\n\n>> WIĘCEJ SZCZEGÓŁÓW <<
URL:https://ashtangaanyways.com/grafik/joga-regeneracyjna-i-techniki-relaksacji-2/2027-11-14/
LOCATION:Dolnośląskie
CATEGORIES:joga regeneracyjna,nidra joga,yin joga
END:VEVENT
BEGIN:VEVENT
DTSTART;TZID=Europe/Warsaw:20271111T190000
DTEND;TZID=Europe/Warsaw:20271111T193000
DTSTAMP:20260423T115522
CREATED:20260110T205201Z
LAST-MODIFIED:20260110T205232Z
UID:10004164-1825959600-1825961400@ashtangaanyways.com
SUMMARY:Pół Pierwszej Serii prowadzonej
DESCRIPTION:Zajęcia odbywają się w każdy czwartek od 19:00 do 20:15 w Ashtanga Yoga Wrocław (ul. Trzebnicka 12/1\, 50-246 Wrocław).
URL:https://ashtangaanyways.com/grafik/pol-pierwszej-serii-ashtanga-jogi/2027-11-11/
LOCATION:Ashtanga Yoga Wrocław\, Trzebnicka 12/1\, Wrocław\, Dolnośląskie\, Poland
END:VEVENT
BEGIN:VEVENT
DTSTART;TZID=Europe/Warsaw:20271111T170000
DTEND;TZID=Europe/Warsaw:20271111T190000
DTSTAMP:20260423T115522
CREATED:20260110T204803Z
LAST-MODIFIED:20260110T204805Z
UID:10003902-1825952400-1825959600@ashtangaanyways.com
SUMMARY:mysore
DESCRIPTION:Zajęcia odbywają się w każdą środę od 18:30 do 20:00 w Ashtanga Yoga Wrocław (ul. Trzebnicka 12/1\, 50-246 Wrocław). Praktyka Mysore jest dostępna dla wszystkich\, zarówno dla początkujących\, jak i zaawansowanych\, choć często kojarzona jest z bardziej zaawansowaną praktyką Ashtanga Jogi. W praktyce Mysore każdy uczestnik wykonuje asany we własnym tempie\, zgodnie z indywidualnymi możliwościami\, a nauczyciel pomaga poprzez korekty i dostosowanie praktyki do poziomu ucznia. Dobrze jest znać sekwencję Pierwszej Serii\, ale nie jest to konieczne. Jeśli jesteś osobą początkującą poprowadzę Cię krok po kroku.
URL:https://ashtangaanyways.com/grafik/mysore-12/2027-11-11/
LOCATION:Ashtanga Yoga Wrocław\, Trzebnicka 12/1\, Wrocław\, Dolnośląskie\, Poland
END:VEVENT
BEGIN:VEVENT
DTSTART;TZID=Europe/Warsaw:20271110T173000
DTEND;TZID=Europe/Warsaw:20271110T190000
DTSTAMP:20260423T115522
CREATED:20260110T204055Z
LAST-MODIFIED:20260110T204056Z
UID:10003641-1825867800-1825873200@ashtangaanyways.com
SUMMARY:Pierwsza seria prowadzona
DESCRIPTION:Zajęcia odbywają się w każdą środę od 17:30 do 19:00 w Ashtanga Yoga Wrocław (ul. Trzebnicka 12/1\, 50-246 Wrocław).
URL:https://ashtangaanyways.com/grafik/pierwsza-seria-prowadzona-5/2027-11-10/
LOCATION:Dolnośląskie
END:VEVENT
BEGIN:VEVENT
DTSTART;TZID=Europe/Warsaw:20271109T183000
DTEND;TZID=Europe/Warsaw:20271109T193000
DTSTAMP:20260423T115522
CREATED:20240813T095954Z
LAST-MODIFIED:20251215T193627Z
UID:10002860-1825785000-1825788600@ashtangaanyways.com
SUMMARY:Ashtanga joga dla początkujących
DESCRIPTION:Zajęcia odbywają się w każdy wtorek od 18:30 do 19:30 w Ashtanga Yoga Wrocław (ul. Trzebnicka 12/1\, 50-246 Wrocław). \n\n\n\n>> WIĘCEJ SZCZEGÓŁÓW <<
URL:https://ashtangaanyways.com/grafik/ashtanga-joga-dla-poczatkujacych/2027-11-09/
LOCATION:Dolnośląskie
CATEGORIES:ashtanga joga,praktyka
END:VEVENT
BEGIN:VEVENT
DTSTART;TZID=Europe/Warsaw:20271109T170000
DTEND;TZID=Europe/Warsaw:20271109T183000
DTSTAMP:20260423T115522
CREATED:20251228T102742Z
LAST-MODIFIED:20251228T102744Z
UID:10003378-1825779600-1825785000@ashtangaanyways.com
SUMMARY:Mysore
DESCRIPTION:Zajęcia odbywają się w każdy wtorek o 17:00-18:30 w Ashtanga Yoga Wrocław (ul. Trzebnicka 12/1\, 50-246 Wrocław). \n\n\n\n>> WIĘCEJ SZCZEGÓŁÓW <<
URL:https://ashtangaanyways.com/grafik/mysore-10/2027-11-09/
LOCATION:Dolnośląskie
CATEGORIES:ashtanga joga,mysore,praktyka
END:VEVENT
BEGIN:VEVENT
DTSTART;TZID=Europe/Warsaw:20271107T180000
DTEND;TZID=Europe/Warsaw:20271107T190000
DTSTAMP:20260423T115522
CREATED:20250703T051838Z
LAST-MODIFIED:20250921T074333Z
UID:10002506-1825610400-1825614000@ashtangaanyways.com
SUMMARY:Joga regeneracyjna i techniki relaksacji
DESCRIPTION:Łagodna\, spokojna praktyka dostosowuje się do indywidualnych potrzeb i możliwości każdego uczestnika i jest idealna dla wszystkich poszukujących spowolnienia i relaksu\, niezależnie od poziomu zaawansowania\, kondycji fizycznej czy wieku. Podczas zajęć jogi regeneracyjnej będziemy poznawać wyciszające i równoważące techniki Pranayamy a także praktykować łagodną i medytacyjną Yin jogę\, kończąc praktyki asan długim relaksem z elementami jogi Nidry. \n\n\n\n>> WIĘCEJ SZCZEGÓŁÓW <<
URL:https://ashtangaanyways.com/grafik/joga-regeneracyjna-i-techniki-relaksacji-2/2027-11-07/
LOCATION:Dolnośląskie
CATEGORIES:joga regeneracyjna,nidra joga,yin joga
END:VEVENT
BEGIN:VEVENT
DTSTART;TZID=Europe/Warsaw:20271104T190000
DTEND;TZID=Europe/Warsaw:20271104T193000
DTSTAMP:20260423T115522
CREATED:20260110T205201Z
LAST-MODIFIED:20260110T205232Z
UID:10004163-1825354800-1825356600@ashtangaanyways.com
SUMMARY:Pół Pierwszej Serii prowadzonej
DESCRIPTION:Zajęcia odbywają się w każdy czwartek od 19:00 do 20:15 w Ashtanga Yoga Wrocław (ul. Trzebnicka 12/1\, 50-246 Wrocław).
URL:https://ashtangaanyways.com/grafik/pol-pierwszej-serii-ashtanga-jogi/2027-11-04/
LOCATION:Ashtanga Yoga Wrocław\, Trzebnicka 12/1\, Wrocław\, Dolnośląskie\, Poland
END:VEVENT
BEGIN:VEVENT
DTSTART;TZID=Europe/Warsaw:20271104T170000
DTEND;TZID=Europe/Warsaw:20271104T190000
DTSTAMP:20260423T115522
CREATED:20260110T204803Z
LAST-MODIFIED:20260110T204805Z
UID:10003901-1825347600-1825354800@ashtangaanyways.com
SUMMARY:mysore
DESCRIPTION:Zajęcia odbywają się w każdą środę od 18:30 do 20:00 w Ashtanga Yoga Wrocław (ul. Trzebnicka 12/1\, 50-246 Wrocław). Praktyka Mysore jest dostępna dla wszystkich\, zarówno dla początkujących\, jak i zaawansowanych\, choć często kojarzona jest z bardziej zaawansowaną praktyką Ashtanga Jogi. W praktyce Mysore każdy uczestnik wykonuje asany we własnym tempie\, zgodnie z indywidualnymi możliwościami\, a nauczyciel pomaga poprzez korekty i dostosowanie praktyki do poziomu ucznia. Dobrze jest znać sekwencję Pierwszej Serii\, ale nie jest to konieczne. Jeśli jesteś osobą początkującą poprowadzę Cię krok po kroku.
URL:https://ashtangaanyways.com/grafik/mysore-12/2027-11-04/
LOCATION:Ashtanga Yoga Wrocław\, Trzebnicka 12/1\, Wrocław\, Dolnośląskie\, Poland
END:VEVENT
BEGIN:VEVENT
DTSTART;TZID=Europe/Warsaw:20271103T173000
DTEND;TZID=Europe/Warsaw:20271103T190000
DTSTAMP:20260423T115522
CREATED:20260110T204055Z
LAST-MODIFIED:20260110T204056Z
UID:10003640-1825263000-1825268400@ashtangaanyways.com
SUMMARY:Pierwsza seria prowadzona
DESCRIPTION:Zajęcia odbywają się w każdą środę od 17:30 do 19:00 w Ashtanga Yoga Wrocław (ul. Trzebnicka 12/1\, 50-246 Wrocław).
URL:https://ashtangaanyways.com/grafik/pierwsza-seria-prowadzona-5/2027-11-03/
LOCATION:Dolnośląskie
END:VEVENT
BEGIN:VEVENT
DTSTART;TZID=Europe/Warsaw:20271102T183000
DTEND;TZID=Europe/Warsaw:20271102T193000
DTSTAMP:20260423T115522
CREATED:20240813T095954Z
LAST-MODIFIED:20251215T193627Z
UID:10002859-1825180200-1825183800@ashtangaanyways.com
SUMMARY:Ashtanga joga dla początkujących
DESCRIPTION:Zajęcia odbywają się w każdy wtorek od 18:30 do 19:30 w Ashtanga Yoga Wrocław (ul. Trzebnicka 12/1\, 50-246 Wrocław). \n\n\n\n>> WIĘCEJ SZCZEGÓŁÓW <<
URL:https://ashtangaanyways.com/grafik/ashtanga-joga-dla-poczatkujacych/2027-11-02/
LOCATION:Dolnośląskie
CATEGORIES:ashtanga joga,praktyka
END:VEVENT
BEGIN:VEVENT
DTSTART;TZID=Europe/Warsaw:20271102T170000
DTEND;TZID=Europe/Warsaw:20271102T183000
DTSTAMP:20260423T115522
CREATED:20251228T102742Z
LAST-MODIFIED:20251228T102744Z
UID:10003377-1825174800-1825180200@ashtangaanyways.com
SUMMARY:Mysore
DESCRIPTION:Zajęcia odbywają się w każdy wtorek o 17:00-18:30 w Ashtanga Yoga Wrocław (ul. Trzebnicka 12/1\, 50-246 Wrocław). \n\n\n\n>> WIĘCEJ SZCZEGÓŁÓW <<
URL:https://ashtangaanyways.com/grafik/mysore-10/2027-11-02/
LOCATION:Dolnośląskie
CATEGORIES:ashtanga joga,mysore,praktyka
END:VEVENT
BEGIN:VEVENT
DTSTART;TZID=Europe/Warsaw:20271031T180000
DTEND;TZID=Europe/Warsaw:20271031T190000
DTSTAMP:20260423T115522
CREATED:20250703T051838Z
LAST-MODIFIED:20250921T074333Z
UID:10002505-1825005600-1825009200@ashtangaanyways.com
SUMMARY:Joga regeneracyjna i techniki relaksacji
DESCRIPTION:Łagodna\, spokojna praktyka dostosowuje się do indywidualnych potrzeb i możliwości każdego uczestnika i jest idealna dla wszystkich poszukujących spowolnienia i relaksu\, niezależnie od poziomu zaawansowania\, kondycji fizycznej czy wieku. Podczas zajęć jogi regeneracyjnej będziemy poznawać wyciszające i równoważące techniki Pranayamy a także praktykować łagodną i medytacyjną Yin jogę\, kończąc praktyki asan długim relaksem z elementami jogi Nidry. \n\n\n\n>> WIĘCEJ SZCZEGÓŁÓW <<
URL:https://ashtangaanyways.com/grafik/joga-regeneracyjna-i-techniki-relaksacji-2/2027-10-31/
LOCATION:Dolnośląskie
CATEGORIES:joga regeneracyjna,nidra joga,yin joga
END:VEVENT
BEGIN:VEVENT
DTSTART;TZID=Europe/Warsaw:20271028T190000
DTEND;TZID=Europe/Warsaw:20271028T193000
DTSTAMP:20260423T115522
CREATED:20260110T205201Z
LAST-MODIFIED:20260110T205232Z
UID:10004162-1824750000-1824751800@ashtangaanyways.com
SUMMARY:Pół Pierwszej Serii prowadzonej
DESCRIPTION:Zajęcia odbywają się w każdy czwartek od 19:00 do 20:15 w Ashtanga Yoga Wrocław (ul. Trzebnicka 12/1\, 50-246 Wrocław).
URL:https://ashtangaanyways.com/grafik/pol-pierwszej-serii-ashtanga-jogi/2027-10-28/
LOCATION:Ashtanga Yoga Wrocław\, Trzebnicka 12/1\, Wrocław\, Dolnośląskie\, Poland
END:VEVENT
BEGIN:VEVENT
DTSTART;TZID=Europe/Warsaw:20271028T170000
DTEND;TZID=Europe/Warsaw:20271028T190000
DTSTAMP:20260423T115522
CREATED:20260110T204803Z
LAST-MODIFIED:20260110T204805Z
UID:10003900-1824742800-1824750000@ashtangaanyways.com
SUMMARY:mysore
DESCRIPTION:Zajęcia odbywają się w każdą środę od 18:30 do 20:00 w Ashtanga Yoga Wrocław (ul. Trzebnicka 12/1\, 50-246 Wrocław). Praktyka Mysore jest dostępna dla wszystkich\, zarówno dla początkujących\, jak i zaawansowanych\, choć często kojarzona jest z bardziej zaawansowaną praktyką Ashtanga Jogi. W praktyce Mysore każdy uczestnik wykonuje asany we własnym tempie\, zgodnie z indywidualnymi możliwościami\, a nauczyciel pomaga poprzez korekty i dostosowanie praktyki do poziomu ucznia. Dobrze jest znać sekwencję Pierwszej Serii\, ale nie jest to konieczne. Jeśli jesteś osobą początkującą poprowadzę Cię krok po kroku.
URL:https://ashtangaanyways.com/grafik/mysore-12/2027-10-28/
LOCATION:Ashtanga Yoga Wrocław\, Trzebnicka 12/1\, Wrocław\, Dolnośląskie\, Poland
END:VEVENT
BEGIN:VEVENT
DTSTART;TZID=Europe/Warsaw:20271027T173000
DTEND;TZID=Europe/Warsaw:20271027T190000
DTSTAMP:20260423T115522
CREATED:20260110T204055Z
LAST-MODIFIED:20260110T204056Z
UID:10003639-1824658200-1824663600@ashtangaanyways.com
SUMMARY:Pierwsza seria prowadzona
DESCRIPTION:Zajęcia odbywają się w każdą środę od 17:30 do 19:00 w Ashtanga Yoga Wrocław (ul. Trzebnicka 12/1\, 50-246 Wrocław).
URL:https://ashtangaanyways.com/grafik/pierwsza-seria-prowadzona-5/2027-10-27/
LOCATION:Dolnośląskie
END:VEVENT
BEGIN:VEVENT
DTSTART;TZID=Europe/Warsaw:20271026T183000
DTEND;TZID=Europe/Warsaw:20271026T193000
DTSTAMP:20260423T115522
CREATED:20240813T095954Z
LAST-MODIFIED:20251215T193627Z
UID:10002858-1824575400-1824579000@ashtangaanyways.com
SUMMARY:Ashtanga joga dla początkujących
DESCRIPTION:Zajęcia odbywają się w każdy wtorek od 18:30 do 19:30 w Ashtanga Yoga Wrocław (ul. Trzebnicka 12/1\, 50-246 Wrocław). \n\n\n\n>> WIĘCEJ SZCZEGÓŁÓW <<
URL:https://ashtangaanyways.com/grafik/ashtanga-joga-dla-poczatkujacych/2027-10-26/
LOCATION:Dolnośląskie
CATEGORIES:ashtanga joga,praktyka
END:VEVENT
BEGIN:VEVENT
DTSTART;TZID=Europe/Warsaw:20271026T170000
DTEND;TZID=Europe/Warsaw:20271026T183000
DTSTAMP:20260423T115522
CREATED:20251228T102742Z
LAST-MODIFIED:20251228T102744Z
UID:10003376-1824570000-1824575400@ashtangaanyways.com
SUMMARY:Mysore
DESCRIPTION:Zajęcia odbywają się w każdy wtorek o 17:00-18:30 w Ashtanga Yoga Wrocław (ul. Trzebnicka 12/1\, 50-246 Wrocław). \n\n\n\n>> WIĘCEJ SZCZEGÓŁÓW <<
URL:https://ashtangaanyways.com/grafik/mysore-10/2027-10-26/
LOCATION:Dolnośląskie
CATEGORIES:ashtanga joga,mysore,praktyka
END:VEVENT
BEGIN:VEVENT
DTSTART;TZID=Europe/Warsaw:20271024T180000
DTEND;TZID=Europe/Warsaw:20271024T190000
DTSTAMP:20260423T115522
CREATED:20250703T051838Z
LAST-MODIFIED:20250921T074333Z
UID:10002504-1824400800-1824404400@ashtangaanyways.com
SUMMARY:Joga regeneracyjna i techniki relaksacji
DESCRIPTION:Łagodna\, spokojna praktyka dostosowuje się do indywidualnych potrzeb i możliwości każdego uczestnika i jest idealna dla wszystkich poszukujących spowolnienia i relaksu\, niezależnie od poziomu zaawansowania\, kondycji fizycznej czy wieku. Podczas zajęć jogi regeneracyjnej będziemy poznawać wyciszające i równoważące techniki Pranayamy a także praktykować łagodną i medytacyjną Yin jogę\, kończąc praktyki asan długim relaksem z elementami jogi Nidry. \n\n\n\n>> WIĘCEJ SZCZEGÓŁÓW <<
URL:https://ashtangaanyways.com/grafik/joga-regeneracyjna-i-techniki-relaksacji-2/2027-10-24/
LOCATION:Dolnośląskie
CATEGORIES:joga regeneracyjna,nidra joga,yin joga
END:VEVENT
BEGIN:VEVENT
DTSTART;TZID=Europe/Warsaw:20271021T190000
DTEND;TZID=Europe/Warsaw:20271021T193000
DTSTAMP:20260423T115522
CREATED:20260110T205201Z
LAST-MODIFIED:20260110T205232Z
UID:10004161-1824145200-1824147000@ashtangaanyways.com
SUMMARY:Pół Pierwszej Serii prowadzonej
DESCRIPTION:Zajęcia odbywają się w każdy czwartek od 19:00 do 20:15 w Ashtanga Yoga Wrocław (ul. Trzebnicka 12/1\, 50-246 Wrocław).
URL:https://ashtangaanyways.com/grafik/pol-pierwszej-serii-ashtanga-jogi/2027-10-21/
LOCATION:Ashtanga Yoga Wrocław\, Trzebnicka 12/1\, Wrocław\, Dolnośląskie\, Poland
END:VEVENT
BEGIN:VEVENT
DTSTART;TZID=Europe/Warsaw:20271021T170000
DTEND;TZID=Europe/Warsaw:20271021T190000
DTSTAMP:20260423T115522
CREATED:20260110T204803Z
LAST-MODIFIED:20260110T204805Z
UID:10003899-1824138000-1824145200@ashtangaanyways.com
SUMMARY:mysore
DESCRIPTION:Zajęcia odbywają się w każdą środę od 18:30 do 20:00 w Ashtanga Yoga Wrocław (ul. Trzebnicka 12/1\, 50-246 Wrocław). Praktyka Mysore jest dostępna dla wszystkich\, zarówno dla początkujących\, jak i zaawansowanych\, choć często kojarzona jest z bardziej zaawansowaną praktyką Ashtanga Jogi. W praktyce Mysore każdy uczestnik wykonuje asany we własnym tempie\, zgodnie z indywidualnymi możliwościami\, a nauczyciel pomaga poprzez korekty i dostosowanie praktyki do poziomu ucznia. Dobrze jest znać sekwencję Pierwszej Serii\, ale nie jest to konieczne. Jeśli jesteś osobą początkującą poprowadzę Cię krok po kroku.
URL:https://ashtangaanyways.com/grafik/mysore-12/2027-10-21/
LOCATION:Ashtanga Yoga Wrocław\, Trzebnicka 12/1\, Wrocław\, Dolnośląskie\, Poland
END:VEVENT
BEGIN:VEVENT
DTSTART;TZID=Europe/Warsaw:20271020T173000
DTEND;TZID=Europe/Warsaw:20271020T190000
DTSTAMP:20260423T115522
CREATED:20260110T204055Z
LAST-MODIFIED:20260110T204056Z
UID:10003638-1824053400-1824058800@ashtangaanyways.com
SUMMARY:Pierwsza seria prowadzona
DESCRIPTION:Zajęcia odbywają się w każdą środę od 17:30 do 19:00 w Ashtanga Yoga Wrocław (ul. Trzebnicka 12/1\, 50-246 Wrocław).
URL:https://ashtangaanyways.com/grafik/pierwsza-seria-prowadzona-5/2027-10-20/
LOCATION:Dolnośląskie
END:VEVENT
BEGIN:VEVENT
DTSTART;TZID=Europe/Warsaw:20271019T183000
DTEND;TZID=Europe/Warsaw:20271019T193000
DTSTAMP:20260423T115522
CREATED:20240813T095954Z
LAST-MODIFIED:20251215T193627Z
UID:10002857-1823970600-1823974200@ashtangaanyways.com
SUMMARY:Ashtanga joga dla początkujących
DESCRIPTION:Zajęcia odbywają się w każdy wtorek od 18:30 do 19:30 w Ashtanga Yoga Wrocław (ul. Trzebnicka 12/1\, 50-246 Wrocław). \n\n\n\n>> WIĘCEJ SZCZEGÓŁÓW <<
URL:https://ashtangaanyways.com/grafik/ashtanga-joga-dla-poczatkujacych/2027-10-19/
LOCATION:Dolnośląskie
CATEGORIES:ashtanga joga,praktyka
END:VEVENT
BEGIN:VEVENT
DTSTART;TZID=Europe/Warsaw:20271019T170000
DTEND;TZID=Europe/Warsaw:20271019T183000
DTSTAMP:20260423T115522
CREATED:20251228T102742Z
LAST-MODIFIED:20251228T102744Z
UID:10003375-1823965200-1823970600@ashtangaanyways.com
SUMMARY:Mysore
DESCRIPTION:Zajęcia odbywają się w każdy wtorek o 17:00-18:30 w Ashtanga Yoga Wrocław (ul. Trzebnicka 12/1\, 50-246 Wrocław). \n\n\n\n>> WIĘCEJ SZCZEGÓŁÓW <<
URL:https://ashtangaanyways.com/grafik/mysore-10/2027-10-19/
LOCATION:Dolnośląskie
CATEGORIES:ashtanga joga,mysore,praktyka
END:VEVENT
BEGIN:VEVENT
DTSTART;TZID=Europe/Warsaw:20271017T180000
DTEND;TZID=Europe/Warsaw:20271017T190000
DTSTAMP:20260423T115522
CREATED:20250703T051838Z
LAST-MODIFIED:20250921T074333Z
UID:10002503-1823796000-1823799600@ashtangaanyways.com
SUMMARY:Joga regeneracyjna i techniki relaksacji
DESCRIPTION:Łagodna\, spokojna praktyka dostosowuje się do indywidualnych potrzeb i możliwości każdego uczestnika i jest idealna dla wszystkich poszukujących spowolnienia i relaksu\, niezależnie od poziomu zaawansowania\, kondycji fizycznej czy wieku. Podczas zajęć jogi regeneracyjnej będziemy poznawać wyciszające i równoważące techniki Pranayamy a także praktykować łagodną i medytacyjną Yin jogę\, kończąc praktyki asan długim relaksem z elementami jogi Nidry. \n\n\n\n>> WIĘCEJ SZCZEGÓŁÓW <<
URL:https://ashtangaanyways.com/grafik/joga-regeneracyjna-i-techniki-relaksacji-2/2027-10-17/
LOCATION:Dolnośląskie
CATEGORIES:joga regeneracyjna,nidra joga,yin joga
END:VEVENT
BEGIN:VEVENT
DTSTART;TZID=Europe/Warsaw:20271014T190000
DTEND;TZID=Europe/Warsaw:20271014T193000
DTSTAMP:20260423T115522
CREATED:20260110T205201Z
LAST-MODIFIED:20260110T205232Z
UID:10004160-1823540400-1823542200@ashtangaanyways.com
SUMMARY:Pół Pierwszej Serii prowadzonej
DESCRIPTION:Zajęcia odbywają się w każdy czwartek od 19:00 do 20:15 w Ashtanga Yoga Wrocław (ul. Trzebnicka 12/1\, 50-246 Wrocław).
URL:https://ashtangaanyways.com/grafik/pol-pierwszej-serii-ashtanga-jogi/2027-10-14/
LOCATION:Ashtanga Yoga Wrocław\, Trzebnicka 12/1\, Wrocław\, Dolnośląskie\, Poland
END:VEVENT
BEGIN:VEVENT
DTSTART;TZID=Europe/Warsaw:20271014T170000
DTEND;TZID=Europe/Warsaw:20271014T190000
DTSTAMP:20260423T115522
CREATED:20260110T204803Z
LAST-MODIFIED:20260110T204805Z
UID:10003898-1823533200-1823540400@ashtangaanyways.com
SUMMARY:mysore
DESCRIPTION:Zajęcia odbywają się w każdą środę od 18:30 do 20:00 w Ashtanga Yoga Wrocław (ul. Trzebnicka 12/1\, 50-246 Wrocław). Praktyka Mysore jest dostępna dla wszystkich\, zarówno dla początkujących\, jak i zaawansowanych\, choć często kojarzona jest z bardziej zaawansowaną praktyką Ashtanga Jogi. W praktyce Mysore każdy uczestnik wykonuje asany we własnym tempie\, zgodnie z indywidualnymi możliwościami\, a nauczyciel pomaga poprzez korekty i dostosowanie praktyki do poziomu ucznia. Dobrze jest znać sekwencję Pierwszej Serii\, ale nie jest to konieczne. Jeśli jesteś osobą początkującą poprowadzę Cię krok po kroku.
URL:https://ashtangaanyways.com/grafik/mysore-12/2027-10-14/
LOCATION:Ashtanga Yoga Wrocław\, Trzebnicka 12/1\, Wrocław\, Dolnośląskie\, Poland
END:VEVENT
BEGIN:VEVENT
DTSTART;TZID=Europe/Warsaw:20271013T173000
DTEND;TZID=Europe/Warsaw:20271013T190000
DTSTAMP:20260423T115522
CREATED:20260110T204055Z
LAST-MODIFIED:20260110T204056Z
UID:10003637-1823448600-1823454000@ashtangaanyways.com
SUMMARY:Pierwsza seria prowadzona
DESCRIPTION:Zajęcia odbywają się w każdą środę od 17:30 do 19:00 w Ashtanga Yoga Wrocław (ul. Trzebnicka 12/1\, 50-246 Wrocław).
URL:https://ashtangaanyways.com/grafik/pierwsza-seria-prowadzona-5/2027-10-13/
LOCATION:Dolnośląskie
END:VEVENT
END:VCALENDAR