BEGIN:VCALENDAR
VERSION:2.0
PRODID:-//Ashtanga Anyways - ECPv6.15.18//NONSGML v1.0//EN
CALSCALE:GREGORIAN
METHOD:PUBLISH
X-WR-CALNAME:Ashtanga Anyways
X-ORIGINAL-URL:https://ashtangaanyways.com
X-WR-CALDESC:Wydarzenia dla Ashtanga Anyways
REFRESH-INTERVAL;VALUE=DURATION:PT1H
X-Robots-Tag:noindex
X-PUBLISHED-TTL:PT1H
BEGIN:VTIMEZONE
TZID:Europe/Warsaw
BEGIN:DAYLIGHT
TZOFFSETFROM:+0100
TZOFFSETTO:+0200
TZNAME:CEST
DTSTART:20250330T010000
END:DAYLIGHT
BEGIN:STANDARD
TZOFFSETFROM:+0200
TZOFFSETTO:+0100
TZNAME:CET
DTSTART:20251026T010000
END:STANDARD
BEGIN:DAYLIGHT
TZOFFSETFROM:+0100
TZOFFSETTO:+0200
TZNAME:CEST
DTSTART:20260329T010000
END:DAYLIGHT
BEGIN:STANDARD
TZOFFSETFROM:+0200
TZOFFSETTO:+0100
TZNAME:CET
DTSTART:20261025T010000
END:STANDARD
BEGIN:DAYLIGHT
TZOFFSETFROM:+0100
TZOFFSETTO:+0200
TZNAME:CEST
DTSTART:20270328T010000
END:DAYLIGHT
BEGIN:STANDARD
TZOFFSETFROM:+0200
TZOFFSETTO:+0100
TZNAME:CET
DTSTART:20271031T010000
END:STANDARD
BEGIN:DAYLIGHT
TZOFFSETFROM:+0100
TZOFFSETTO:+0200
TZNAME:CEST
DTSTART:20280326T010000
END:DAYLIGHT
BEGIN:STANDARD
TZOFFSETFROM:+0200
TZOFFSETTO:+0100
TZNAME:CET
DTSTART:20281029T010000
END:STANDARD
END:VTIMEZONE
BEGIN:VEVENT
DTSTART;TZID=Europe/Warsaw:20260715T173000
DTEND;TZID=Europe/Warsaw:20260715T190000
DTSTAMP:20260421T143051
CREATED:20260110T204055Z
LAST-MODIFIED:20260110T204056Z
UID:10003572-1784136600-1784142000@ashtangaanyways.com
SUMMARY:Pierwsza seria prowadzona
DESCRIPTION:Zajęcia odbywają się w każdą środę od 17:30 do 19:00 w Ashtanga Yoga Wrocław (ul. Trzebnicka 12/1\, 50-246 Wrocław).
URL:https://ashtangaanyways.com/grafik/pierwsza-seria-prowadzona-5/2026-07-15/
END:VEVENT
BEGIN:VEVENT
DTSTART;TZID=Europe/Warsaw:20260722T173000
DTEND;TZID=Europe/Warsaw:20260722T190000
DTSTAMP:20260421T143051
CREATED:20260110T204055Z
LAST-MODIFIED:20260110T204056Z
UID:10003573-1784741400-1784746800@ashtangaanyways.com
SUMMARY:Pierwsza seria prowadzona
DESCRIPTION:Zajęcia odbywają się w każdą środę od 17:30 do 19:00 w Ashtanga Yoga Wrocław (ul. Trzebnicka 12/1\, 50-246 Wrocław).
URL:https://ashtangaanyways.com/grafik/pierwsza-seria-prowadzona-5/2026-07-22/
END:VEVENT
BEGIN:VEVENT
DTSTART;TZID=Europe/Warsaw:20260729T173000
DTEND;TZID=Europe/Warsaw:20260729T190000
DTSTAMP:20260421T143051
CREATED:20260110T204055Z
LAST-MODIFIED:20260110T204056Z
UID:10003574-1785346200-1785351600@ashtangaanyways.com
SUMMARY:Pierwsza seria prowadzona
DESCRIPTION:Zajęcia odbywają się w każdą środę od 17:30 do 19:00 w Ashtanga Yoga Wrocław (ul. Trzebnicka 12/1\, 50-246 Wrocław).
URL:https://ashtangaanyways.com/grafik/pierwsza-seria-prowadzona-5/2026-07-29/
END:VEVENT
BEGIN:VEVENT
DTSTART;TZID=Europe/Warsaw:20260805T173000
DTEND;TZID=Europe/Warsaw:20260805T190000
DTSTAMP:20260421T143051
CREATED:20260110T204055Z
LAST-MODIFIED:20260110T204056Z
UID:10003575-1785951000-1785956400@ashtangaanyways.com
SUMMARY:Pierwsza seria prowadzona
DESCRIPTION:Zajęcia odbywają się w każdą środę od 17:30 do 19:00 w Ashtanga Yoga Wrocław (ul. Trzebnicka 12/1\, 50-246 Wrocław).
URL:https://ashtangaanyways.com/grafik/pierwsza-seria-prowadzona-5/2026-08-05/
END:VEVENT
BEGIN:VEVENT
DTSTART;TZID=Europe/Warsaw:20260812T173000
DTEND;TZID=Europe/Warsaw:20260812T190000
DTSTAMP:20260421T143051
CREATED:20260110T204055Z
LAST-MODIFIED:20260110T204056Z
UID:10003576-1786555800-1786561200@ashtangaanyways.com
SUMMARY:Pierwsza seria prowadzona
DESCRIPTION:Zajęcia odbywają się w każdą środę od 17:30 do 19:00 w Ashtanga Yoga Wrocław (ul. Trzebnicka 12/1\, 50-246 Wrocław).
URL:https://ashtangaanyways.com/grafik/pierwsza-seria-prowadzona-5/2026-08-12/
END:VEVENT
BEGIN:VEVENT
DTSTART;TZID=Europe/Warsaw:20260819T173000
DTEND;TZID=Europe/Warsaw:20260819T190000
DTSTAMP:20260421T143051
CREATED:20260110T204055Z
LAST-MODIFIED:20260110T204056Z
UID:10003577-1787160600-1787166000@ashtangaanyways.com
SUMMARY:Pierwsza seria prowadzona
DESCRIPTION:Zajęcia odbywają się w każdą środę od 17:30 do 19:00 w Ashtanga Yoga Wrocław (ul. Trzebnicka 12/1\, 50-246 Wrocław).
URL:https://ashtangaanyways.com/grafik/pierwsza-seria-prowadzona-5/2026-08-19/
END:VEVENT
BEGIN:VEVENT
DTSTART;TZID=Europe/Warsaw:20260826T173000
DTEND;TZID=Europe/Warsaw:20260826T190000
DTSTAMP:20260421T143051
CREATED:20260110T204055Z
LAST-MODIFIED:20260110T204056Z
UID:10003578-1787765400-1787770800@ashtangaanyways.com
SUMMARY:Pierwsza seria prowadzona
DESCRIPTION:Zajęcia odbywają się w każdą środę od 17:30 do 19:00 w Ashtanga Yoga Wrocław (ul. Trzebnicka 12/1\, 50-246 Wrocław).
URL:https://ashtangaanyways.com/grafik/pierwsza-seria-prowadzona-5/2026-08-26/
END:VEVENT
BEGIN:VEVENT
DTSTART;TZID=Europe/Warsaw:20260902T173000
DTEND;TZID=Europe/Warsaw:20260902T190000
DTSTAMP:20260421T143051
CREATED:20260110T204055Z
LAST-MODIFIED:20260110T204056Z
UID:10003579-1788370200-1788375600@ashtangaanyways.com
SUMMARY:Pierwsza seria prowadzona
DESCRIPTION:Zajęcia odbywają się w każdą środę od 17:30 do 19:00 w Ashtanga Yoga Wrocław (ul. Trzebnicka 12/1\, 50-246 Wrocław).
URL:https://ashtangaanyways.com/grafik/pierwsza-seria-prowadzona-5/2026-09-02/
END:VEVENT
BEGIN:VEVENT
DTSTART;TZID=Europe/Warsaw:20260909T173000
DTEND;TZID=Europe/Warsaw:20260909T190000
DTSTAMP:20260421T143051
CREATED:20260110T204055Z
LAST-MODIFIED:20260110T204056Z
UID:10003580-1788975000-1788980400@ashtangaanyways.com
SUMMARY:Pierwsza seria prowadzona
DESCRIPTION:Zajęcia odbywają się w każdą środę od 17:30 do 19:00 w Ashtanga Yoga Wrocław (ul. Trzebnicka 12/1\, 50-246 Wrocław).
URL:https://ashtangaanyways.com/grafik/pierwsza-seria-prowadzona-5/2026-09-09/
END:VEVENT
BEGIN:VEVENT
DTSTART;TZID=Europe/Warsaw:20260916T173000
DTEND;TZID=Europe/Warsaw:20260916T190000
DTSTAMP:20260421T143051
CREATED:20260110T204055Z
LAST-MODIFIED:20260110T204056Z
UID:10003581-1789579800-1789585200@ashtangaanyways.com
SUMMARY:Pierwsza seria prowadzona
DESCRIPTION:Zajęcia odbywają się w każdą środę od 17:30 do 19:00 w Ashtanga Yoga Wrocław (ul. Trzebnicka 12/1\, 50-246 Wrocław).
URL:https://ashtangaanyways.com/grafik/pierwsza-seria-prowadzona-5/2026-09-16/
END:VEVENT
BEGIN:VEVENT
DTSTART;TZID=Europe/Warsaw:20260923T173000
DTEND;TZID=Europe/Warsaw:20260923T190000
DTSTAMP:20260421T143051
CREATED:20260110T204055Z
LAST-MODIFIED:20260110T204056Z
UID:10003582-1790184600-1790190000@ashtangaanyways.com
SUMMARY:Pierwsza seria prowadzona
DESCRIPTION:Zajęcia odbywają się w każdą środę od 17:30 do 19:00 w Ashtanga Yoga Wrocław (ul. Trzebnicka 12/1\, 50-246 Wrocław).
URL:https://ashtangaanyways.com/grafik/pierwsza-seria-prowadzona-5/2026-09-23/
END:VEVENT
BEGIN:VEVENT
DTSTART;TZID=Europe/Warsaw:20260930T173000
DTEND;TZID=Europe/Warsaw:20260930T190000
DTSTAMP:20260421T143051
CREATED:20260110T204055Z
LAST-MODIFIED:20260110T204056Z
UID:10003583-1790789400-1790794800@ashtangaanyways.com
SUMMARY:Pierwsza seria prowadzona
DESCRIPTION:Zajęcia odbywają się w każdą środę od 17:30 do 19:00 w Ashtanga Yoga Wrocław (ul. Trzebnicka 12/1\, 50-246 Wrocław).
URL:https://ashtangaanyways.com/grafik/pierwsza-seria-prowadzona-5/2026-09-30/
END:VEVENT
BEGIN:VEVENT
DTSTART;TZID=Europe/Warsaw:20261007T173000
DTEND;TZID=Europe/Warsaw:20261007T190000
DTSTAMP:20260421T143051
CREATED:20260110T204055Z
LAST-MODIFIED:20260110T204056Z
UID:10003584-1791394200-1791399600@ashtangaanyways.com
SUMMARY:Pierwsza seria prowadzona
DESCRIPTION:Zajęcia odbywają się w każdą środę od 17:30 do 19:00 w Ashtanga Yoga Wrocław (ul. Trzebnicka 12/1\, 50-246 Wrocław).
URL:https://ashtangaanyways.com/grafik/pierwsza-seria-prowadzona-5/2026-10-07/
END:VEVENT
BEGIN:VEVENT
DTSTART;TZID=Europe/Warsaw:20261014T173000
DTEND;TZID=Europe/Warsaw:20261014T190000
DTSTAMP:20260421T143051
CREATED:20260110T204055Z
LAST-MODIFIED:20260110T204056Z
UID:10003585-1791999000-1792004400@ashtangaanyways.com
SUMMARY:Pierwsza seria prowadzona
DESCRIPTION:Zajęcia odbywają się w każdą środę od 17:30 do 19:00 w Ashtanga Yoga Wrocław (ul. Trzebnicka 12/1\, 50-246 Wrocław).
URL:https://ashtangaanyways.com/grafik/pierwsza-seria-prowadzona-5/2026-10-14/
END:VEVENT
BEGIN:VEVENT
DTSTART;TZID=Europe/Warsaw:20261021T173000
DTEND;TZID=Europe/Warsaw:20261021T190000
DTSTAMP:20260421T143051
CREATED:20260110T204055Z
LAST-MODIFIED:20260110T204056Z
UID:10003586-1792603800-1792609200@ashtangaanyways.com
SUMMARY:Pierwsza seria prowadzona
DESCRIPTION:Zajęcia odbywają się w każdą środę od 17:30 do 19:00 w Ashtanga Yoga Wrocław (ul. Trzebnicka 12/1\, 50-246 Wrocław).
URL:https://ashtangaanyways.com/grafik/pierwsza-seria-prowadzona-5/2026-10-21/
END:VEVENT
BEGIN:VEVENT
DTSTART;TZID=Europe/Warsaw:20261028T173000
DTEND;TZID=Europe/Warsaw:20261028T190000
DTSTAMP:20260421T143051
CREATED:20260110T204055Z
LAST-MODIFIED:20260110T204056Z
UID:10003587-1793208600-1793214000@ashtangaanyways.com
SUMMARY:Pierwsza seria prowadzona
DESCRIPTION:Zajęcia odbywają się w każdą środę od 17:30 do 19:00 w Ashtanga Yoga Wrocław (ul. Trzebnicka 12/1\, 50-246 Wrocław).
URL:https://ashtangaanyways.com/grafik/pierwsza-seria-prowadzona-5/2026-10-28/
END:VEVENT
BEGIN:VEVENT
DTSTART;TZID=Europe/Warsaw:20261104T173000
DTEND;TZID=Europe/Warsaw:20261104T190000
DTSTAMP:20260421T143051
CREATED:20260110T204055Z
LAST-MODIFIED:20260110T204056Z
UID:10003588-1793813400-1793818800@ashtangaanyways.com
SUMMARY:Pierwsza seria prowadzona
DESCRIPTION:Zajęcia odbywają się w każdą środę od 17:30 do 19:00 w Ashtanga Yoga Wrocław (ul. Trzebnicka 12/1\, 50-246 Wrocław).
URL:https://ashtangaanyways.com/grafik/pierwsza-seria-prowadzona-5/2026-11-04/
END:VEVENT
BEGIN:VEVENT
DTSTART;TZID=Europe/Warsaw:20261111T173000
DTEND;TZID=Europe/Warsaw:20261111T190000
DTSTAMP:20260421T143051
CREATED:20260110T204055Z
LAST-MODIFIED:20260110T204056Z
UID:10003589-1794418200-1794423600@ashtangaanyways.com
SUMMARY:Pierwsza seria prowadzona
DESCRIPTION:Zajęcia odbywają się w każdą środę od 17:30 do 19:00 w Ashtanga Yoga Wrocław (ul. Trzebnicka 12/1\, 50-246 Wrocław).
URL:https://ashtangaanyways.com/grafik/pierwsza-seria-prowadzona-5/2026-11-11/
END:VEVENT
BEGIN:VEVENT
DTSTART;TZID=Europe/Warsaw:20261118T173000
DTEND;TZID=Europe/Warsaw:20261118T190000
DTSTAMP:20260421T143051
CREATED:20260110T204055Z
LAST-MODIFIED:20260110T204056Z
UID:10003590-1795023000-1795028400@ashtangaanyways.com
SUMMARY:Pierwsza seria prowadzona
DESCRIPTION:Zajęcia odbywają się w każdą środę od 17:30 do 19:00 w Ashtanga Yoga Wrocław (ul. Trzebnicka 12/1\, 50-246 Wrocław).
URL:https://ashtangaanyways.com/grafik/pierwsza-seria-prowadzona-5/2026-11-18/
END:VEVENT
BEGIN:VEVENT
DTSTART;TZID=Europe/Warsaw:20261125T173000
DTEND;TZID=Europe/Warsaw:20261125T190000
DTSTAMP:20260421T143051
CREATED:20260110T204055Z
LAST-MODIFIED:20260110T204056Z
UID:10003591-1795627800-1795633200@ashtangaanyways.com
SUMMARY:Pierwsza seria prowadzona
DESCRIPTION:Zajęcia odbywają się w każdą środę od 17:30 do 19:00 w Ashtanga Yoga Wrocław (ul. Trzebnicka 12/1\, 50-246 Wrocław).
URL:https://ashtangaanyways.com/grafik/pierwsza-seria-prowadzona-5/2026-11-25/
END:VEVENT
BEGIN:VEVENT
DTSTART;TZID=Europe/Warsaw:20261202T173000
DTEND;TZID=Europe/Warsaw:20261202T190000
DTSTAMP:20260421T143051
CREATED:20260110T204055Z
LAST-MODIFIED:20260110T204056Z
UID:10003592-1796232600-1796238000@ashtangaanyways.com
SUMMARY:Pierwsza seria prowadzona
DESCRIPTION:Zajęcia odbywają się w każdą środę od 17:30 do 19:00 w Ashtanga Yoga Wrocław (ul. Trzebnicka 12/1\, 50-246 Wrocław).
URL:https://ashtangaanyways.com/grafik/pierwsza-seria-prowadzona-5/2026-12-02/
END:VEVENT
BEGIN:VEVENT
DTSTART;TZID=Europe/Warsaw:20261209T173000
DTEND;TZID=Europe/Warsaw:20261209T190000
DTSTAMP:20260421T143051
CREATED:20260110T204055Z
LAST-MODIFIED:20260110T204056Z
UID:10003593-1796837400-1796842800@ashtangaanyways.com
SUMMARY:Pierwsza seria prowadzona
DESCRIPTION:Zajęcia odbywają się w każdą środę od 17:30 do 19:00 w Ashtanga Yoga Wrocław (ul. Trzebnicka 12/1\, 50-246 Wrocław).
URL:https://ashtangaanyways.com/grafik/pierwsza-seria-prowadzona-5/2026-12-09/
END:VEVENT
BEGIN:VEVENT
DTSTART;TZID=Europe/Warsaw:20261216T173000
DTEND;TZID=Europe/Warsaw:20261216T190000
DTSTAMP:20260421T143051
CREATED:20260110T204055Z
LAST-MODIFIED:20260110T204056Z
UID:10003594-1797442200-1797447600@ashtangaanyways.com
SUMMARY:Pierwsza seria prowadzona
DESCRIPTION:Zajęcia odbywają się w każdą środę od 17:30 do 19:00 w Ashtanga Yoga Wrocław (ul. Trzebnicka 12/1\, 50-246 Wrocław).
URL:https://ashtangaanyways.com/grafik/pierwsza-seria-prowadzona-5/2026-12-16/
END:VEVENT
BEGIN:VEVENT
DTSTART;TZID=Europe/Warsaw:20261223T173000
DTEND;TZID=Europe/Warsaw:20261223T190000
DTSTAMP:20260421T143051
CREATED:20260110T204055Z
LAST-MODIFIED:20260110T204056Z
UID:10003595-1798047000-1798052400@ashtangaanyways.com
SUMMARY:Pierwsza seria prowadzona
DESCRIPTION:Zajęcia odbywają się w każdą środę od 17:30 do 19:00 w Ashtanga Yoga Wrocław (ul. Trzebnicka 12/1\, 50-246 Wrocław).
URL:https://ashtangaanyways.com/grafik/pierwsza-seria-prowadzona-5/2026-12-23/
END:VEVENT
BEGIN:VEVENT
DTSTART;TZID=Europe/Warsaw:20261230T173000
DTEND;TZID=Europe/Warsaw:20261230T190000
DTSTAMP:20260421T143051
CREATED:20260110T204055Z
LAST-MODIFIED:20260110T204056Z
UID:10003596-1798651800-1798657200@ashtangaanyways.com
SUMMARY:Pierwsza seria prowadzona
DESCRIPTION:Zajęcia odbywają się w każdą środę od 17:30 do 19:00 w Ashtanga Yoga Wrocław (ul. Trzebnicka 12/1\, 50-246 Wrocław).
URL:https://ashtangaanyways.com/grafik/pierwsza-seria-prowadzona-5/2026-12-30/
END:VEVENT
BEGIN:VEVENT
DTSTART;TZID=Europe/Warsaw:20270106T173000
DTEND;TZID=Europe/Warsaw:20270106T190000
DTSTAMP:20260421T143051
CREATED:20260110T204055Z
LAST-MODIFIED:20260110T204056Z
UID:10003597-1799256600-1799262000@ashtangaanyways.com
SUMMARY:Pierwsza seria prowadzona
DESCRIPTION:Zajęcia odbywają się w każdą środę od 17:30 do 19:00 w Ashtanga Yoga Wrocław (ul. Trzebnicka 12/1\, 50-246 Wrocław).
URL:https://ashtangaanyways.com/grafik/pierwsza-seria-prowadzona-5/2027-01-06/
END:VEVENT
BEGIN:VEVENT
DTSTART;TZID=Europe/Warsaw:20270113T173000
DTEND;TZID=Europe/Warsaw:20270113T190000
DTSTAMP:20260421T143051
CREATED:20260110T204055Z
LAST-MODIFIED:20260110T204056Z
UID:10003598-1799861400-1799866800@ashtangaanyways.com
SUMMARY:Pierwsza seria prowadzona
DESCRIPTION:Zajęcia odbywają się w każdą środę od 17:30 do 19:00 w Ashtanga Yoga Wrocław (ul. Trzebnicka 12/1\, 50-246 Wrocław).
URL:https://ashtangaanyways.com/grafik/pierwsza-seria-prowadzona-5/2027-01-13/
END:VEVENT
BEGIN:VEVENT
DTSTART;TZID=Europe/Warsaw:20270120T173000
DTEND;TZID=Europe/Warsaw:20270120T190000
DTSTAMP:20260421T143051
CREATED:20260110T204055Z
LAST-MODIFIED:20260110T204056Z
UID:10003599-1800466200-1800471600@ashtangaanyways.com
SUMMARY:Pierwsza seria prowadzona
DESCRIPTION:Zajęcia odbywają się w każdą środę od 17:30 do 19:00 w Ashtanga Yoga Wrocław (ul. Trzebnicka 12/1\, 50-246 Wrocław).
URL:https://ashtangaanyways.com/grafik/pierwsza-seria-prowadzona-5/2027-01-20/
END:VEVENT
BEGIN:VEVENT
DTSTART;TZID=Europe/Warsaw:20270127T173000
DTEND;TZID=Europe/Warsaw:20270127T190000
DTSTAMP:20260421T143051
CREATED:20260110T204055Z
LAST-MODIFIED:20260110T204056Z
UID:10003600-1801071000-1801076400@ashtangaanyways.com
SUMMARY:Pierwsza seria prowadzona
DESCRIPTION:Zajęcia odbywają się w każdą środę od 17:30 do 19:00 w Ashtanga Yoga Wrocław (ul. Trzebnicka 12/1\, 50-246 Wrocław).
URL:https://ashtangaanyways.com/grafik/pierwsza-seria-prowadzona-5/2027-01-27/
END:VEVENT
BEGIN:VEVENT
DTSTART;TZID=Europe/Warsaw:20270203T173000
DTEND;TZID=Europe/Warsaw:20270203T190000
DTSTAMP:20260421T143051
CREATED:20260110T204055Z
LAST-MODIFIED:20260110T204056Z
UID:10003601-1801675800-1801681200@ashtangaanyways.com
SUMMARY:Pierwsza seria prowadzona
DESCRIPTION:Zajęcia odbywają się w każdą środę od 17:30 do 19:00 w Ashtanga Yoga Wrocław (ul. Trzebnicka 12/1\, 50-246 Wrocław).
URL:https://ashtangaanyways.com/grafik/pierwsza-seria-prowadzona-5/2027-02-03/
END:VEVENT
END:VCALENDAR