BEGIN:VCALENDAR
VERSION:2.0
PRODID:-//Ashtanga Anyways - ECPv6.15.18//NONSGML v1.0//EN
CALSCALE:GREGORIAN
METHOD:PUBLISH
X-ORIGINAL-URL:https://ashtangaanyways.com
X-WR-CALDESC:Wydarzenia dla Ashtanga Anyways
REFRESH-INTERVAL;VALUE=DURATION:PT1H
X-Robots-Tag:noindex
X-PUBLISHED-TTL:PT1H
BEGIN:VTIMEZONE
TZID:Europe/Warsaw
BEGIN:DAYLIGHT
TZOFFSETFROM:+0100
TZOFFSETTO:+0200
TZNAME:CEST
DTSTART:20250330T010000
END:DAYLIGHT
BEGIN:STANDARD
TZOFFSETFROM:+0200
TZOFFSETTO:+0100
TZNAME:CET
DTSTART:20251026T010000
END:STANDARD
BEGIN:DAYLIGHT
TZOFFSETFROM:+0100
TZOFFSETTO:+0200
TZNAME:CEST
DTSTART:20260329T010000
END:DAYLIGHT
BEGIN:STANDARD
TZOFFSETFROM:+0200
TZOFFSETTO:+0100
TZNAME:CET
DTSTART:20261025T010000
END:STANDARD
BEGIN:DAYLIGHT
TZOFFSETFROM:+0100
TZOFFSETTO:+0200
TZNAME:CEST
DTSTART:20270328T010000
END:DAYLIGHT
BEGIN:STANDARD
TZOFFSETFROM:+0200
TZOFFSETTO:+0100
TZNAME:CET
DTSTART:20271031T010000
END:STANDARD
BEGIN:DAYLIGHT
TZOFFSETFROM:+0100
TZOFFSETTO:+0200
TZNAME:CEST
DTSTART:20280326T010000
END:DAYLIGHT
BEGIN:STANDARD
TZOFFSETFROM:+0200
TZOFFSETTO:+0100
TZNAME:CET
DTSTART:20281029T010000
END:STANDARD
END:VTIMEZONE
BEGIN:VEVENT
DTSTART;TZID=Europe/Warsaw:20260714T170000
DTEND;TZID=Europe/Warsaw:20260714T183000
DTSTAMP:20260421T124253
CREATED:20251228T102742Z
LAST-MODIFIED:20251228T102744Z
UID:10003309-1784048400-1784053800@ashtangaanyways.com
SUMMARY:Mysore
DESCRIPTION:Zajęcia odbywają się w każdy wtorek o 17:00-18:30 w Ashtanga Yoga Wrocław (ul. Trzebnicka 12/1\, 50-246 Wrocław). \n\n\n\n>> WIĘCEJ SZCZEGÓŁÓW <<
URL:https://ashtangaanyways.com/grafik/mysore-10/2026-07-14/
CATEGORIES:ashtanga joga,mysore,praktyka
END:VEVENT
BEGIN:VEVENT
DTSTART;TZID=Europe/Warsaw:20260721T170000
DTEND;TZID=Europe/Warsaw:20260721T183000
DTSTAMP:20260421T124253
CREATED:20251228T102742Z
LAST-MODIFIED:20251228T102744Z
UID:10003310-1784653200-1784658600@ashtangaanyways.com
SUMMARY:Mysore
DESCRIPTION:Zajęcia odbywają się w każdy wtorek o 17:00-18:30 w Ashtanga Yoga Wrocław (ul. Trzebnicka 12/1\, 50-246 Wrocław). \n\n\n\n>> WIĘCEJ SZCZEGÓŁÓW <<
URL:https://ashtangaanyways.com/grafik/mysore-10/2026-07-21/
CATEGORIES:ashtanga joga,mysore,praktyka
END:VEVENT
BEGIN:VEVENT
DTSTART;TZID=Europe/Warsaw:20260728T170000
DTEND;TZID=Europe/Warsaw:20260728T183000
DTSTAMP:20260421T124253
CREATED:20251228T102742Z
LAST-MODIFIED:20251228T102744Z
UID:10003311-1785258000-1785263400@ashtangaanyways.com
SUMMARY:Mysore
DESCRIPTION:Zajęcia odbywają się w każdy wtorek o 17:00-18:30 w Ashtanga Yoga Wrocław (ul. Trzebnicka 12/1\, 50-246 Wrocław). \n\n\n\n>> WIĘCEJ SZCZEGÓŁÓW <<
URL:https://ashtangaanyways.com/grafik/mysore-10/2026-07-28/
CATEGORIES:ashtanga joga,mysore,praktyka
END:VEVENT
BEGIN:VEVENT
DTSTART;TZID=Europe/Warsaw:20260804T170000
DTEND;TZID=Europe/Warsaw:20260804T183000
DTSTAMP:20260421T124253
CREATED:20251228T102742Z
LAST-MODIFIED:20251228T102744Z
UID:10003312-1785862800-1785868200@ashtangaanyways.com
SUMMARY:Mysore
DESCRIPTION:Zajęcia odbywają się w każdy wtorek o 17:00-18:30 w Ashtanga Yoga Wrocław (ul. Trzebnicka 12/1\, 50-246 Wrocław). \n\n\n\n>> WIĘCEJ SZCZEGÓŁÓW <<
URL:https://ashtangaanyways.com/grafik/mysore-10/2026-08-04/
CATEGORIES:ashtanga joga,mysore,praktyka
END:VEVENT
BEGIN:VEVENT
DTSTART;TZID=Europe/Warsaw:20260811T170000
DTEND;TZID=Europe/Warsaw:20260811T183000
DTSTAMP:20260421T124253
CREATED:20251228T102742Z
LAST-MODIFIED:20251228T102744Z
UID:10003313-1786467600-1786473000@ashtangaanyways.com
SUMMARY:Mysore
DESCRIPTION:Zajęcia odbywają się w każdy wtorek o 17:00-18:30 w Ashtanga Yoga Wrocław (ul. Trzebnicka 12/1\, 50-246 Wrocław). \n\n\n\n>> WIĘCEJ SZCZEGÓŁÓW <<
URL:https://ashtangaanyways.com/grafik/mysore-10/2026-08-11/
CATEGORIES:ashtanga joga,mysore,praktyka
END:VEVENT
BEGIN:VEVENT
DTSTART;TZID=Europe/Warsaw:20260818T170000
DTEND;TZID=Europe/Warsaw:20260818T183000
DTSTAMP:20260421T124253
CREATED:20251228T102742Z
LAST-MODIFIED:20251228T102744Z
UID:10003314-1787072400-1787077800@ashtangaanyways.com
SUMMARY:Mysore
DESCRIPTION:Zajęcia odbywają się w każdy wtorek o 17:00-18:30 w Ashtanga Yoga Wrocław (ul. Trzebnicka 12/1\, 50-246 Wrocław). \n\n\n\n>> WIĘCEJ SZCZEGÓŁÓW <<
URL:https://ashtangaanyways.com/grafik/mysore-10/2026-08-18/
CATEGORIES:ashtanga joga,mysore,praktyka
END:VEVENT
BEGIN:VEVENT
DTSTART;TZID=Europe/Warsaw:20260825T170000
DTEND;TZID=Europe/Warsaw:20260825T183000
DTSTAMP:20260421T124253
CREATED:20251228T102742Z
LAST-MODIFIED:20251228T102744Z
UID:10003315-1787677200-1787682600@ashtangaanyways.com
SUMMARY:Mysore
DESCRIPTION:Zajęcia odbywają się w każdy wtorek o 17:00-18:30 w Ashtanga Yoga Wrocław (ul. Trzebnicka 12/1\, 50-246 Wrocław). \n\n\n\n>> WIĘCEJ SZCZEGÓŁÓW <<
URL:https://ashtangaanyways.com/grafik/mysore-10/2026-08-25/
CATEGORIES:ashtanga joga,mysore,praktyka
END:VEVENT
BEGIN:VEVENT
DTSTART;TZID=Europe/Warsaw:20260901T170000
DTEND;TZID=Europe/Warsaw:20260901T183000
DTSTAMP:20260421T124253
CREATED:20251228T102742Z
LAST-MODIFIED:20251228T102744Z
UID:10003316-1788282000-1788287400@ashtangaanyways.com
SUMMARY:Mysore
DESCRIPTION:Zajęcia odbywają się w każdy wtorek o 17:00-18:30 w Ashtanga Yoga Wrocław (ul. Trzebnicka 12/1\, 50-246 Wrocław). \n\n\n\n>> WIĘCEJ SZCZEGÓŁÓW <<
URL:https://ashtangaanyways.com/grafik/mysore-10/2026-09-01/
CATEGORIES:ashtanga joga,mysore,praktyka
END:VEVENT
BEGIN:VEVENT
DTSTART;TZID=Europe/Warsaw:20260908T170000
DTEND;TZID=Europe/Warsaw:20260908T183000
DTSTAMP:20260421T124253
CREATED:20251228T102742Z
LAST-MODIFIED:20251228T102744Z
UID:10003317-1788886800-1788892200@ashtangaanyways.com
SUMMARY:Mysore
DESCRIPTION:Zajęcia odbywają się w każdy wtorek o 17:00-18:30 w Ashtanga Yoga Wrocław (ul. Trzebnicka 12/1\, 50-246 Wrocław). \n\n\n\n>> WIĘCEJ SZCZEGÓŁÓW <<
URL:https://ashtangaanyways.com/grafik/mysore-10/2026-09-08/
CATEGORIES:ashtanga joga,mysore,praktyka
END:VEVENT
BEGIN:VEVENT
DTSTART;TZID=Europe/Warsaw:20260915T170000
DTEND;TZID=Europe/Warsaw:20260915T183000
DTSTAMP:20260421T124253
CREATED:20251228T102742Z
LAST-MODIFIED:20251228T102744Z
UID:10003318-1789491600-1789497000@ashtangaanyways.com
SUMMARY:Mysore
DESCRIPTION:Zajęcia odbywają się w każdy wtorek o 17:00-18:30 w Ashtanga Yoga Wrocław (ul. Trzebnicka 12/1\, 50-246 Wrocław). \n\n\n\n>> WIĘCEJ SZCZEGÓŁÓW <<
URL:https://ashtangaanyways.com/grafik/mysore-10/2026-09-15/
CATEGORIES:ashtanga joga,mysore,praktyka
END:VEVENT
BEGIN:VEVENT
DTSTART;TZID=Europe/Warsaw:20260922T170000
DTEND;TZID=Europe/Warsaw:20260922T183000
DTSTAMP:20260421T124253
CREATED:20251228T102742Z
LAST-MODIFIED:20251228T102744Z
UID:10003319-1790096400-1790101800@ashtangaanyways.com
SUMMARY:Mysore
DESCRIPTION:Zajęcia odbywają się w każdy wtorek o 17:00-18:30 w Ashtanga Yoga Wrocław (ul. Trzebnicka 12/1\, 50-246 Wrocław). \n\n\n\n>> WIĘCEJ SZCZEGÓŁÓW <<
URL:https://ashtangaanyways.com/grafik/mysore-10/2026-09-22/
CATEGORIES:ashtanga joga,mysore,praktyka
END:VEVENT
BEGIN:VEVENT
DTSTART;TZID=Europe/Warsaw:20260929T170000
DTEND;TZID=Europe/Warsaw:20260929T183000
DTSTAMP:20260421T124253
CREATED:20251228T102742Z
LAST-MODIFIED:20251228T102744Z
UID:10003320-1790701200-1790706600@ashtangaanyways.com
SUMMARY:Mysore
DESCRIPTION:Zajęcia odbywają się w każdy wtorek o 17:00-18:30 w Ashtanga Yoga Wrocław (ul. Trzebnicka 12/1\, 50-246 Wrocław). \n\n\n\n>> WIĘCEJ SZCZEGÓŁÓW <<
URL:https://ashtangaanyways.com/grafik/mysore-10/2026-09-29/
CATEGORIES:ashtanga joga,mysore,praktyka
END:VEVENT
BEGIN:VEVENT
DTSTART;TZID=Europe/Warsaw:20261006T170000
DTEND;TZID=Europe/Warsaw:20261006T183000
DTSTAMP:20260421T124253
CREATED:20251228T102742Z
LAST-MODIFIED:20251228T102744Z
UID:10003321-1791306000-1791311400@ashtangaanyways.com
SUMMARY:Mysore
DESCRIPTION:Zajęcia odbywają się w każdy wtorek o 17:00-18:30 w Ashtanga Yoga Wrocław (ul. Trzebnicka 12/1\, 50-246 Wrocław). \n\n\n\n>> WIĘCEJ SZCZEGÓŁÓW <<
URL:https://ashtangaanyways.com/grafik/mysore-10/2026-10-06/
CATEGORIES:ashtanga joga,mysore,praktyka
END:VEVENT
BEGIN:VEVENT
DTSTART;TZID=Europe/Warsaw:20261013T170000
DTEND;TZID=Europe/Warsaw:20261013T183000
DTSTAMP:20260421T124253
CREATED:20251228T102742Z
LAST-MODIFIED:20251228T102744Z
UID:10003322-1791910800-1791916200@ashtangaanyways.com
SUMMARY:Mysore
DESCRIPTION:Zajęcia odbywają się w każdy wtorek o 17:00-18:30 w Ashtanga Yoga Wrocław (ul. Trzebnicka 12/1\, 50-246 Wrocław). \n\n\n\n>> WIĘCEJ SZCZEGÓŁÓW <<
URL:https://ashtangaanyways.com/grafik/mysore-10/2026-10-13/
CATEGORIES:ashtanga joga,mysore,praktyka
END:VEVENT
BEGIN:VEVENT
DTSTART;TZID=Europe/Warsaw:20261020T170000
DTEND;TZID=Europe/Warsaw:20261020T183000
DTSTAMP:20260421T124253
CREATED:20251228T102742Z
LAST-MODIFIED:20251228T102744Z
UID:10003323-1792515600-1792521000@ashtangaanyways.com
SUMMARY:Mysore
DESCRIPTION:Zajęcia odbywają się w każdy wtorek o 17:00-18:30 w Ashtanga Yoga Wrocław (ul. Trzebnicka 12/1\, 50-246 Wrocław). \n\n\n\n>> WIĘCEJ SZCZEGÓŁÓW <<
URL:https://ashtangaanyways.com/grafik/mysore-10/2026-10-20/
CATEGORIES:ashtanga joga,mysore,praktyka
END:VEVENT
BEGIN:VEVENT
DTSTART;TZID=Europe/Warsaw:20261027T170000
DTEND;TZID=Europe/Warsaw:20261027T183000
DTSTAMP:20260421T124253
CREATED:20251228T102742Z
LAST-MODIFIED:20251228T102744Z
UID:10003324-1793120400-1793125800@ashtangaanyways.com
SUMMARY:Mysore
DESCRIPTION:Zajęcia odbywają się w każdy wtorek o 17:00-18:30 w Ashtanga Yoga Wrocław (ul. Trzebnicka 12/1\, 50-246 Wrocław). \n\n\n\n>> WIĘCEJ SZCZEGÓŁÓW <<
URL:https://ashtangaanyways.com/grafik/mysore-10/2026-10-27/
CATEGORIES:ashtanga joga,mysore,praktyka
END:VEVENT
BEGIN:VEVENT
DTSTART;TZID=Europe/Warsaw:20261103T170000
DTEND;TZID=Europe/Warsaw:20261103T183000
DTSTAMP:20260421T124253
CREATED:20251228T102742Z
LAST-MODIFIED:20251228T102744Z
UID:10003325-1793725200-1793730600@ashtangaanyways.com
SUMMARY:Mysore
DESCRIPTION:Zajęcia odbywają się w każdy wtorek o 17:00-18:30 w Ashtanga Yoga Wrocław (ul. Trzebnicka 12/1\, 50-246 Wrocław). \n\n\n\n>> WIĘCEJ SZCZEGÓŁÓW <<
URL:https://ashtangaanyways.com/grafik/mysore-10/2026-11-03/
CATEGORIES:ashtanga joga,mysore,praktyka
END:VEVENT
BEGIN:VEVENT
DTSTART;TZID=Europe/Warsaw:20261110T170000
DTEND;TZID=Europe/Warsaw:20261110T183000
DTSTAMP:20260421T124253
CREATED:20251228T102742Z
LAST-MODIFIED:20251228T102744Z
UID:10003326-1794330000-1794335400@ashtangaanyways.com
SUMMARY:Mysore
DESCRIPTION:Zajęcia odbywają się w każdy wtorek o 17:00-18:30 w Ashtanga Yoga Wrocław (ul. Trzebnicka 12/1\, 50-246 Wrocław). \n\n\n\n>> WIĘCEJ SZCZEGÓŁÓW <<
URL:https://ashtangaanyways.com/grafik/mysore-10/2026-11-10/
CATEGORIES:ashtanga joga,mysore,praktyka
END:VEVENT
BEGIN:VEVENT
DTSTART;TZID=Europe/Warsaw:20261117T170000
DTEND;TZID=Europe/Warsaw:20261117T183000
DTSTAMP:20260421T124253
CREATED:20251228T102742Z
LAST-MODIFIED:20251228T102744Z
UID:10003327-1794934800-1794940200@ashtangaanyways.com
SUMMARY:Mysore
DESCRIPTION:Zajęcia odbywają się w każdy wtorek o 17:00-18:30 w Ashtanga Yoga Wrocław (ul. Trzebnicka 12/1\, 50-246 Wrocław). \n\n\n\n>> WIĘCEJ SZCZEGÓŁÓW <<
URL:https://ashtangaanyways.com/grafik/mysore-10/2026-11-17/
CATEGORIES:ashtanga joga,mysore,praktyka
END:VEVENT
BEGIN:VEVENT
DTSTART;TZID=Europe/Warsaw:20261124T170000
DTEND;TZID=Europe/Warsaw:20261124T183000
DTSTAMP:20260421T124253
CREATED:20251228T102742Z
LAST-MODIFIED:20251228T102744Z
UID:10003328-1795539600-1795545000@ashtangaanyways.com
SUMMARY:Mysore
DESCRIPTION:Zajęcia odbywają się w każdy wtorek o 17:00-18:30 w Ashtanga Yoga Wrocław (ul. Trzebnicka 12/1\, 50-246 Wrocław). \n\n\n\n>> WIĘCEJ SZCZEGÓŁÓW <<
URL:https://ashtangaanyways.com/grafik/mysore-10/2026-11-24/
CATEGORIES:ashtanga joga,mysore,praktyka
END:VEVENT
BEGIN:VEVENT
DTSTART;TZID=Europe/Warsaw:20261201T170000
DTEND;TZID=Europe/Warsaw:20261201T183000
DTSTAMP:20260421T124253
CREATED:20251228T102742Z
LAST-MODIFIED:20251228T102744Z
UID:10003329-1796144400-1796149800@ashtangaanyways.com
SUMMARY:Mysore
DESCRIPTION:Zajęcia odbywają się w każdy wtorek o 17:00-18:30 w Ashtanga Yoga Wrocław (ul. Trzebnicka 12/1\, 50-246 Wrocław). \n\n\n\n>> WIĘCEJ SZCZEGÓŁÓW <<
URL:https://ashtangaanyways.com/grafik/mysore-10/2026-12-01/
CATEGORIES:ashtanga joga,mysore,praktyka
END:VEVENT
BEGIN:VEVENT
DTSTART;TZID=Europe/Warsaw:20261208T170000
DTEND;TZID=Europe/Warsaw:20261208T183000
DTSTAMP:20260421T124253
CREATED:20251228T102742Z
LAST-MODIFIED:20251228T102744Z
UID:10003330-1796749200-1796754600@ashtangaanyways.com
SUMMARY:Mysore
DESCRIPTION:Zajęcia odbywają się w każdy wtorek o 17:00-18:30 w Ashtanga Yoga Wrocław (ul. Trzebnicka 12/1\, 50-246 Wrocław). \n\n\n\n>> WIĘCEJ SZCZEGÓŁÓW <<
URL:https://ashtangaanyways.com/grafik/mysore-10/2026-12-08/
CATEGORIES:ashtanga joga,mysore,praktyka
END:VEVENT
BEGIN:VEVENT
DTSTART;TZID=Europe/Warsaw:20261215T170000
DTEND;TZID=Europe/Warsaw:20261215T183000
DTSTAMP:20260421T124253
CREATED:20251228T102742Z
LAST-MODIFIED:20251228T102744Z
UID:10003331-1797354000-1797359400@ashtangaanyways.com
SUMMARY:Mysore
DESCRIPTION:Zajęcia odbywają się w każdy wtorek o 17:00-18:30 w Ashtanga Yoga Wrocław (ul. Trzebnicka 12/1\, 50-246 Wrocław). \n\n\n\n>> WIĘCEJ SZCZEGÓŁÓW <<
URL:https://ashtangaanyways.com/grafik/mysore-10/2026-12-15/
CATEGORIES:ashtanga joga,mysore,praktyka
END:VEVENT
BEGIN:VEVENT
DTSTART;TZID=Europe/Warsaw:20261222T170000
DTEND;TZID=Europe/Warsaw:20261222T183000
DTSTAMP:20260421T124253
CREATED:20251228T102742Z
LAST-MODIFIED:20251228T102744Z
UID:10003332-1797958800-1797964200@ashtangaanyways.com
SUMMARY:Mysore
DESCRIPTION:Zajęcia odbywają się w każdy wtorek o 17:00-18:30 w Ashtanga Yoga Wrocław (ul. Trzebnicka 12/1\, 50-246 Wrocław). \n\n\n\n>> WIĘCEJ SZCZEGÓŁÓW <<
URL:https://ashtangaanyways.com/grafik/mysore-10/2026-12-22/
CATEGORIES:ashtanga joga,mysore,praktyka
END:VEVENT
BEGIN:VEVENT
DTSTART;TZID=Europe/Warsaw:20261229T170000
DTEND;TZID=Europe/Warsaw:20261229T183000
DTSTAMP:20260421T124253
CREATED:20251228T102742Z
LAST-MODIFIED:20251228T102744Z
UID:10003333-1798563600-1798569000@ashtangaanyways.com
SUMMARY:Mysore
DESCRIPTION:Zajęcia odbywają się w każdy wtorek o 17:00-18:30 w Ashtanga Yoga Wrocław (ul. Trzebnicka 12/1\, 50-246 Wrocław). \n\n\n\n>> WIĘCEJ SZCZEGÓŁÓW <<
URL:https://ashtangaanyways.com/grafik/mysore-10/2026-12-29/
CATEGORIES:ashtanga joga,mysore,praktyka
END:VEVENT
BEGIN:VEVENT
DTSTART;TZID=Europe/Warsaw:20270105T170000
DTEND;TZID=Europe/Warsaw:20270105T183000
DTSTAMP:20260421T124253
CREATED:20251228T102742Z
LAST-MODIFIED:20251228T102744Z
UID:10003334-1799168400-1799173800@ashtangaanyways.com
SUMMARY:Mysore
DESCRIPTION:Zajęcia odbywają się w każdy wtorek o 17:00-18:30 w Ashtanga Yoga Wrocław (ul. Trzebnicka 12/1\, 50-246 Wrocław). \n\n\n\n>> WIĘCEJ SZCZEGÓŁÓW <<
URL:https://ashtangaanyways.com/grafik/mysore-10/2027-01-05/
CATEGORIES:ashtanga joga,mysore,praktyka
END:VEVENT
BEGIN:VEVENT
DTSTART;TZID=Europe/Warsaw:20270112T170000
DTEND;TZID=Europe/Warsaw:20270112T183000
DTSTAMP:20260421T124253
CREATED:20251228T102742Z
LAST-MODIFIED:20251228T102744Z
UID:10003335-1799773200-1799778600@ashtangaanyways.com
SUMMARY:Mysore
DESCRIPTION:Zajęcia odbywają się w każdy wtorek o 17:00-18:30 w Ashtanga Yoga Wrocław (ul. Trzebnicka 12/1\, 50-246 Wrocław). \n\n\n\n>> WIĘCEJ SZCZEGÓŁÓW <<
URL:https://ashtangaanyways.com/grafik/mysore-10/2027-01-12/
CATEGORIES:ashtanga joga,mysore,praktyka
END:VEVENT
BEGIN:VEVENT
DTSTART;TZID=Europe/Warsaw:20270119T170000
DTEND;TZID=Europe/Warsaw:20270119T183000
DTSTAMP:20260421T124254
CREATED:20251228T102742Z
LAST-MODIFIED:20251228T102744Z
UID:10003336-1800378000-1800383400@ashtangaanyways.com
SUMMARY:Mysore
DESCRIPTION:Zajęcia odbywają się w każdy wtorek o 17:00-18:30 w Ashtanga Yoga Wrocław (ul. Trzebnicka 12/1\, 50-246 Wrocław). \n\n\n\n>> WIĘCEJ SZCZEGÓŁÓW <<
URL:https://ashtangaanyways.com/grafik/mysore-10/2027-01-19/
CATEGORIES:ashtanga joga,mysore,praktyka
END:VEVENT
BEGIN:VEVENT
DTSTART;TZID=Europe/Warsaw:20270126T170000
DTEND;TZID=Europe/Warsaw:20270126T183000
DTSTAMP:20260421T124254
CREATED:20251228T102742Z
LAST-MODIFIED:20251228T102744Z
UID:10003337-1800982800-1800988200@ashtangaanyways.com
SUMMARY:Mysore
DESCRIPTION:Zajęcia odbywają się w każdy wtorek o 17:00-18:30 w Ashtanga Yoga Wrocław (ul. Trzebnicka 12/1\, 50-246 Wrocław). \n\n\n\n>> WIĘCEJ SZCZEGÓŁÓW <<
URL:https://ashtangaanyways.com/grafik/mysore-10/2027-01-26/
CATEGORIES:ashtanga joga,mysore,praktyka
END:VEVENT
BEGIN:VEVENT
DTSTART;TZID=Europe/Warsaw:20270202T170000
DTEND;TZID=Europe/Warsaw:20270202T183000
DTSTAMP:20260421T124254
CREATED:20251228T102742Z
LAST-MODIFIED:20251228T102744Z
UID:10003338-1801587600-1801593000@ashtangaanyways.com
SUMMARY:Mysore
DESCRIPTION:Zajęcia odbywają się w każdy wtorek o 17:00-18:30 w Ashtanga Yoga Wrocław (ul. Trzebnicka 12/1\, 50-246 Wrocław). \n\n\n\n>> WIĘCEJ SZCZEGÓŁÓW <<
URL:https://ashtangaanyways.com/grafik/mysore-10/2027-02-02/
CATEGORIES:ashtanga joga,mysore,praktyka
END:VEVENT
END:VCALENDAR