BEGIN:VCALENDAR
VERSION:2.0
PRODID:-//Ashtanga Anyways - ECPv6.15.18//NONSGML v1.0//EN
CALSCALE:GREGORIAN
METHOD:PUBLISH
X-WR-CALNAME:Ashtanga Anyways
X-ORIGINAL-URL:https://ashtangaanyways.com
X-WR-CALDESC:Wydarzenia dla Ashtanga Anyways
REFRESH-INTERVAL;VALUE=DURATION:PT1H
X-Robots-Tag:noindex
X-PUBLISHED-TTL:PT1H
BEGIN:VTIMEZONE
TZID:Europe/Warsaw
BEGIN:DAYLIGHT
TZOFFSETFROM:+0100
TZOFFSETTO:+0200
TZNAME:CEST
DTSTART:20290325T010000
END:DAYLIGHT
BEGIN:STANDARD
TZOFFSETFROM:+0200
TZOFFSETTO:+0100
TZNAME:CET
DTSTART:20291028T010000
END:STANDARD
BEGIN:DAYLIGHT
TZOFFSETFROM:+0100
TZOFFSETTO:+0200
TZNAME:CEST
DTSTART:20300331T010000
END:DAYLIGHT
BEGIN:STANDARD
TZOFFSETFROM:+0200
TZOFFSETTO:+0100
TZNAME:CET
DTSTART:20301027T010000
END:STANDARD
BEGIN:DAYLIGHT
TZOFFSETFROM:+0100
TZOFFSETTO:+0200
TZNAME:CEST
DTSTART:20310330T010000
END:DAYLIGHT
BEGIN:STANDARD
TZOFFSETFROM:+0200
TZOFFSETTO:+0100
TZNAME:CET
DTSTART:20311026T010000
END:STANDARD
END:VTIMEZONE
BEGIN:VEVENT
DTSTART;TZID=Europe/Warsaw:20301203T183000
DTEND;TZID=Europe/Warsaw:20301203T193000
DTSTAMP:20260423T103024
CREATED:20240813T095954Z
LAST-MODIFIED:20251215T193627Z
UID:10003020-1922553000-1922556600@ashtangaanyways.com
SUMMARY:Ashtanga joga dla początkujących
DESCRIPTION:Zajęcia odbywają się w każdy wtorek od 18:30 do 19:30 w Ashtanga Yoga Wrocław (ul. Trzebnicka 12/1\, 50-246 Wrocław). \n\n\n\n>> WIĘCEJ SZCZEGÓŁÓW <<
URL:https://ashtangaanyways.com/grafik/ashtanga-joga-dla-poczatkujacych/2030-12-03/
CATEGORIES:ashtanga joga,praktyka
END:VEVENT
BEGIN:VEVENT
DTSTART;TZID=Europe/Warsaw:20301210T183000
DTEND;TZID=Europe/Warsaw:20301210T193000
DTSTAMP:20260423T103024
CREATED:20240813T095954Z
LAST-MODIFIED:20251215T193627Z
UID:10003021-1923157800-1923161400@ashtangaanyways.com
SUMMARY:Ashtanga joga dla początkujących
DESCRIPTION:Zajęcia odbywają się w każdy wtorek od 18:30 do 19:30 w Ashtanga Yoga Wrocław (ul. Trzebnicka 12/1\, 50-246 Wrocław). \n\n\n\n>> WIĘCEJ SZCZEGÓŁÓW <<
URL:https://ashtangaanyways.com/grafik/ashtanga-joga-dla-poczatkujacych/2030-12-10/
CATEGORIES:ashtanga joga,praktyka
END:VEVENT
END:VCALENDAR