BEGIN:VCALENDAR
VERSION:2.0
PRODID:-//Ashtanga Anyways - ECPv6.15.18//NONSGML v1.0//EN
CALSCALE:GREGORIAN
METHOD:PUBLISH
X-WR-CALNAME:Ashtanga Anyways
X-ORIGINAL-URL:https://ashtangaanyways.com
X-WR-CALDESC:Wydarzenia dla Ashtanga Anyways
REFRESH-INTERVAL;VALUE=DURATION:PT1H
X-Robots-Tag:noindex
X-PUBLISHED-TTL:PT1H
BEGIN:VTIMEZONE
TZID:Europe/Warsaw
BEGIN:DAYLIGHT
TZOFFSETFROM:+0100
TZOFFSETTO:+0200
TZNAME:CEST
DTSTART:20290325T010000
END:DAYLIGHT
BEGIN:STANDARD
TZOFFSETFROM:+0200
TZOFFSETTO:+0100
TZNAME:CET
DTSTART:20291028T010000
END:STANDARD
BEGIN:DAYLIGHT
TZOFFSETFROM:+0100
TZOFFSETTO:+0200
TZNAME:CEST
DTSTART:20300331T010000
END:DAYLIGHT
BEGIN:STANDARD
TZOFFSETFROM:+0200
TZOFFSETTO:+0100
TZNAME:CET
DTSTART:20301027T010000
END:STANDARD
BEGIN:DAYLIGHT
TZOFFSETFROM:+0100
TZOFFSETTO:+0200
TZNAME:CEST
DTSTART:20310330T010000
END:DAYLIGHT
BEGIN:STANDARD
TZOFFSETFROM:+0200
TZOFFSETTO:+0100
TZNAME:CET
DTSTART:20311026T010000
END:STANDARD
END:VTIMEZONE
BEGIN:VEVENT
DTSTART;TZID=Europe/Warsaw:20301203T170000
DTEND;TZID=Europe/Warsaw:20301203T183000
DTSTAMP:20260423T044423
CREATED:20251228T102742Z
LAST-MODIFIED:20251228T102744Z
UID:10003538-1922547600-1922553000@ashtangaanyways.com
SUMMARY:Mysore
DESCRIPTION:Zajęcia odbywają się w każdy wtorek o 17:00-18:30 w Ashtanga Yoga Wrocław (ul. Trzebnicka 12/1\, 50-246 Wrocław). \n\n\n\n>> WIĘCEJ SZCZEGÓŁÓW <<
URL:https://ashtangaanyways.com/grafik/mysore-10/2030-12-03/
CATEGORIES:ashtanga joga,mysore,praktyka
END:VEVENT
BEGIN:VEVENT
DTSTART;TZID=Europe/Warsaw:20301210T170000
DTEND;TZID=Europe/Warsaw:20301210T183000
DTSTAMP:20260423T044423
CREATED:20251228T102742Z
LAST-MODIFIED:20251228T102744Z
UID:10003539-1923152400-1923157800@ashtangaanyways.com
SUMMARY:Mysore
DESCRIPTION:Zajęcia odbywają się w każdy wtorek o 17:00-18:30 w Ashtanga Yoga Wrocław (ul. Trzebnicka 12/1\, 50-246 Wrocław). \n\n\n\n>> WIĘCEJ SZCZEGÓŁÓW <<
URL:https://ashtangaanyways.com/grafik/mysore-10/2030-12-10/
CATEGORIES:ashtanga joga,mysore,praktyka
END:VEVENT
BEGIN:VEVENT
DTSTART;TZID=Europe/Warsaw:20301217T170000
DTEND;TZID=Europe/Warsaw:20301217T183000
DTSTAMP:20260423T044423
CREATED:20251228T102742Z
LAST-MODIFIED:20251228T102744Z
UID:10003540-1923757200-1923762600@ashtangaanyways.com
SUMMARY:Mysore
DESCRIPTION:Zajęcia odbywają się w każdy wtorek o 17:00-18:30 w Ashtanga Yoga Wrocław (ul. Trzebnicka 12/1\, 50-246 Wrocław). \n\n\n\n>> WIĘCEJ SZCZEGÓŁÓW <<
URL:https://ashtangaanyways.com/grafik/mysore-10/2030-12-17/
CATEGORIES:ashtanga joga,mysore,praktyka
END:VEVENT
BEGIN:VEVENT
DTSTART;TZID=Europe/Warsaw:20301224T170000
DTEND;TZID=Europe/Warsaw:20301224T183000
DTSTAMP:20260423T044423
CREATED:20251228T102742Z
LAST-MODIFIED:20251228T102744Z
UID:10003541-1924362000-1924367400@ashtangaanyways.com
SUMMARY:Mysore
DESCRIPTION:Zajęcia odbywają się w każdy wtorek o 17:00-18:30 w Ashtanga Yoga Wrocław (ul. Trzebnicka 12/1\, 50-246 Wrocław). \n\n\n\n>> WIĘCEJ SZCZEGÓŁÓW <<
URL:https://ashtangaanyways.com/grafik/mysore-10/2030-12-24/
CATEGORIES:ashtanga joga,mysore,praktyka
END:VEVENT
END:VCALENDAR