BEGIN:VCALENDAR
VERSION:2.0
PRODID:-//Ashtanga Anyways - ECPv6.15.18//NONSGML v1.0//EN
CALSCALE:GREGORIAN
METHOD:PUBLISH
X-WR-CALNAME:Ashtanga Anyways
X-ORIGINAL-URL:https://ashtangaanyways.com
X-WR-CALDESC:Wydarzenia dla Ashtanga Anyways
REFRESH-INTERVAL;VALUE=DURATION:PT1H
X-Robots-Tag:noindex
X-PUBLISHED-TTL:PT1H
BEGIN:VTIMEZONE
TZID:Europe/Warsaw
BEGIN:DAYLIGHT
TZOFFSETFROM:+0100
TZOFFSETTO:+0200
TZNAME:CEST
DTSTART:20240331T010000
END:DAYLIGHT
BEGIN:STANDARD
TZOFFSETFROM:+0200
TZOFFSETTO:+0100
TZNAME:CET
DTSTART:20241027T010000
END:STANDARD
BEGIN:DAYLIGHT
TZOFFSETFROM:+0100
TZOFFSETTO:+0200
TZNAME:CEST
DTSTART:20250330T010000
END:DAYLIGHT
BEGIN:STANDARD
TZOFFSETFROM:+0200
TZOFFSETTO:+0100
TZNAME:CET
DTSTART:20251026T010000
END:STANDARD
BEGIN:DAYLIGHT
TZOFFSETFROM:+0100
TZOFFSETTO:+0200
TZNAME:CEST
DTSTART:20260329T010000
END:DAYLIGHT
BEGIN:STANDARD
TZOFFSETFROM:+0200
TZOFFSETTO:+0100
TZNAME:CET
DTSTART:20261025T010000
END:STANDARD
END:VTIMEZONE
BEGIN:VEVENT
DTSTART;TZID=Europe/Warsaw:20251015T183000
DTEND;TZID=Europe/Warsaw:20251015T193000
DTSTAMP:20260422T032116
CREATED:20250703T052126Z
LAST-MODIFIED:20250703T052130Z
UID:10001962-1760553000-1760556600@ashtangaanyways.com
SUMMARY:Ashtanga joga dla początkujących
DESCRIPTION:Zajęcia odbywają się w każdą środę od 18:30 do 19:30 w Ashtanga Yoga Wrocław (ul. Trzebnicka 12/1\, 50-246 Wrocław). \n\n\n\n>> WIĘCEJ SZCZEGÓŁÓW <<
URL:https://ashtangaanyways.com/grafik/ashtanga-joga-dla-poczatkujacych-3/2025-10-15/
LOCATION:Dolnośląskie
CATEGORIES:ashtanga joga,praktyka
END:VEVENT
BEGIN:VEVENT
DTSTART;TZID=Europe/Warsaw:20251015T194500
DTEND;TZID=Europe/Warsaw:20251015T204500
DTSTAMP:20260422T032116
CREATED:20240813T100513Z
LAST-MODIFIED:20250608T073501Z
UID:10002014-1760557500-1760561100@ashtangaanyways.com
SUMMARY:Pół Pierwszej Serii Prowadzonej
DESCRIPTION:Zajęcia odbywają się w każdą środę od 19:45 do 20:45 w Ashtanga Yoga Wrocław (ul. Trzebnicka 12/1\, 50-246 Wrocław). \n\n\n\n>> WIĘCEJ SZCZEGÓŁÓW <<
URL:https://ashtangaanyways.com/grafik/yin-joga/2025-10-15/
LOCATION:Dolnośląskie
CATEGORIES:ashtanga joga,praktyka
END:VEVENT
BEGIN:VEVENT
DTSTART;TZID=Europe/Warsaw:20251016T170000
DTEND;TZID=Europe/Warsaw:20251016T183000
DTSTAMP:20260422T032116
CREATED:20240813T100816Z
LAST-MODIFIED:20250120T175955Z
UID:10002065-1760634000-1760639400@ashtangaanyways.com
SUMMARY:Mysore
DESCRIPTION:Zajęcia odbywają się w każdy czwartek o 17:00-18:30 w Ashtanga Yoga Wrocław (ul. Trzebnicka 12/1\, 50-246 Wrocław). \n\n\n\n>> WIĘCEJ SZCZEGÓŁÓW <<
URL:https://ashtangaanyways.com/grafik/mysore-3/2025-10-16/
LOCATION:Dolnośląskie
CATEGORIES:ashtanga joga,mysore,praktyka
END:VEVENT
BEGIN:VEVENT
DTSTART;TZID=Europe/Warsaw:20251016T183000
DTEND;TZID=Europe/Warsaw:20251016T194500
DTSTAMP:20260422T032116
CREATED:20240813T101125Z
LAST-MODIFIED:20241130T184235Z
UID:10000289-1760639400-1760643900@ashtangaanyways.com
SUMMARY:Pół Pierwszej Serii Prowadzonej
DESCRIPTION:Zajęcia odbywają się w każdy czwartek od 18:30 do 19:45 w Ashtanga Yoga Wrocław (ul. Trzebnicka 12/1\, 50-246 Wrocław). \n\n\n\n>> WIĘCEJ SZCZEGÓŁÓW <<
URL:https://ashtangaanyways.com/grafik/ashtanga-wstep-do-drugiej-serii/2025-10-16/
LOCATION:Dolnośląskie
CATEGORIES:ashtanga joga,praktyka
END:VEVENT
BEGIN:VEVENT
DTSTART;TZID=Europe/Warsaw:20251016T194500
DTEND;TZID=Europe/Warsaw:20251016T210000
DTSTAMP:20260422T032116
CREATED:20250703T051626Z
LAST-MODIFIED:20250921T074507Z
UID:10000219-1760643900-1760648400@ashtangaanyways.com
SUMMARY:Yin Joga
DESCRIPTION:Zajęcia odbywają się w każdy czwartek od 19:45 do 21:00 w Ashtanga Yoga Wrocław (ul. Trzebnicka 12/1\, 50-246 Wrocław). \n\n\n\n>> WIĘCEJ SZCZEGÓŁÓW <<
URL:https://ashtangaanyways.com/grafik/yin-joga-2/2025-10-16/
LOCATION:Ashtanga Yoga Wrocław\, Trzebnicka 12/1\, Wrocław\, Dolnośląskie\, Poland
CATEGORIES:ashtanga joga,praktyka
END:VEVENT
BEGIN:VEVENT
DTSTART;TZID=Europe/Warsaw:20251017T173000
DTEND;TZID=Europe/Warsaw:20251017T190000
DTSTAMP:20260422T032116
CREATED:20250703T051954Z
LAST-MODIFIED:20250703T051958Z
UID:10000079-1760722200-1760727600@ashtangaanyways.com
SUMMARY:Pierwsza Seria Prowadzona
DESCRIPTION:Zajęcia odbywają się w każdy piątek od 17:30 do 19:00 w Ashtanga Yoga Wrocław (ul. Trzebnicka 12/1\, 50-246 Wrocław). \n\n\n\n >> WIĘCEJ SZCZEGÓŁÓW <<
URL:https://ashtangaanyways.com/grafik/pierwsza-seria-prowadzona-3/2025-10-17/
LOCATION:Ashtanga Yoga Wrocław\, Trzebnicka 12/1\, Wrocław\, Dolnośląskie\, Poland
CATEGORIES:ashtanga joga,praktyka
END:VEVENT
BEGIN:VEVENT
DTSTART;TZID=Europe/Warsaw:20251017T191500
DTEND;TZID=Europe/Warsaw:20251017T201500
DTSTAMP:20260422T032116
CREATED:20250804T175321Z
LAST-MODIFIED:20250921T074626Z
UID:10002384-1760728500-1760732100@ashtangaanyways.com
SUMMARY:Joga Nidra
DESCRIPTION:Kojarzona z głęboką relaksacją Joga Nidra to przede wszystkim technika medytacyjna i trening dla umysłu\, których skutkiem jest odprężenie. Jest doskonałym lekarstwem dla pędzącego i oszalałego z napięcia świata.  \n\n\n\nMoże być praktykowana przez wszystkie osoby\, w każdym wieku\, bez względu na indywidualne predyspozycje ciała. Podczas świadomego śnienia ciało i umysł są rozluźnione. Ciało leży w bezruchu\, a umysł zwalnia. Praktyka polega na wycofaniu zmysłów i świadomym mapowaniu swojego ciała. W Jodze Nidrze wydaje się\, że śpimy\, ale świadomość nadal funkcjonuje na głębszym poziomie.
URL:https://ashtangaanyways.com/grafik/joga-nidra/
LOCATION:Ashtanga Yoga Wrocław\, Trzebnicka 12/1\, Wrocław\, Dolnośląskie\, Poland
END:VEVENT
BEGIN:VEVENT
DTSTART;TZID=Europe/Warsaw:20251019T180000
DTEND;TZID=Europe/Warsaw:20251019T190000
DTSTAMP:20260422T032116
CREATED:20250703T051838Z
LAST-MODIFIED:20250921T074333Z
UID:10002399-1760896800-1760900400@ashtangaanyways.com
SUMMARY:Joga regeneracyjna i techniki relaksacji
DESCRIPTION:Łagodna\, spokojna praktyka dostosowuje się do indywidualnych potrzeb i możliwości każdego uczestnika i jest idealna dla wszystkich poszukujących spowolnienia i relaksu\, niezależnie od poziomu zaawansowania\, kondycji fizycznej czy wieku. Podczas zajęć jogi regeneracyjnej będziemy poznawać wyciszające i równoważące techniki Pranayamy a także praktykować łagodną i medytacyjną Yin jogę\, kończąc praktyki asan długim relaksem z elementami jogi Nidry. \n\n\n\n>> WIĘCEJ SZCZEGÓŁÓW <<
URL:https://ashtangaanyways.com/grafik/joga-regeneracyjna-i-techniki-relaksacji-2/2025-10-19/
LOCATION:Dolnośląskie
CATEGORIES:joga regeneracyjna,nidra joga,yin joga
END:VEVENT
BEGIN:VEVENT
DTSTART;TZID=Europe/Warsaw:20251020T191500
DTEND;TZID=Europe/Warsaw:20251020T201500
DTSTAMP:20260422T032116
CREATED:20250921T080703Z
LAST-MODIFIED:20250921T080707Z
UID:10002673-1760987700-1760991300@ashtangaanyways.com
SUMMARY:kurs z przejść: Vinyasa – oddech\, siła i elastyczność
DESCRIPTION:Kurs skoncentrowany jest na nauce płynnych przejść w ashtanga vinyasa jodze\, łączących ruch\, oddech i pracę z bandhami. Podczas kursu ędziemy wzmacniać ciało\, rozwijać technikę przeskoków i wyskoków oraz poznawać warianty pozycji balansujących. Kameralna grupa (maks. 10 osób) gwarantuje indywidualne podejście i możliwość stopniowego pogłębiania praktyki.
URL:https://ashtangaanyways.com/grafik/kurs-z-przejsc-vinyasa-oddech-sila-i-elastycznosc/2025-10-20/
LOCATION:Ashtanga Yoga Wrocław\, Trzebnicka 12/1\, Wrocław\, Dolnośląskie\, Poland
END:VEVENT
BEGIN:VEVENT
DTSTART;TZID=Europe/Warsaw:20251021T170000
DTEND;TZID=Europe/Warsaw:20251021T183000
DTSTAMP:20260422T032116
CREATED:20240813T095331Z
LAST-MODIFIED:20250120T174433Z
UID:10001743-1761066000-1761071400@ashtangaanyways.com
SUMMARY:Mysore
DESCRIPTION:Zajęcia odbywają się w każdy wtorek o 17:00-18:30 w Ashtanga Yoga Wrocław (ul. Trzebnicka 12/1\, 50-246 Wrocław). \n\n\n\n>> WIĘCEJ SZCZEGÓŁÓW <<
URL:https://ashtangaanyways.com/grafik/mysore/2025-10-21/
LOCATION:Dolnośląskie
CATEGORIES:ashtanga joga,mysore,praktyka
END:VEVENT
BEGIN:VEVENT
DTSTART;TZID=Europe/Warsaw:20251021T183000
DTEND;TZID=Europe/Warsaw:20251021T193000
DTSTAMP:20260422T032116
CREATED:20240813T095954Z
LAST-MODIFIED:20251215T193627Z
UID:10001794-1761071400-1761075000@ashtangaanyways.com
SUMMARY:Ashtanga joga dla początkujących
DESCRIPTION:Zajęcia odbywają się w każdy wtorek od 18:30 do 19:30 w Ashtanga Yoga Wrocław (ul. Trzebnicka 12/1\, 50-246 Wrocław). \n\n\n\n>> WIĘCEJ SZCZEGÓŁÓW <<
URL:https://ashtangaanyways.com/grafik/ashtanga-joga-dla-poczatkujacych/2025-10-21/
LOCATION:Dolnośląskie
CATEGORIES:ashtanga joga,praktyka
END:VEVENT
BEGIN:VEVENT
DTSTART;TZID=Europe/Warsaw:20251021T194500
DTEND;TZID=Europe/Warsaw:20251021T210000
DTSTAMP:20260422T032116
CREATED:20240813T095625Z
LAST-MODIFIED:20250120T174817Z
UID:10001845-1761075900-1761080400@ashtangaanyways.com
SUMMARY:Pierwsza Seria Prowadzona
DESCRIPTION:Zajęcia odbywają się w każdy wtorek od 19:45 do 21:00 w Ashtanga Yoga Wrocław (ul. Trzebnicka 12/1\, 50-246 Wrocław). \n\n\n\n>> WIĘCEJ SZCZEGÓŁÓW <<
URL:https://ashtangaanyways.com/grafik/pierwsza-seria-prowadzona/2025-10-21/
LOCATION:Dolnośląskie
CATEGORIES:ashtanga joga,mysore,praktyka
END:VEVENT
BEGIN:VEVENT
DTSTART;TZID=Europe/Warsaw:20251022T070000
DTEND;TZID=Europe/Warsaw:20251022T090000
DTSTAMP:20260422T032116
CREATED:20241007T103400Z
LAST-MODIFIED:20251228T104600Z
UID:10001911-1761116400-1761123600@ashtangaanyways.com
SUMMARY:Ashtanga All – MYSORE
DESCRIPTION:Zajęcia odbywają się w każdy wtorek o 7:00-9:00 w Ashtanga Yoga Wrocław (ul. Trzebnicka 12/1\, 50-246 Wrocław). \n\n\n\n>> WIĘCEJ SZCZEGÓŁÓW <<
URL:https://ashtangaanyways.com/grafik/ashtanga-all-mysore-3/2025-10-22/
LOCATION:Dolnośląskie
CATEGORIES:nidra joga,praktyka
END:VEVENT
BEGIN:VEVENT
DTSTART;TZID=Europe/Warsaw:20251022T183000
DTEND;TZID=Europe/Warsaw:20251022T193000
DTSTAMP:20260422T032116
CREATED:20250703T052126Z
LAST-MODIFIED:20250703T052130Z
UID:10001963-1761157800-1761161400@ashtangaanyways.com
SUMMARY:Ashtanga joga dla początkujących
DESCRIPTION:Zajęcia odbywają się w każdą środę od 18:30 do 19:30 w Ashtanga Yoga Wrocław (ul. Trzebnicka 12/1\, 50-246 Wrocław). \n\n\n\n>> WIĘCEJ SZCZEGÓŁÓW <<
URL:https://ashtangaanyways.com/grafik/ashtanga-joga-dla-poczatkujacych-3/2025-10-22/
LOCATION:Dolnośląskie
CATEGORIES:ashtanga joga,praktyka
END:VEVENT
BEGIN:VEVENT
DTSTART;TZID=Europe/Warsaw:20251022T194500
DTEND;TZID=Europe/Warsaw:20251022T204500
DTSTAMP:20260422T032116
CREATED:20240813T100513Z
LAST-MODIFIED:20250608T073501Z
UID:10002015-1761162300-1761165900@ashtangaanyways.com
SUMMARY:Pół Pierwszej Serii Prowadzonej
DESCRIPTION:Zajęcia odbywają się w każdą środę od 19:45 do 20:45 w Ashtanga Yoga Wrocław (ul. Trzebnicka 12/1\, 50-246 Wrocław). \n\n\n\n>> WIĘCEJ SZCZEGÓŁÓW <<
URL:https://ashtangaanyways.com/grafik/yin-joga/2025-10-22/
LOCATION:Dolnośląskie
CATEGORIES:ashtanga joga,praktyka
END:VEVENT
BEGIN:VEVENT
DTSTART;TZID=Europe/Warsaw:20251023T170000
DTEND;TZID=Europe/Warsaw:20251023T183000
DTSTAMP:20260422T032116
CREATED:20240813T100816Z
LAST-MODIFIED:20250120T175955Z
UID:10002066-1761238800-1761244200@ashtangaanyways.com
SUMMARY:Mysore
DESCRIPTION:Zajęcia odbywają się w każdy czwartek o 17:00-18:30 w Ashtanga Yoga Wrocław (ul. Trzebnicka 12/1\, 50-246 Wrocław). \n\n\n\n>> WIĘCEJ SZCZEGÓŁÓW <<
URL:https://ashtangaanyways.com/grafik/mysore-3/2025-10-23/
LOCATION:Dolnośląskie
CATEGORIES:ashtanga joga,mysore,praktyka
END:VEVENT
BEGIN:VEVENT
DTSTART;TZID=Europe/Warsaw:20251023T183000
DTEND;TZID=Europe/Warsaw:20251023T194500
DTSTAMP:20260422T032117
CREATED:20240813T101125Z
LAST-MODIFIED:20241130T184235Z
UID:10000290-1761244200-1761248700@ashtangaanyways.com
SUMMARY:Pół Pierwszej Serii Prowadzonej
DESCRIPTION:Zajęcia odbywają się w każdy czwartek od 18:30 do 19:45 w Ashtanga Yoga Wrocław (ul. Trzebnicka 12/1\, 50-246 Wrocław). \n\n\n\n>> WIĘCEJ SZCZEGÓŁÓW <<
URL:https://ashtangaanyways.com/grafik/ashtanga-wstep-do-drugiej-serii/2025-10-23/
LOCATION:Dolnośląskie
CATEGORIES:ashtanga joga,praktyka
END:VEVENT
BEGIN:VEVENT
DTSTART;TZID=Europe/Warsaw:20251023T194500
DTEND;TZID=Europe/Warsaw:20251023T210000
DTSTAMP:20260422T032117
CREATED:20250703T051626Z
LAST-MODIFIED:20250921T074507Z
UID:10000220-1761248700-1761253200@ashtangaanyways.com
SUMMARY:Yin Joga
DESCRIPTION:Zajęcia odbywają się w każdy czwartek od 19:45 do 21:00 w Ashtanga Yoga Wrocław (ul. Trzebnicka 12/1\, 50-246 Wrocław). \n\n\n\n>> WIĘCEJ SZCZEGÓŁÓW <<
URL:https://ashtangaanyways.com/grafik/yin-joga-2/2025-10-23/
LOCATION:Ashtanga Yoga Wrocław\, Trzebnicka 12/1\, Wrocław\, Dolnośląskie\, Poland
CATEGORIES:ashtanga joga,praktyka
END:VEVENT
BEGIN:VEVENT
DTSTART;TZID=Europe/Warsaw:20251024T173000
DTEND;TZID=Europe/Warsaw:20251024T190000
DTSTAMP:20260422T032117
CREATED:20250703T051954Z
LAST-MODIFIED:20250703T051958Z
UID:10000080-1761327000-1761332400@ashtangaanyways.com
SUMMARY:Pierwsza Seria Prowadzona
DESCRIPTION:Zajęcia odbywają się w każdy piątek od 17:30 do 19:00 w Ashtanga Yoga Wrocław (ul. Trzebnicka 12/1\, 50-246 Wrocław). \n\n\n\n >> WIĘCEJ SZCZEGÓŁÓW <<
URL:https://ashtangaanyways.com/grafik/pierwsza-seria-prowadzona-3/2025-10-24/
LOCATION:Ashtanga Yoga Wrocław\, Trzebnicka 12/1\, Wrocław\, Dolnośląskie\, Poland
CATEGORIES:ashtanga joga,praktyka
END:VEVENT
BEGIN:VEVENT
DTSTART;TZID=Europe/Warsaw:20251026T180000
DTEND;TZID=Europe/Warsaw:20251026T190000
DTSTAMP:20260422T032117
CREATED:20250703T051838Z
LAST-MODIFIED:20250921T074333Z
UID:10002400-1761501600-1761505200@ashtangaanyways.com
SUMMARY:Joga regeneracyjna i techniki relaksacji
DESCRIPTION:Łagodna\, spokojna praktyka dostosowuje się do indywidualnych potrzeb i możliwości każdego uczestnika i jest idealna dla wszystkich poszukujących spowolnienia i relaksu\, niezależnie od poziomu zaawansowania\, kondycji fizycznej czy wieku. Podczas zajęć jogi regeneracyjnej będziemy poznawać wyciszające i równoważące techniki Pranayamy a także praktykować łagodną i medytacyjną Yin jogę\, kończąc praktyki asan długim relaksem z elementami jogi Nidry. \n\n\n\n>> WIĘCEJ SZCZEGÓŁÓW <<
URL:https://ashtangaanyways.com/grafik/joga-regeneracyjna-i-techniki-relaksacji-2/2025-10-26/
LOCATION:Dolnośląskie
CATEGORIES:joga regeneracyjna,nidra joga,yin joga
END:VEVENT
BEGIN:VEVENT
DTSTART;TZID=Europe/Warsaw:20251027T191500
DTEND;TZID=Europe/Warsaw:20251027T201500
DTSTAMP:20260422T032117
CREATED:20250921T080703Z
LAST-MODIFIED:20250921T080707Z
UID:10002674-1761592500-1761596100@ashtangaanyways.com
SUMMARY:kurs z przejść: Vinyasa – oddech\, siła i elastyczność
DESCRIPTION:Kurs skoncentrowany jest na nauce płynnych przejść w ashtanga vinyasa jodze\, łączących ruch\, oddech i pracę z bandhami. Podczas kursu ędziemy wzmacniać ciało\, rozwijać technikę przeskoków i wyskoków oraz poznawać warianty pozycji balansujących. Kameralna grupa (maks. 10 osób) gwarantuje indywidualne podejście i możliwość stopniowego pogłębiania praktyki.
URL:https://ashtangaanyways.com/grafik/kurs-z-przejsc-vinyasa-oddech-sila-i-elastycznosc/2025-10-27/
LOCATION:Ashtanga Yoga Wrocław\, Trzebnicka 12/1\, Wrocław\, Dolnośląskie\, Poland
END:VEVENT
BEGIN:VEVENT
DTSTART;TZID=Europe/Warsaw:20251028T170000
DTEND;TZID=Europe/Warsaw:20251028T183000
DTSTAMP:20260422T032117
CREATED:20240813T095331Z
LAST-MODIFIED:20250120T174433Z
UID:10001744-1761670800-1761676200@ashtangaanyways.com
SUMMARY:Mysore
DESCRIPTION:Zajęcia odbywają się w każdy wtorek o 17:00-18:30 w Ashtanga Yoga Wrocław (ul. Trzebnicka 12/1\, 50-246 Wrocław). \n\n\n\n>> WIĘCEJ SZCZEGÓŁÓW <<
URL:https://ashtangaanyways.com/grafik/mysore/2025-10-28/
LOCATION:Dolnośląskie
CATEGORIES:ashtanga joga,mysore,praktyka
END:VEVENT
BEGIN:VEVENT
DTSTART;TZID=Europe/Warsaw:20251028T183000
DTEND;TZID=Europe/Warsaw:20251028T193000
DTSTAMP:20260422T032117
CREATED:20240813T095954Z
LAST-MODIFIED:20251215T193627Z
UID:10001795-1761676200-1761679800@ashtangaanyways.com
SUMMARY:Ashtanga joga dla początkujących
DESCRIPTION:Zajęcia odbywają się w każdy wtorek od 18:30 do 19:30 w Ashtanga Yoga Wrocław (ul. Trzebnicka 12/1\, 50-246 Wrocław). \n\n\n\n>> WIĘCEJ SZCZEGÓŁÓW <<
URL:https://ashtangaanyways.com/grafik/ashtanga-joga-dla-poczatkujacych/2025-10-28/
LOCATION:Dolnośląskie
CATEGORIES:ashtanga joga,praktyka
END:VEVENT
BEGIN:VEVENT
DTSTART;TZID=Europe/Warsaw:20251028T194500
DTEND;TZID=Europe/Warsaw:20251028T210000
DTSTAMP:20260422T032117
CREATED:20240813T095625Z
LAST-MODIFIED:20250120T174817Z
UID:10001846-1761680700-1761685200@ashtangaanyways.com
SUMMARY:Pierwsza Seria Prowadzona
DESCRIPTION:Zajęcia odbywają się w każdy wtorek od 19:45 do 21:00 w Ashtanga Yoga Wrocław (ul. Trzebnicka 12/1\, 50-246 Wrocław). \n\n\n\n>> WIĘCEJ SZCZEGÓŁÓW <<
URL:https://ashtangaanyways.com/grafik/pierwsza-seria-prowadzona/2025-10-28/
LOCATION:Dolnośląskie
CATEGORIES:ashtanga joga,mysore,praktyka
END:VEVENT
BEGIN:VEVENT
DTSTART;TZID=Europe/Warsaw:20251029T070000
DTEND;TZID=Europe/Warsaw:20251029T090000
DTSTAMP:20260422T032117
CREATED:20241007T103400Z
LAST-MODIFIED:20251228T104600Z
UID:10001912-1761721200-1761728400@ashtangaanyways.com
SUMMARY:Ashtanga All – MYSORE
DESCRIPTION:Zajęcia odbywają się w każdy wtorek o 7:00-9:00 w Ashtanga Yoga Wrocław (ul. Trzebnicka 12/1\, 50-246 Wrocław). \n\n\n\n>> WIĘCEJ SZCZEGÓŁÓW <<
URL:https://ashtangaanyways.com/grafik/ashtanga-all-mysore-3/2025-10-29/
LOCATION:Dolnośląskie
CATEGORIES:nidra joga,praktyka
END:VEVENT
BEGIN:VEVENT
DTSTART;TZID=Europe/Warsaw:20251029T183000
DTEND;TZID=Europe/Warsaw:20251029T193000
DTSTAMP:20260422T032117
CREATED:20250703T052126Z
LAST-MODIFIED:20250703T052130Z
UID:10001964-1761762600-1761766200@ashtangaanyways.com
SUMMARY:Ashtanga joga dla początkujących
DESCRIPTION:Zajęcia odbywają się w każdą środę od 18:30 do 19:30 w Ashtanga Yoga Wrocław (ul. Trzebnicka 12/1\, 50-246 Wrocław). \n\n\n\n>> WIĘCEJ SZCZEGÓŁÓW <<
URL:https://ashtangaanyways.com/grafik/ashtanga-joga-dla-poczatkujacych-3/2025-10-29/
LOCATION:Dolnośląskie
CATEGORIES:ashtanga joga,praktyka
END:VEVENT
BEGIN:VEVENT
DTSTART;TZID=Europe/Warsaw:20251029T194500
DTEND;TZID=Europe/Warsaw:20251029T204500
DTSTAMP:20260422T032117
CREATED:20240813T100513Z
LAST-MODIFIED:20250608T073501Z
UID:10002016-1761767100-1761770700@ashtangaanyways.com
SUMMARY:Pół Pierwszej Serii Prowadzonej
DESCRIPTION:Zajęcia odbywają się w każdą środę od 19:45 do 20:45 w Ashtanga Yoga Wrocław (ul. Trzebnicka 12/1\, 50-246 Wrocław). \n\n\n\n>> WIĘCEJ SZCZEGÓŁÓW <<
URL:https://ashtangaanyways.com/grafik/yin-joga/2025-10-29/
LOCATION:Dolnośląskie
CATEGORIES:ashtanga joga,praktyka
END:VEVENT
BEGIN:VEVENT
DTSTART;TZID=Europe/Warsaw:20251030T170000
DTEND;TZID=Europe/Warsaw:20251030T183000
DTSTAMP:20260422T032117
CREATED:20240813T100816Z
LAST-MODIFIED:20250120T175955Z
UID:10002067-1761843600-1761849000@ashtangaanyways.com
SUMMARY:Mysore
DESCRIPTION:Zajęcia odbywają się w każdy czwartek o 17:00-18:30 w Ashtanga Yoga Wrocław (ul. Trzebnicka 12/1\, 50-246 Wrocław). \n\n\n\n>> WIĘCEJ SZCZEGÓŁÓW <<
URL:https://ashtangaanyways.com/grafik/mysore-3/2025-10-30/
LOCATION:Dolnośląskie
CATEGORIES:ashtanga joga,mysore,praktyka
END:VEVENT
BEGIN:VEVENT
DTSTART;TZID=Europe/Warsaw:20251030T183000
DTEND;TZID=Europe/Warsaw:20251030T194500
DTSTAMP:20260422T032117
CREATED:20240813T101125Z
LAST-MODIFIED:20241130T184235Z
UID:10000291-1761849000-1761853500@ashtangaanyways.com
SUMMARY:Pół Pierwszej Serii Prowadzonej
DESCRIPTION:Zajęcia odbywają się w każdy czwartek od 18:30 do 19:45 w Ashtanga Yoga Wrocław (ul. Trzebnicka 12/1\, 50-246 Wrocław). \n\n\n\n>> WIĘCEJ SZCZEGÓŁÓW <<
URL:https://ashtangaanyways.com/grafik/ashtanga-wstep-do-drugiej-serii/2025-10-30/
LOCATION:Dolnośląskie
CATEGORIES:ashtanga joga,praktyka
END:VEVENT
BEGIN:VEVENT
DTSTART;TZID=Europe/Warsaw:20251030T194500
DTEND;TZID=Europe/Warsaw:20251030T210000
DTSTAMP:20260422T032117
CREATED:20250703T051626Z
LAST-MODIFIED:20250921T074507Z
UID:10000221-1761853500-1761858000@ashtangaanyways.com
SUMMARY:Yin Joga
DESCRIPTION:Zajęcia odbywają się w każdy czwartek od 19:45 do 21:00 w Ashtanga Yoga Wrocław (ul. Trzebnicka 12/1\, 50-246 Wrocław). \n\n\n\n>> WIĘCEJ SZCZEGÓŁÓW <<
URL:https://ashtangaanyways.com/grafik/yin-joga-2/2025-10-30/
LOCATION:Ashtanga Yoga Wrocław\, Trzebnicka 12/1\, Wrocław\, Dolnośląskie\, Poland
CATEGORIES:ashtanga joga,praktyka
END:VEVENT
END:VCALENDAR