BEGIN:VCALENDAR
VERSION:2.0
PRODID:-//Ashtanga Anyways - ECPv6.15.18//NONSGML v1.0//EN
CALSCALE:GREGORIAN
METHOD:PUBLISH
X-WR-CALNAME:Ashtanga Anyways
X-ORIGINAL-URL:https://ashtangaanyways.com
X-WR-CALDESC:Wydarzenia dla Ashtanga Anyways
REFRESH-INTERVAL;VALUE=DURATION:PT1H
X-Robots-Tag:noindex
X-PUBLISHED-TTL:PT1H
BEGIN:VTIMEZONE
TZID:Europe/Warsaw
BEGIN:DAYLIGHT
TZOFFSETFROM:+0100
TZOFFSETTO:+0200
TZNAME:CEST
DTSTART:20230326T010000
END:DAYLIGHT
BEGIN:STANDARD
TZOFFSETFROM:+0200
TZOFFSETTO:+0100
TZNAME:CET
DTSTART:20231029T010000
END:STANDARD
BEGIN:DAYLIGHT
TZOFFSETFROM:+0100
TZOFFSETTO:+0200
TZNAME:CEST
DTSTART:20240331T010000
END:DAYLIGHT
BEGIN:STANDARD
TZOFFSETFROM:+0200
TZOFFSETTO:+0100
TZNAME:CET
DTSTART:20241027T010000
END:STANDARD
BEGIN:DAYLIGHT
TZOFFSETFROM:+0100
TZOFFSETTO:+0200
TZNAME:CEST
DTSTART:20250330T010000
END:DAYLIGHT
BEGIN:STANDARD
TZOFFSETFROM:+0200
TZOFFSETTO:+0100
TZNAME:CET
DTSTART:20251026T010000
END:STANDARD
END:VTIMEZONE
BEGIN:VEVENT
DTSTART;TZID=Europe/Warsaw:20241023T194500
DTEND;TZID=Europe/Warsaw:20241023T204500
DTSTAMP:20260423T064706
CREATED:20240813T100513Z
LAST-MODIFIED:20250608T073501Z
UID:10000326-1729712700-1729716300@ashtangaanyways.com
SUMMARY:Pół Pierwszej Serii Prowadzonej
DESCRIPTION:Zajęcia odbywają się w każdą środę od 19:45 do 20:45 w Ashtanga Yoga Wrocław (ul. Trzebnicka 12/1\, 50-246 Wrocław). \n\n\n\n>> WIĘCEJ SZCZEGÓŁÓW <<
URL:https://ashtangaanyways.com/grafik/yin-joga/2024-10-23/
LOCATION:Dolnośląskie
CATEGORIES:ashtanga joga,praktyka
END:VEVENT
BEGIN:VEVENT
DTSTART;TZID=Europe/Warsaw:20241024T063000
DTEND;TZID=Europe/Warsaw:20241024T090000
DTSTAMP:20260423T064706
CREATED:20241007T104025Z
LAST-MODIFIED:20241130T180202Z
UID:10000500-1729751400-1729760400@ashtangaanyways.com
SUMMARY:Mysore
DESCRIPTION:Zajęcia odbywają się w każdy wtorek o 6:30-7:45 w Fabryce Energii (ul. Plac Wolności 7 (I piętro)\,  50-071 Wrocław). \n\n\n\n>> WIĘCEJ SZCZEGÓŁÓW <<
URL:https://ashtangaanyways.com/grafik/ashtanga-0-prowadzona/2024-10-24/
LOCATION:Dolnośląskie
CATEGORIES:ashtanga joga,praktyka
END:VEVENT
BEGIN:VEVENT
DTSTART;TZID=Europe/Warsaw:20241024T170000
DTEND;TZID=Europe/Warsaw:20241024T183000
DTSTAMP:20260423T064706
CREATED:20240813T100816Z
LAST-MODIFIED:20250120T175955Z
UID:10000308-1729789200-1729794600@ashtangaanyways.com
SUMMARY:Mysore
DESCRIPTION:Zajęcia odbywają się w każdy czwartek o 17:00-18:30 w Ashtanga Yoga Wrocław (ul. Trzebnicka 12/1\, 50-246 Wrocław). \n\n\n\n>> WIĘCEJ SZCZEGÓŁÓW <<
URL:https://ashtangaanyways.com/grafik/mysore-3/2024-10-24/
LOCATION:Dolnośląskie
CATEGORIES:ashtanga joga,mysore,praktyka
END:VEVENT
BEGIN:VEVENT
DTSTART;TZID=Europe/Warsaw:20241024T183000
DTEND;TZID=Europe/Warsaw:20241024T194500
DTSTAMP:20260423T064706
CREATED:20240813T101125Z
LAST-MODIFIED:20241130T184235Z
UID:10000238-1729794600-1729799100@ashtangaanyways.com
SUMMARY:Pół Pierwszej Serii Prowadzonej
DESCRIPTION:Zajęcia odbywają się w każdy czwartek od 18:30 do 19:45 w Ashtanga Yoga Wrocław (ul. Trzebnicka 12/1\, 50-246 Wrocław). \n\n\n\n>> WIĘCEJ SZCZEGÓŁÓW <<
URL:https://ashtangaanyways.com/grafik/ashtanga-wstep-do-drugiej-serii/2024-10-24/
LOCATION:Dolnośląskie
CATEGORIES:ashtanga joga,praktyka
END:VEVENT
BEGIN:VEVENT
DTSTART;TZID=Europe/Warsaw:20241024T194500
DTEND;TZID=Europe/Warsaw:20241024T210000
DTSTAMP:20260423T064706
CREATED:20240813T101254Z
LAST-MODIFIED:20241130T184448Z
UID:10000168-1729799100-1729803600@ashtangaanyways.com
SUMMARY:Yin Joga
DESCRIPTION:Zajęcia odbywają się w każdy czwartek od 19:45 do 21:00 w Ashtanga Yoga Wrocław (ul. Trzebnicka 12/1\, 50-246 Wrocław). \n\n\n\n>> WIĘCEJ SZCZEGÓŁÓW <<
URL:https://ashtangaanyways.com/grafik/pol-pierwszej-serii-prowadzonej/2024-10-24/
LOCATION:Ashtanga Yoga Wrocław\, Trzebnicka 12/1\, Wrocław\, Dolnośląskie\, Poland
CATEGORIES:ashtanga joga,praktyka
END:VEVENT
BEGIN:VEVENT
DTSTART;TZID=Europe/Warsaw:20241025T110000
DTEND;TZID=Europe/Warsaw:20241027T120000
DTSTAMP:20260423T064706
CREATED:20241008T171939Z
LAST-MODIFIED:20241008T171942Z
UID:10001137-1729854000-1730030400@ashtangaanyways.com
SUMMARY:40 H Ashtanga Vinyasa Yoga Intensive
DESCRIPTION:Weekendowy 40-godzinny kurs pogłębionej praktyki Ashtanga Jogi obejmuje przygotowanie do praktyki oraz praktykę własną. Kurs jest przeznaczony dla osób regularnie praktykujących jogę przez minimum pół roku\, chcących pogłębić swoją praktykę oraz poznać historię i filozofię Ashtanga Jogi. Zajęcia odbędą się w Ashtanga Yoga Wrocław.  \n\n\n\n>> WIĘCEJ SZCZEGÓŁÓW <<
URL:https://ashtangaanyways.com/grafik/40-h-ashtanga-vinyasa-yoga-intensive/2024-10-25/
LOCATION:Dolnośląskie
CATEGORIES:ashtanga joga,kurs
ATTACH;FMTTYPE=image/jpeg:https://ashtangaanyways.com/wp-content/uploads/2024/08/2023_AYW_czerwiec_fot.-Dominika-Hull-104_terapuetyczne-scaled-e1725952837321.jpg
END:VEVENT
BEGIN:VEVENT
DTSTART;TZID=Europe/Warsaw:20241025T173000
DTEND;TZID=Europe/Warsaw:20241025T190000
DTSTAMP:20260423T064706
CREATED:20240813T101648Z
LAST-MODIFIED:20240908T182307Z
UID:10000028-1729877400-1729882800@ashtangaanyways.com
SUMMARY:Pierwsza Seria Prowadzona
DESCRIPTION:Zajęcia odbywają się w każdy piątek od 17:30 do 19:00 w Ashtanga Yoga Wrocław (ul. Trzebnicka 12/1\, 50-246 Wrocław). \n\n\n\n >> WIĘCEJ SZCZEGÓŁÓW <<
URL:https://ashtangaanyways.com/grafik/pierwsza-seria-prowadzona-2/2024-10-25/
LOCATION:Ashtanga Yoga Wrocław\, Trzebnicka 12/1\, Wrocław\, Dolnośląskie\, Poland
CATEGORIES:ashtanga joga,praktyka
END:VEVENT
BEGIN:VEVENT
DTSTART;TZID=Europe/Warsaw:20241026T113000
DTEND;TZID=Europe/Warsaw:20241026T140000
DTSTAMP:20260423T064706
CREATED:20240917T125345Z
LAST-MODIFIED:20240917T132048Z
UID:10000452-1729942200-1729951200@ashtangaanyways.com
SUMMARY:Vinyasa – oddech\, siła i elastyczność
DESCRIPTION:Warsztat z przeskoków i wyskoków w Ashtanga Jodze. Zapraszam osoby praktykujące ashtanga vinyasa jogę\, które chcą się wzmocnić\, odnaleźć balans w pozycjach oraz popracować nad techniką przeskoków i wyskoków oraz nauczyć się “Chakrasany”.>> WIĘCEJ SZCZEGÓŁÓW <<
URL:https://ashtangaanyways.com/grafik/vinyasa-oddech-sila-i-elastycznosc/
LOCATION:Dolnośląskie
CATEGORIES:ashtanga joga
ATTACH;FMTTYPE=image/png:https://ashtangaanyways.com/wp-content/uploads/2024/09/Vinyasa-–-oddech-sila-i-elastycznosc.-600-x-400-px.png
END:VEVENT
BEGIN:VEVENT
DTSTART;TZID=Europe/Warsaw:20241029T063000
DTEND;TZID=Europe/Warsaw:20241029T090000
DTSTAMP:20260423T064706
CREATED:20241130T181711Z
LAST-MODIFIED:20241130T182612Z
UID:10000501-1730183400-1730192400@ashtangaanyways.com
SUMMARY:Mysore
DESCRIPTION:Zajęcia odbywają się w każdy wtorek o 6:30-9:00 w Fabryce Energii (ul. Plac Wolności 7 (I piętro)\, 50-071 Wrocław). \n\n\n\n>> WIĘCEJ SZCZEGÓŁÓW <<
URL:https://ashtangaanyways.com/grafik/mysore-6/
LOCATION:Dolnośląskie
CATEGORIES:ashtanga joga,mysore,praktyka
END:VEVENT
BEGIN:VEVENT
DTSTART;TZID=Europe/Warsaw:20241029T170000
DTEND;TZID=Europe/Warsaw:20241029T183000
DTSTAMP:20260423T064706
CREATED:20240813T095331Z
LAST-MODIFIED:20250120T174433Z
UID:10000419-1730221200-1730226600@ashtangaanyways.com
SUMMARY:Mysore
DESCRIPTION:Zajęcia odbywają się w każdy wtorek o 17:00-18:30 w Ashtanga Yoga Wrocław (ul. Trzebnicka 12/1\, 50-246 Wrocław). \n\n\n\n>> WIĘCEJ SZCZEGÓŁÓW <<
URL:https://ashtangaanyways.com/grafik/mysore/2024-10-29/
LOCATION:Dolnośląskie
CATEGORIES:ashtanga joga,mysore,praktyka
END:VEVENT
BEGIN:VEVENT
DTSTART;TZID=Europe/Warsaw:20241029T183000
DTEND;TZID=Europe/Warsaw:20241029T193000
DTSTAMP:20260423T064706
CREATED:20240813T095954Z
LAST-MODIFIED:20251215T193627Z
UID:10000400-1730226600-1730230200@ashtangaanyways.com
SUMMARY:Ashtanga joga dla początkujących
DESCRIPTION:Zajęcia odbywają się w każdy wtorek od 18:30 do 19:30 w Ashtanga Yoga Wrocław (ul. Trzebnicka 12/1\, 50-246 Wrocław). \n\n\n\n>> WIĘCEJ SZCZEGÓŁÓW <<
URL:https://ashtangaanyways.com/grafik/ashtanga-joga-dla-poczatkujacych/2024-10-29/
LOCATION:Dolnośląskie
CATEGORIES:ashtanga joga,praktyka
END:VEVENT
BEGIN:VEVENT
DTSTART;TZID=Europe/Warsaw:20241029T194500
DTEND;TZID=Europe/Warsaw:20241029T210000
DTSTAMP:20260423T064706
CREATED:20240813T095625Z
LAST-MODIFIED:20250120T174817Z
UID:10000381-1730231100-1730235600@ashtangaanyways.com
SUMMARY:Pierwsza Seria Prowadzona
DESCRIPTION:Zajęcia odbywają się w każdy wtorek od 19:45 do 21:00 w Ashtanga Yoga Wrocław (ul. Trzebnicka 12/1\, 50-246 Wrocław). \n\n\n\n>> WIĘCEJ SZCZEGÓŁÓW <<
URL:https://ashtangaanyways.com/grafik/pierwsza-seria-prowadzona/2024-10-29/
LOCATION:Dolnośląskie
CATEGORIES:ashtanga joga,mysore,praktyka
END:VEVENT
BEGIN:VEVENT
DTSTART;TZID=Europe/Warsaw:20241030T070000
DTEND;TZID=Europe/Warsaw:20241030T090000
DTSTAMP:20260423T064706
CREATED:20241007T103400Z
LAST-MODIFIED:20251228T104600Z
UID:10001860-1730271600-1730278800@ashtangaanyways.com
SUMMARY:Ashtanga All – MYSORE
DESCRIPTION:Zajęcia odbywają się w każdy wtorek o 7:00-9:00 w Ashtanga Yoga Wrocław (ul. Trzebnicka 12/1\, 50-246 Wrocław). \n\n\n\n>> WIĘCEJ SZCZEGÓŁÓW <<
URL:https://ashtangaanyways.com/grafik/ashtanga-all-mysore-3/2024-10-30/
LOCATION:Dolnośląskie
CATEGORIES:nidra joga,praktyka
END:VEVENT
BEGIN:VEVENT
DTSTART;TZID=Europe/Warsaw:20241030T170000
DTEND;TZID=Europe/Warsaw:20241030T183000
DTSTAMP:20260423T064706
CREATED:20240813T095806Z
LAST-MODIFIED:20240908T181845Z
UID:10000363-1730307600-1730313000@ashtangaanyways.com
SUMMARY:Mysore
DESCRIPTION:Zajęcia odbywają się w każdą środę od 17:00 do 18:30 w Ashtanga Yoga Wrocław (ul. Trzebnicka 12/1\, 50-246 Wrocław). \n\n\n\n>> WIĘCEJ SZCZEGÓŁÓW <<
URL:https://ashtangaanyways.com/grafik/mysore-2/2024-10-30/
LOCATION:Dolnośląskie
CATEGORIES:ashtanga joga,mysore,praktyka
END:VEVENT
BEGIN:VEVENT
DTSTART;TZID=Europe/Warsaw:20241030T183000
DTEND;TZID=Europe/Warsaw:20241030T193000
DTSTAMP:20260423T064706
CREATED:20240813T100101Z
LAST-MODIFIED:20250120T175216Z
UID:10000345-1730313000-1730316600@ashtangaanyways.com
SUMMARY:Ashtanga joga dla początkujących
DESCRIPTION:Zajęcia odbywają się w każdą środę od 18:30 do 19:30 w Ashtanga Yoga Wrocław (ul. Trzebnicka 12/1\, 50-246 Wrocław). \n\n\n\n>> WIĘCEJ SZCZEGÓŁÓW <<
URL:https://ashtangaanyways.com/grafik/ashtanga-joga-dla-poczatkujacych-2/2024-10-30/
LOCATION:Dolnośląskie
CATEGORIES:ashtanga joga,praktyka
END:VEVENT
BEGIN:VEVENT
DTSTART;TZID=Europe/Warsaw:20241030T194500
DTEND;TZID=Europe/Warsaw:20241030T204500
DTSTAMP:20260423T064706
CREATED:20240813T100513Z
LAST-MODIFIED:20250608T073501Z
UID:10000327-1730317500-1730321100@ashtangaanyways.com
SUMMARY:Pół Pierwszej Serii Prowadzonej
DESCRIPTION:Zajęcia odbywają się w każdą środę od 19:45 do 20:45 w Ashtanga Yoga Wrocław (ul. Trzebnicka 12/1\, 50-246 Wrocław). \n\n\n\n>> WIĘCEJ SZCZEGÓŁÓW <<
URL:https://ashtangaanyways.com/grafik/yin-joga/2024-10-30/
LOCATION:Dolnośląskie
CATEGORIES:ashtanga joga,praktyka
END:VEVENT
BEGIN:VEVENT
DTSTART;TZID=Europe/Warsaw:20241031T063000
DTEND;TZID=Europe/Warsaw:20241031T090000
DTSTAMP:20260423T064706
CREATED:20241130T180630Z
LAST-MODIFIED:20241130T180633Z
UID:10000502-1730356200-1730365200@ashtangaanyways.com
SUMMARY:Ashtanga 0 (prowadzona)
DESCRIPTION:Zajęcia odbywają się w każdy wtorek o 6:30-7:45 w Fabryce Energii (ul. Plac Wolności 7 (I piętro)\,  50-071 Wrocław). \n\n\n\n>> WIĘCEJ SZCZEGÓŁÓW <<
URL:https://ashtangaanyways.com/grafik/mysore-5/2024-10-31/
LOCATION:Dolnośląskie
CATEGORIES:ashtanga joga,praktyka
END:VEVENT
BEGIN:VEVENT
DTSTART;TZID=Europe/Warsaw:20241031T170000
DTEND;TZID=Europe/Warsaw:20241031T183000
DTSTAMP:20260423T064706
CREATED:20240813T100816Z
LAST-MODIFIED:20250120T175955Z
UID:10000309-1730394000-1730399400@ashtangaanyways.com
SUMMARY:Mysore
DESCRIPTION:Zajęcia odbywają się w każdy czwartek o 17:00-18:30 w Ashtanga Yoga Wrocław (ul. Trzebnicka 12/1\, 50-246 Wrocław). \n\n\n\n>> WIĘCEJ SZCZEGÓŁÓW <<
URL:https://ashtangaanyways.com/grafik/mysore-3/2024-10-31/
LOCATION:Dolnośląskie
CATEGORIES:ashtanga joga,mysore,praktyka
END:VEVENT
BEGIN:VEVENT
DTSTART;TZID=Europe/Warsaw:20241031T183000
DTEND;TZID=Europe/Warsaw:20241031T194500
DTSTAMP:20260423T064706
CREATED:20240813T101125Z
LAST-MODIFIED:20241130T184235Z
UID:10000239-1730399400-1730403900@ashtangaanyways.com
SUMMARY:Pół Pierwszej Serii Prowadzonej
DESCRIPTION:Zajęcia odbywają się w każdy czwartek od 18:30 do 19:45 w Ashtanga Yoga Wrocław (ul. Trzebnicka 12/1\, 50-246 Wrocław). \n\n\n\n>> WIĘCEJ SZCZEGÓŁÓW <<
URL:https://ashtangaanyways.com/grafik/ashtanga-wstep-do-drugiej-serii/2024-10-31/
LOCATION:Dolnośląskie
CATEGORIES:ashtanga joga,praktyka
END:VEVENT
BEGIN:VEVENT
DTSTART;TZID=Europe/Warsaw:20241031T194500
DTEND;TZID=Europe/Warsaw:20241031T210000
DTSTAMP:20260423T064706
CREATED:20240813T101254Z
LAST-MODIFIED:20241130T184448Z
UID:10000169-1730403900-1730408400@ashtangaanyways.com
SUMMARY:Yin Joga
DESCRIPTION:Zajęcia odbywają się w każdy czwartek od 19:45 do 21:00 w Ashtanga Yoga Wrocław (ul. Trzebnicka 12/1\, 50-246 Wrocław). \n\n\n\n>> WIĘCEJ SZCZEGÓŁÓW <<
URL:https://ashtangaanyways.com/grafik/pol-pierwszej-serii-prowadzonej/2024-10-31/
LOCATION:Ashtanga Yoga Wrocław\, Trzebnicka 12/1\, Wrocław\, Dolnośląskie\, Poland
CATEGORIES:ashtanga joga,praktyka
END:VEVENT
BEGIN:VEVENT
DTSTART;TZID=Europe/Warsaw:20241101T173000
DTEND;TZID=Europe/Warsaw:20241101T190000
DTSTAMP:20260423T064706
CREATED:20240813T101648Z
LAST-MODIFIED:20240908T182307Z
UID:10000029-1730482200-1730487600@ashtangaanyways.com
SUMMARY:Pierwsza Seria Prowadzona
DESCRIPTION:Zajęcia odbywają się w każdy piątek od 17:30 do 19:00 w Ashtanga Yoga Wrocław (ul. Trzebnicka 12/1\, 50-246 Wrocław). \n\n\n\n >> WIĘCEJ SZCZEGÓŁÓW <<
URL:https://ashtangaanyways.com/grafik/pierwsza-seria-prowadzona-2/2024-11-01/
LOCATION:Ashtanga Yoga Wrocław\, Trzebnicka 12/1\, Wrocław\, Dolnośląskie\, Poland
CATEGORIES:ashtanga joga,praktyka
END:VEVENT
BEGIN:VEVENT
DTSTART;TZID=Europe/Warsaw:20241105T063000
DTEND;TZID=Europe/Warsaw:20241105T090000
DTSTAMP:20260423T064706
CREATED:20241130T180630Z
LAST-MODIFIED:20241130T180633Z
UID:10000503-1730788200-1730797200@ashtangaanyways.com
SUMMARY:Ashtanga 0 (prowadzona)
DESCRIPTION:Zajęcia odbywają się w każdy wtorek o 6:30-7:45 w Fabryce Energii (ul. Plac Wolności 7 (I piętro)\,  50-071 Wrocław). \n\n\n\n>> WIĘCEJ SZCZEGÓŁÓW <<
URL:https://ashtangaanyways.com/grafik/mysore-5/2024-11-05/
LOCATION:Dolnośląskie
CATEGORIES:ashtanga joga,praktyka
END:VEVENT
BEGIN:VEVENT
DTSTART;TZID=Europe/Warsaw:20241105T170000
DTEND;TZID=Europe/Warsaw:20241105T183000
DTSTAMP:20260423T064706
CREATED:20240813T095331Z
LAST-MODIFIED:20250120T174433Z
UID:10000420-1730826000-1730831400@ashtangaanyways.com
SUMMARY:Mysore
DESCRIPTION:Zajęcia odbywają się w każdy wtorek o 17:00-18:30 w Ashtanga Yoga Wrocław (ul. Trzebnicka 12/1\, 50-246 Wrocław). \n\n\n\n>> WIĘCEJ SZCZEGÓŁÓW <<
URL:https://ashtangaanyways.com/grafik/mysore/2024-11-05/
LOCATION:Dolnośląskie
CATEGORIES:ashtanga joga,mysore,praktyka
END:VEVENT
BEGIN:VEVENT
DTSTART;TZID=Europe/Warsaw:20241105T183000
DTEND;TZID=Europe/Warsaw:20241105T193000
DTSTAMP:20260423T064706
CREATED:20240813T095954Z
LAST-MODIFIED:20251215T193627Z
UID:10000401-1730831400-1730835000@ashtangaanyways.com
SUMMARY:Ashtanga joga dla początkujących
DESCRIPTION:Zajęcia odbywają się w każdy wtorek od 18:30 do 19:30 w Ashtanga Yoga Wrocław (ul. Trzebnicka 12/1\, 50-246 Wrocław). \n\n\n\n>> WIĘCEJ SZCZEGÓŁÓW <<
URL:https://ashtangaanyways.com/grafik/ashtanga-joga-dla-poczatkujacych/2024-11-05/
LOCATION:Dolnośląskie
CATEGORIES:ashtanga joga,praktyka
END:VEVENT
BEGIN:VEVENT
DTSTART;TZID=Europe/Warsaw:20241105T194500
DTEND;TZID=Europe/Warsaw:20241105T210000
DTSTAMP:20260423T064706
CREATED:20240813T095625Z
LAST-MODIFIED:20250120T174817Z
UID:10000382-1730835900-1730840400@ashtangaanyways.com
SUMMARY:Pierwsza Seria Prowadzona
DESCRIPTION:Zajęcia odbywają się w każdy wtorek od 19:45 do 21:00 w Ashtanga Yoga Wrocław (ul. Trzebnicka 12/1\, 50-246 Wrocław). \n\n\n\n>> WIĘCEJ SZCZEGÓŁÓW <<
URL:https://ashtangaanyways.com/grafik/pierwsza-seria-prowadzona/2024-11-05/
LOCATION:Dolnośląskie
CATEGORIES:ashtanga joga,mysore,praktyka
END:VEVENT
BEGIN:VEVENT
DTSTART;TZID=Europe/Warsaw:20241106T070000
DTEND;TZID=Europe/Warsaw:20241106T090000
DTSTAMP:20260423T064706
CREATED:20241007T103400Z
LAST-MODIFIED:20251228T104600Z
UID:10001861-1730876400-1730883600@ashtangaanyways.com
SUMMARY:Ashtanga All – MYSORE
DESCRIPTION:Zajęcia odbywają się w każdy wtorek o 7:00-9:00 w Ashtanga Yoga Wrocław (ul. Trzebnicka 12/1\, 50-246 Wrocław). \n\n\n\n>> WIĘCEJ SZCZEGÓŁÓW <<
URL:https://ashtangaanyways.com/grafik/ashtanga-all-mysore-3/2024-11-06/
LOCATION:Dolnośląskie
CATEGORIES:nidra joga,praktyka
END:VEVENT
BEGIN:VEVENT
DTSTART;TZID=Europe/Warsaw:20241106T183000
DTEND;TZID=Europe/Warsaw:20241106T193000
DTSTAMP:20260423T064706
CREATED:20240813T100101Z
LAST-MODIFIED:20250120T175216Z
UID:10000346-1730917800-1730921400@ashtangaanyways.com
SUMMARY:Ashtanga joga dla początkujących
DESCRIPTION:Zajęcia odbywają się w każdą środę od 18:30 do 19:30 w Ashtanga Yoga Wrocław (ul. Trzebnicka 12/1\, 50-246 Wrocław). \n\n\n\n>> WIĘCEJ SZCZEGÓŁÓW <<
URL:https://ashtangaanyways.com/grafik/ashtanga-joga-dla-poczatkujacych-2/2024-11-06/
LOCATION:Dolnośląskie
CATEGORIES:ashtanga joga,praktyka
END:VEVENT
BEGIN:VEVENT
DTSTART;TZID=Europe/Warsaw:20241106T194500
DTEND;TZID=Europe/Warsaw:20241106T204500
DTSTAMP:20260423T064706
CREATED:20240813T100513Z
LAST-MODIFIED:20250608T073501Z
UID:10000328-1730922300-1730925900@ashtangaanyways.com
SUMMARY:Pół Pierwszej Serii Prowadzonej
DESCRIPTION:Zajęcia odbywają się w każdą środę od 19:45 do 20:45 w Ashtanga Yoga Wrocław (ul. Trzebnicka 12/1\, 50-246 Wrocław). \n\n\n\n>> WIĘCEJ SZCZEGÓŁÓW <<
URL:https://ashtangaanyways.com/grafik/yin-joga/2024-11-06/
LOCATION:Dolnośląskie
CATEGORIES:ashtanga joga,praktyka
END:VEVENT
BEGIN:VEVENT
DTSTART;TZID=Europe/Warsaw:20241107T063000
DTEND;TZID=Europe/Warsaw:20241107T090000
DTSTAMP:20260423T064706
CREATED:20241130T180630Z
LAST-MODIFIED:20241130T180633Z
UID:10000504-1730961000-1730970000@ashtangaanyways.com
SUMMARY:Ashtanga 0 (prowadzona)
DESCRIPTION:Zajęcia odbywają się w każdy wtorek o 6:30-7:45 w Fabryce Energii (ul. Plac Wolności 7 (I piętro)\,  50-071 Wrocław). \n\n\n\n>> WIĘCEJ SZCZEGÓŁÓW <<
URL:https://ashtangaanyways.com/grafik/mysore-5/2024-11-07/
LOCATION:Dolnośląskie
CATEGORIES:ashtanga joga,praktyka
END:VEVENT
BEGIN:VEVENT
DTSTART;TZID=Europe/Warsaw:20241107T170000
DTEND;TZID=Europe/Warsaw:20241107T183000
DTSTAMP:20260423T064706
CREATED:20241130T184718Z
LAST-MODIFIED:20241130T184721Z
UID:10000364-1730998800-1731004200@ashtangaanyways.com
SUMMARY:Mysore
DESCRIPTION:Zajęcia odbywają się w każdą środę od 17:00 do 18:30 w Ashtanga Yoga Wrocław (ul. Trzebnicka 12/1\, 50-246 Wrocław). \n\n\n\n>> WIĘCEJ SZCZEGÓŁÓW <<
URL:https://ashtangaanyways.com/grafik/mysore-7/2024-11-07/
LOCATION:Dolnośląskie
CATEGORIES:ashtanga joga,mysore,praktyka
END:VEVENT
END:VCALENDAR