BEGIN:VCALENDAR
VERSION:2.0
PRODID:-//Ashtanga Anyways - ECPv6.15.18//NONSGML v1.0//EN
CALSCALE:GREGORIAN
METHOD:PUBLISH
X-ORIGINAL-URL:https://ashtangaanyways.com
X-WR-CALDESC:Wydarzenia dla Ashtanga Anyways
REFRESH-INTERVAL;VALUE=DURATION:PT1H
X-Robots-Tag:noindex
X-PUBLISHED-TTL:PT1H
BEGIN:VTIMEZONE
TZID:Europe/Warsaw
BEGIN:DAYLIGHT
TZOFFSETFROM:+0100
TZOFFSETTO:+0200
TZNAME:CEST
DTSTART:20260329T010000
END:DAYLIGHT
BEGIN:STANDARD
TZOFFSETFROM:+0200
TZOFFSETTO:+0100
TZNAME:CET
DTSTART:20261025T010000
END:STANDARD
BEGIN:DAYLIGHT
TZOFFSETFROM:+0100
TZOFFSETTO:+0200
TZNAME:CEST
DTSTART:20270328T010000
END:DAYLIGHT
BEGIN:STANDARD
TZOFFSETFROM:+0200
TZOFFSETTO:+0100
TZNAME:CET
DTSTART:20271031T010000
END:STANDARD
BEGIN:DAYLIGHT
TZOFFSETFROM:+0100
TZOFFSETTO:+0200
TZNAME:CEST
DTSTART:20280326T010000
END:DAYLIGHT
BEGIN:STANDARD
TZOFFSETFROM:+0200
TZOFFSETTO:+0100
TZNAME:CET
DTSTART:20281029T010000
END:STANDARD
END:VTIMEZONE
BEGIN:VEVENT
DTSTART;TZID=Europe/Warsaw:20270324T173000
DTEND;TZID=Europe/Warsaw:20270324T190000
DTSTAMP:20260421T220359
CREATED:20260110T204055Z
LAST-MODIFIED:20260110T204056Z
UID:10003608-1805909400-1805914800@ashtangaanyways.com
SUMMARY:Pierwsza seria prowadzona
DESCRIPTION:Zajęcia odbywają się w każdą środę od 17:30 do 19:00 w Ashtanga Yoga Wrocław (ul. Trzebnicka 12/1\, 50-246 Wrocław).
URL:https://ashtangaanyways.com/grafik/pierwsza-seria-prowadzona-5/2027-03-24/
END:VEVENT
BEGIN:VEVENT
DTSTART;TZID=Europe/Warsaw:20270331T173000
DTEND;TZID=Europe/Warsaw:20270331T190000
DTSTAMP:20260421T220359
CREATED:20260110T204055Z
LAST-MODIFIED:20260110T204056Z
UID:10003609-1806514200-1806519600@ashtangaanyways.com
SUMMARY:Pierwsza seria prowadzona
DESCRIPTION:Zajęcia odbywają się w każdą środę od 17:30 do 19:00 w Ashtanga Yoga Wrocław (ul. Trzebnicka 12/1\, 50-246 Wrocław).
URL:https://ashtangaanyways.com/grafik/pierwsza-seria-prowadzona-5/2027-03-31/
END:VEVENT
BEGIN:VEVENT
DTSTART;TZID=Europe/Warsaw:20270407T173000
DTEND;TZID=Europe/Warsaw:20270407T190000
DTSTAMP:20260421T220359
CREATED:20260110T204055Z
LAST-MODIFIED:20260110T204056Z
UID:10003610-1807119000-1807124400@ashtangaanyways.com
SUMMARY:Pierwsza seria prowadzona
DESCRIPTION:Zajęcia odbywają się w każdą środę od 17:30 do 19:00 w Ashtanga Yoga Wrocław (ul. Trzebnicka 12/1\, 50-246 Wrocław).
URL:https://ashtangaanyways.com/grafik/pierwsza-seria-prowadzona-5/2027-04-07/
END:VEVENT
BEGIN:VEVENT
DTSTART;TZID=Europe/Warsaw:20270414T173000
DTEND;TZID=Europe/Warsaw:20270414T190000
DTSTAMP:20260421T220359
CREATED:20260110T204055Z
LAST-MODIFIED:20260110T204056Z
UID:10003611-1807723800-1807729200@ashtangaanyways.com
SUMMARY:Pierwsza seria prowadzona
DESCRIPTION:Zajęcia odbywają się w każdą środę od 17:30 do 19:00 w Ashtanga Yoga Wrocław (ul. Trzebnicka 12/1\, 50-246 Wrocław).
URL:https://ashtangaanyways.com/grafik/pierwsza-seria-prowadzona-5/2027-04-14/
END:VEVENT
BEGIN:VEVENT
DTSTART;TZID=Europe/Warsaw:20270421T173000
DTEND;TZID=Europe/Warsaw:20270421T190000
DTSTAMP:20260421T220359
CREATED:20260110T204055Z
LAST-MODIFIED:20260110T204056Z
UID:10003612-1808328600-1808334000@ashtangaanyways.com
SUMMARY:Pierwsza seria prowadzona
DESCRIPTION:Zajęcia odbywają się w każdą środę od 17:30 do 19:00 w Ashtanga Yoga Wrocław (ul. Trzebnicka 12/1\, 50-246 Wrocław).
URL:https://ashtangaanyways.com/grafik/pierwsza-seria-prowadzona-5/2027-04-21/
END:VEVENT
BEGIN:VEVENT
DTSTART;TZID=Europe/Warsaw:20270428T173000
DTEND;TZID=Europe/Warsaw:20270428T190000
DTSTAMP:20260421T220359
CREATED:20260110T204055Z
LAST-MODIFIED:20260110T204056Z
UID:10003613-1808933400-1808938800@ashtangaanyways.com
SUMMARY:Pierwsza seria prowadzona
DESCRIPTION:Zajęcia odbywają się w każdą środę od 17:30 do 19:00 w Ashtanga Yoga Wrocław (ul. Trzebnicka 12/1\, 50-246 Wrocław).
URL:https://ashtangaanyways.com/grafik/pierwsza-seria-prowadzona-5/2027-04-28/
END:VEVENT
BEGIN:VEVENT
DTSTART;TZID=Europe/Warsaw:20270505T173000
DTEND;TZID=Europe/Warsaw:20270505T190000
DTSTAMP:20260421T220359
CREATED:20260110T204055Z
LAST-MODIFIED:20260110T204056Z
UID:10003614-1809538200-1809543600@ashtangaanyways.com
SUMMARY:Pierwsza seria prowadzona
DESCRIPTION:Zajęcia odbywają się w każdą środę od 17:30 do 19:00 w Ashtanga Yoga Wrocław (ul. Trzebnicka 12/1\, 50-246 Wrocław).
URL:https://ashtangaanyways.com/grafik/pierwsza-seria-prowadzona-5/2027-05-05/
END:VEVENT
BEGIN:VEVENT
DTSTART;TZID=Europe/Warsaw:20270512T173000
DTEND;TZID=Europe/Warsaw:20270512T190000
DTSTAMP:20260421T220359
CREATED:20260110T204055Z
LAST-MODIFIED:20260110T204056Z
UID:10003615-1810143000-1810148400@ashtangaanyways.com
SUMMARY:Pierwsza seria prowadzona
DESCRIPTION:Zajęcia odbywają się w każdą środę od 17:30 do 19:00 w Ashtanga Yoga Wrocław (ul. Trzebnicka 12/1\, 50-246 Wrocław).
URL:https://ashtangaanyways.com/grafik/pierwsza-seria-prowadzona-5/2027-05-12/
END:VEVENT
BEGIN:VEVENT
DTSTART;TZID=Europe/Warsaw:20270519T173000
DTEND;TZID=Europe/Warsaw:20270519T190000
DTSTAMP:20260421T220359
CREATED:20260110T204055Z
LAST-MODIFIED:20260110T204056Z
UID:10003616-1810747800-1810753200@ashtangaanyways.com
SUMMARY:Pierwsza seria prowadzona
DESCRIPTION:Zajęcia odbywają się w każdą środę od 17:30 do 19:00 w Ashtanga Yoga Wrocław (ul. Trzebnicka 12/1\, 50-246 Wrocław).
URL:https://ashtangaanyways.com/grafik/pierwsza-seria-prowadzona-5/2027-05-19/
END:VEVENT
BEGIN:VEVENT
DTSTART;TZID=Europe/Warsaw:20270526T173000
DTEND;TZID=Europe/Warsaw:20270526T190000
DTSTAMP:20260421T220359
CREATED:20260110T204055Z
LAST-MODIFIED:20260110T204056Z
UID:10003617-1811352600-1811358000@ashtangaanyways.com
SUMMARY:Pierwsza seria prowadzona
DESCRIPTION:Zajęcia odbywają się w każdą środę od 17:30 do 19:00 w Ashtanga Yoga Wrocław (ul. Trzebnicka 12/1\, 50-246 Wrocław).
URL:https://ashtangaanyways.com/grafik/pierwsza-seria-prowadzona-5/2027-05-26/
END:VEVENT
BEGIN:VEVENT
DTSTART;TZID=Europe/Warsaw:20270602T173000
DTEND;TZID=Europe/Warsaw:20270602T190000
DTSTAMP:20260421T220359
CREATED:20260110T204055Z
LAST-MODIFIED:20260110T204056Z
UID:10003618-1811957400-1811962800@ashtangaanyways.com
SUMMARY:Pierwsza seria prowadzona
DESCRIPTION:Zajęcia odbywają się w każdą środę od 17:30 do 19:00 w Ashtanga Yoga Wrocław (ul. Trzebnicka 12/1\, 50-246 Wrocław).
URL:https://ashtangaanyways.com/grafik/pierwsza-seria-prowadzona-5/2027-06-02/
END:VEVENT
BEGIN:VEVENT
DTSTART;TZID=Europe/Warsaw:20270609T173000
DTEND;TZID=Europe/Warsaw:20270609T190000
DTSTAMP:20260421T220359
CREATED:20260110T204055Z
LAST-MODIFIED:20260110T204056Z
UID:10003619-1812562200-1812567600@ashtangaanyways.com
SUMMARY:Pierwsza seria prowadzona
DESCRIPTION:Zajęcia odbywają się w każdą środę od 17:30 do 19:00 w Ashtanga Yoga Wrocław (ul. Trzebnicka 12/1\, 50-246 Wrocław).
URL:https://ashtangaanyways.com/grafik/pierwsza-seria-prowadzona-5/2027-06-09/
END:VEVENT
BEGIN:VEVENT
DTSTART;TZID=Europe/Warsaw:20270616T173000
DTEND;TZID=Europe/Warsaw:20270616T190000
DTSTAMP:20260421T220359
CREATED:20260110T204055Z
LAST-MODIFIED:20260110T204056Z
UID:10003620-1813167000-1813172400@ashtangaanyways.com
SUMMARY:Pierwsza seria prowadzona
DESCRIPTION:Zajęcia odbywają się w każdą środę od 17:30 do 19:00 w Ashtanga Yoga Wrocław (ul. Trzebnicka 12/1\, 50-246 Wrocław).
URL:https://ashtangaanyways.com/grafik/pierwsza-seria-prowadzona-5/2027-06-16/
END:VEVENT
BEGIN:VEVENT
DTSTART;TZID=Europe/Warsaw:20270623T173000
DTEND;TZID=Europe/Warsaw:20270623T190000
DTSTAMP:20260421T220359
CREATED:20260110T204055Z
LAST-MODIFIED:20260110T204056Z
UID:10003621-1813771800-1813777200@ashtangaanyways.com
SUMMARY:Pierwsza seria prowadzona
DESCRIPTION:Zajęcia odbywają się w każdą środę od 17:30 do 19:00 w Ashtanga Yoga Wrocław (ul. Trzebnicka 12/1\, 50-246 Wrocław).
URL:https://ashtangaanyways.com/grafik/pierwsza-seria-prowadzona-5/2027-06-23/
END:VEVENT
BEGIN:VEVENT
DTSTART;TZID=Europe/Warsaw:20270630T173000
DTEND;TZID=Europe/Warsaw:20270630T190000
DTSTAMP:20260421T220359
CREATED:20260110T204055Z
LAST-MODIFIED:20260110T204056Z
UID:10003622-1814376600-1814382000@ashtangaanyways.com
SUMMARY:Pierwsza seria prowadzona
DESCRIPTION:Zajęcia odbywają się w każdą środę od 17:30 do 19:00 w Ashtanga Yoga Wrocław (ul. Trzebnicka 12/1\, 50-246 Wrocław).
URL:https://ashtangaanyways.com/grafik/pierwsza-seria-prowadzona-5/2027-06-30/
END:VEVENT
BEGIN:VEVENT
DTSTART;TZID=Europe/Warsaw:20270707T173000
DTEND;TZID=Europe/Warsaw:20270707T190000
DTSTAMP:20260421T220359
CREATED:20260110T204055Z
LAST-MODIFIED:20260110T204056Z
UID:10003623-1814981400-1814986800@ashtangaanyways.com
SUMMARY:Pierwsza seria prowadzona
DESCRIPTION:Zajęcia odbywają się w każdą środę od 17:30 do 19:00 w Ashtanga Yoga Wrocław (ul. Trzebnicka 12/1\, 50-246 Wrocław).
URL:https://ashtangaanyways.com/grafik/pierwsza-seria-prowadzona-5/2027-07-07/
END:VEVENT
BEGIN:VEVENT
DTSTART;TZID=Europe/Warsaw:20270714T173000
DTEND;TZID=Europe/Warsaw:20270714T190000
DTSTAMP:20260421T220359
CREATED:20260110T204055Z
LAST-MODIFIED:20260110T204056Z
UID:10003624-1815586200-1815591600@ashtangaanyways.com
SUMMARY:Pierwsza seria prowadzona
DESCRIPTION:Zajęcia odbywają się w każdą środę od 17:30 do 19:00 w Ashtanga Yoga Wrocław (ul. Trzebnicka 12/1\, 50-246 Wrocław).
URL:https://ashtangaanyways.com/grafik/pierwsza-seria-prowadzona-5/2027-07-14/
END:VEVENT
BEGIN:VEVENT
DTSTART;TZID=Europe/Warsaw:20270721T173000
DTEND;TZID=Europe/Warsaw:20270721T190000
DTSTAMP:20260421T220359
CREATED:20260110T204055Z
LAST-MODIFIED:20260110T204056Z
UID:10003625-1816191000-1816196400@ashtangaanyways.com
SUMMARY:Pierwsza seria prowadzona
DESCRIPTION:Zajęcia odbywają się w każdą środę od 17:30 do 19:00 w Ashtanga Yoga Wrocław (ul. Trzebnicka 12/1\, 50-246 Wrocław).
URL:https://ashtangaanyways.com/grafik/pierwsza-seria-prowadzona-5/2027-07-21/
END:VEVENT
BEGIN:VEVENT
DTSTART;TZID=Europe/Warsaw:20270728T173000
DTEND;TZID=Europe/Warsaw:20270728T190000
DTSTAMP:20260421T220359
CREATED:20260110T204055Z
LAST-MODIFIED:20260110T204056Z
UID:10003626-1816795800-1816801200@ashtangaanyways.com
SUMMARY:Pierwsza seria prowadzona
DESCRIPTION:Zajęcia odbywają się w każdą środę od 17:30 do 19:00 w Ashtanga Yoga Wrocław (ul. Trzebnicka 12/1\, 50-246 Wrocław).
URL:https://ashtangaanyways.com/grafik/pierwsza-seria-prowadzona-5/2027-07-28/
END:VEVENT
BEGIN:VEVENT
DTSTART;TZID=Europe/Warsaw:20270804T173000
DTEND;TZID=Europe/Warsaw:20270804T190000
DTSTAMP:20260421T220359
CREATED:20260110T204055Z
LAST-MODIFIED:20260110T204056Z
UID:10003627-1817400600-1817406000@ashtangaanyways.com
SUMMARY:Pierwsza seria prowadzona
DESCRIPTION:Zajęcia odbywają się w każdą środę od 17:30 do 19:00 w Ashtanga Yoga Wrocław (ul. Trzebnicka 12/1\, 50-246 Wrocław).
URL:https://ashtangaanyways.com/grafik/pierwsza-seria-prowadzona-5/2027-08-04/
END:VEVENT
BEGIN:VEVENT
DTSTART;TZID=Europe/Warsaw:20270811T173000
DTEND;TZID=Europe/Warsaw:20270811T190000
DTSTAMP:20260421T220359
CREATED:20260110T204055Z
LAST-MODIFIED:20260110T204056Z
UID:10003628-1818005400-1818010800@ashtangaanyways.com
SUMMARY:Pierwsza seria prowadzona
DESCRIPTION:Zajęcia odbywają się w każdą środę od 17:30 do 19:00 w Ashtanga Yoga Wrocław (ul. Trzebnicka 12/1\, 50-246 Wrocław).
URL:https://ashtangaanyways.com/grafik/pierwsza-seria-prowadzona-5/2027-08-11/
END:VEVENT
BEGIN:VEVENT
DTSTART;TZID=Europe/Warsaw:20270818T173000
DTEND;TZID=Europe/Warsaw:20270818T190000
DTSTAMP:20260421T220359
CREATED:20260110T204055Z
LAST-MODIFIED:20260110T204056Z
UID:10003629-1818610200-1818615600@ashtangaanyways.com
SUMMARY:Pierwsza seria prowadzona
DESCRIPTION:Zajęcia odbywają się w każdą środę od 17:30 do 19:00 w Ashtanga Yoga Wrocław (ul. Trzebnicka 12/1\, 50-246 Wrocław).
URL:https://ashtangaanyways.com/grafik/pierwsza-seria-prowadzona-5/2027-08-18/
END:VEVENT
BEGIN:VEVENT
DTSTART;TZID=Europe/Warsaw:20270825T173000
DTEND;TZID=Europe/Warsaw:20270825T190000
DTSTAMP:20260421T220359
CREATED:20260110T204055Z
LAST-MODIFIED:20260110T204056Z
UID:10003630-1819215000-1819220400@ashtangaanyways.com
SUMMARY:Pierwsza seria prowadzona
DESCRIPTION:Zajęcia odbywają się w każdą środę od 17:30 do 19:00 w Ashtanga Yoga Wrocław (ul. Trzebnicka 12/1\, 50-246 Wrocław).
URL:https://ashtangaanyways.com/grafik/pierwsza-seria-prowadzona-5/2027-08-25/
END:VEVENT
BEGIN:VEVENT
DTSTART;TZID=Europe/Warsaw:20270901T173000
DTEND;TZID=Europe/Warsaw:20270901T190000
DTSTAMP:20260421T220359
CREATED:20260110T204055Z
LAST-MODIFIED:20260110T204056Z
UID:10003631-1819819800-1819825200@ashtangaanyways.com
SUMMARY:Pierwsza seria prowadzona
DESCRIPTION:Zajęcia odbywają się w każdą środę od 17:30 do 19:00 w Ashtanga Yoga Wrocław (ul. Trzebnicka 12/1\, 50-246 Wrocław).
URL:https://ashtangaanyways.com/grafik/pierwsza-seria-prowadzona-5/2027-09-01/
END:VEVENT
BEGIN:VEVENT
DTSTART;TZID=Europe/Warsaw:20270908T173000
DTEND;TZID=Europe/Warsaw:20270908T190000
DTSTAMP:20260421T220359
CREATED:20260110T204055Z
LAST-MODIFIED:20260110T204056Z
UID:10003632-1820424600-1820430000@ashtangaanyways.com
SUMMARY:Pierwsza seria prowadzona
DESCRIPTION:Zajęcia odbywają się w każdą środę od 17:30 do 19:00 w Ashtanga Yoga Wrocław (ul. Trzebnicka 12/1\, 50-246 Wrocław).
URL:https://ashtangaanyways.com/grafik/pierwsza-seria-prowadzona-5/2027-09-08/
END:VEVENT
BEGIN:VEVENT
DTSTART;TZID=Europe/Warsaw:20270915T173000
DTEND;TZID=Europe/Warsaw:20270915T190000
DTSTAMP:20260421T220359
CREATED:20260110T204055Z
LAST-MODIFIED:20260110T204056Z
UID:10003633-1821029400-1821034800@ashtangaanyways.com
SUMMARY:Pierwsza seria prowadzona
DESCRIPTION:Zajęcia odbywają się w każdą środę od 17:30 do 19:00 w Ashtanga Yoga Wrocław (ul. Trzebnicka 12/1\, 50-246 Wrocław).
URL:https://ashtangaanyways.com/grafik/pierwsza-seria-prowadzona-5/2027-09-15/
END:VEVENT
BEGIN:VEVENT
DTSTART;TZID=Europe/Warsaw:20270922T173000
DTEND;TZID=Europe/Warsaw:20270922T190000
DTSTAMP:20260421T220359
CREATED:20260110T204055Z
LAST-MODIFIED:20260110T204056Z
UID:10003634-1821634200-1821639600@ashtangaanyways.com
SUMMARY:Pierwsza seria prowadzona
DESCRIPTION:Zajęcia odbywają się w każdą środę od 17:30 do 19:00 w Ashtanga Yoga Wrocław (ul. Trzebnicka 12/1\, 50-246 Wrocław).
URL:https://ashtangaanyways.com/grafik/pierwsza-seria-prowadzona-5/2027-09-22/
END:VEVENT
BEGIN:VEVENT
DTSTART;TZID=Europe/Warsaw:20270929T173000
DTEND;TZID=Europe/Warsaw:20270929T190000
DTSTAMP:20260421T220359
CREATED:20260110T204055Z
LAST-MODIFIED:20260110T204056Z
UID:10003635-1822239000-1822244400@ashtangaanyways.com
SUMMARY:Pierwsza seria prowadzona
DESCRIPTION:Zajęcia odbywają się w każdą środę od 17:30 do 19:00 w Ashtanga Yoga Wrocław (ul. Trzebnicka 12/1\, 50-246 Wrocław).
URL:https://ashtangaanyways.com/grafik/pierwsza-seria-prowadzona-5/2027-09-29/
END:VEVENT
BEGIN:VEVENT
DTSTART;TZID=Europe/Warsaw:20271006T173000
DTEND;TZID=Europe/Warsaw:20271006T190000
DTSTAMP:20260421T220359
CREATED:20260110T204055Z
LAST-MODIFIED:20260110T204056Z
UID:10003636-1822843800-1822849200@ashtangaanyways.com
SUMMARY:Pierwsza seria prowadzona
DESCRIPTION:Zajęcia odbywają się w każdą środę od 17:30 do 19:00 w Ashtanga Yoga Wrocław (ul. Trzebnicka 12/1\, 50-246 Wrocław).
URL:https://ashtangaanyways.com/grafik/pierwsza-seria-prowadzona-5/2027-10-06/
END:VEVENT
BEGIN:VEVENT
DTSTART;TZID=Europe/Warsaw:20271013T173000
DTEND;TZID=Europe/Warsaw:20271013T190000
DTSTAMP:20260421T220359
CREATED:20260110T204055Z
LAST-MODIFIED:20260110T204056Z
UID:10003637-1823448600-1823454000@ashtangaanyways.com
SUMMARY:Pierwsza seria prowadzona
DESCRIPTION:Zajęcia odbywają się w każdą środę od 17:30 do 19:00 w Ashtanga Yoga Wrocław (ul. Trzebnicka 12/1\, 50-246 Wrocław).
URL:https://ashtangaanyways.com/grafik/pierwsza-seria-prowadzona-5/2027-10-13/
END:VEVENT
END:VCALENDAR