BEGIN:VCALENDAR
VERSION:2.0
PRODID:-//Ashtanga Anyways - ECPv6.15.18//NONSGML v1.0//EN
CALSCALE:GREGORIAN
METHOD:PUBLISH
X-WR-CALNAME:Ashtanga Anyways
X-ORIGINAL-URL:https://ashtangaanyways.com
X-WR-CALDESC:Wydarzenia dla Ashtanga Anyways
REFRESH-INTERVAL;VALUE=DURATION:PT1H
X-Robots-Tag:noindex
X-PUBLISHED-TTL:PT1H
BEGIN:VTIMEZONE
TZID:Europe/Warsaw
BEGIN:DAYLIGHT
TZOFFSETFROM:+0100
TZOFFSETTO:+0200
TZNAME:CEST
DTSTART:20240331T010000
END:DAYLIGHT
BEGIN:STANDARD
TZOFFSETFROM:+0200
TZOFFSETTO:+0100
TZNAME:CET
DTSTART:20241027T010000
END:STANDARD
BEGIN:DAYLIGHT
TZOFFSETFROM:+0100
TZOFFSETTO:+0200
TZNAME:CEST
DTSTART:20250330T010000
END:DAYLIGHT
BEGIN:STANDARD
TZOFFSETFROM:+0200
TZOFFSETTO:+0100
TZNAME:CET
DTSTART:20251026T010000
END:STANDARD
BEGIN:DAYLIGHT
TZOFFSETFROM:+0100
TZOFFSETTO:+0200
TZNAME:CEST
DTSTART:20260329T010000
END:DAYLIGHT
BEGIN:STANDARD
TZOFFSETFROM:+0200
TZOFFSETTO:+0100
TZNAME:CET
DTSTART:20261025T010000
END:STANDARD
END:VTIMEZONE
BEGIN:VEVENT
DTSTART;TZID=Europe/Warsaw:20250206T194500
DTEND;TZID=Europe/Warsaw:20250206T210000
DTSTAMP:20260423T070447
CREATED:20240813T101254Z
LAST-MODIFIED:20241130T184448Z
UID:10000183-1738871100-1738875600@ashtangaanyways.com
SUMMARY:Yin Joga
DESCRIPTION:Zajęcia odbywają się w każdy czwartek od 19:45 do 21:00 w Ashtanga Yoga Wrocław (ul. Trzebnicka 12/1\, 50-246 Wrocław). \n\n\n\n>> WIĘCEJ SZCZEGÓŁÓW <<
URL:https://ashtangaanyways.com/grafik/pol-pierwszej-serii-prowadzonej/2025-02-06/
LOCATION:Ashtanga Yoga Wrocław\, Trzebnicka 12/1\, Wrocław\, Dolnośląskie\, Poland
CATEGORIES:ashtanga joga,praktyka
END:VEVENT
BEGIN:VEVENT
DTSTART;TZID=Europe/Warsaw:20250207T173000
DTEND;TZID=Europe/Warsaw:20250207T190000
DTSTAMP:20260423T070447
CREATED:20240813T101648Z
LAST-MODIFIED:20240908T182307Z
UID:10000043-1738949400-1738954800@ashtangaanyways.com
SUMMARY:Pierwsza Seria Prowadzona
DESCRIPTION:Zajęcia odbywają się w każdy piątek od 17:30 do 19:00 w Ashtanga Yoga Wrocław (ul. Trzebnicka 12/1\, 50-246 Wrocław). \n\n\n\n >> WIĘCEJ SZCZEGÓŁÓW <<
URL:https://ashtangaanyways.com/grafik/pierwsza-seria-prowadzona-2/2025-02-07/
LOCATION:Ashtanga Yoga Wrocław\, Trzebnicka 12/1\, Wrocław\, Dolnośląskie\, Poland
CATEGORIES:ashtanga joga,praktyka
END:VEVENT
BEGIN:VEVENT
DTSTART;TZID=Europe/Warsaw:20250209T180000
DTEND;TZID=Europe/Warsaw:20250209T190000
DTSTAMP:20260423T070447
CREATED:20241130T182811Z
LAST-MODIFIED:20241201T154644Z
UID:10001178-1739124000-1739127600@ashtangaanyways.com
SUMMARY:Joga regeneracyjna i techniki relaksacji
DESCRIPTION:Łagodna\, spokojna praktyka dostosowuje się do indywidualnych potrzeb i możliwości każdego uczestnika i jest idealna dla wszystkich poszukujących spowolnienia i relaksu\, niezależnie od poziomu zaawansowania\, kondycji fizycznej czy wieku. Podczas zajęć jogi regeneracyjnej będziemy poznawać wyciszające i równoważące techniki Pranayamy a także praktykować łagodną i medytacyjną Yin jogę\, kończąc praktyki asan długim relaksem z elementami jogi Nidry. \n\n\n\n>> WIĘCEJ SZCZEGÓŁÓW <<
URL:https://ashtangaanyways.com/grafik/joga-regeneracyjna-i-techniki-relaksacji/2025-02-09/
LOCATION:Dolnośląskie
CATEGORIES:joga regeneracyjna,nidra joga,yin joga
END:VEVENT
BEGIN:VEVENT
DTSTART;TZID=Europe/Warsaw:20250211T170000
DTEND;TZID=Europe/Warsaw:20250211T183000
DTSTAMP:20260423T070447
CREATED:20240813T095331Z
LAST-MODIFIED:20250120T174433Z
UID:10001707-1739293200-1739298600@ashtangaanyways.com
SUMMARY:Mysore
DESCRIPTION:Zajęcia odbywają się w każdy wtorek o 17:00-18:30 w Ashtanga Yoga Wrocław (ul. Trzebnicka 12/1\, 50-246 Wrocław). \n\n\n\n>> WIĘCEJ SZCZEGÓŁÓW <<
URL:https://ashtangaanyways.com/grafik/mysore/2025-02-11/
LOCATION:Dolnośląskie
CATEGORIES:ashtanga joga,mysore,praktyka
END:VEVENT
BEGIN:VEVENT
DTSTART;TZID=Europe/Warsaw:20250211T183000
DTEND;TZID=Europe/Warsaw:20250211T193000
DTSTAMP:20260423T070447
CREATED:20240813T095954Z
LAST-MODIFIED:20251215T193627Z
UID:10001758-1739298600-1739302200@ashtangaanyways.com
SUMMARY:Ashtanga joga dla początkujących
DESCRIPTION:Zajęcia odbywają się w każdy wtorek od 18:30 do 19:30 w Ashtanga Yoga Wrocław (ul. Trzebnicka 12/1\, 50-246 Wrocław). \n\n\n\n>> WIĘCEJ SZCZEGÓŁÓW <<
URL:https://ashtangaanyways.com/grafik/ashtanga-joga-dla-poczatkujacych/2025-02-11/
LOCATION:Dolnośląskie
CATEGORIES:ashtanga joga,praktyka
END:VEVENT
BEGIN:VEVENT
DTSTART;TZID=Europe/Warsaw:20250211T194500
DTEND;TZID=Europe/Warsaw:20250211T210000
DTSTAMP:20260423T070447
CREATED:20240813T095625Z
LAST-MODIFIED:20250120T174817Z
UID:10001809-1739303100-1739307600@ashtangaanyways.com
SUMMARY:Pierwsza Seria Prowadzona
DESCRIPTION:Zajęcia odbywają się w każdy wtorek od 19:45 do 21:00 w Ashtanga Yoga Wrocław (ul. Trzebnicka 12/1\, 50-246 Wrocław). \n\n\n\n>> WIĘCEJ SZCZEGÓŁÓW <<
URL:https://ashtangaanyways.com/grafik/pierwsza-seria-prowadzona/2025-02-11/
LOCATION:Dolnośląskie
CATEGORIES:ashtanga joga,mysore,praktyka
END:VEVENT
BEGIN:VEVENT
DTSTART;TZID=Europe/Warsaw:20250212T070000
DTEND;TZID=Europe/Warsaw:20250212T090000
DTSTAMP:20260423T070447
CREATED:20241007T103400Z
LAST-MODIFIED:20251228T104600Z
UID:10001875-1739343600-1739350800@ashtangaanyways.com
SUMMARY:Ashtanga All – MYSORE
DESCRIPTION:Zajęcia odbywają się w każdy wtorek o 7:00-9:00 w Ashtanga Yoga Wrocław (ul. Trzebnicka 12/1\, 50-246 Wrocław). \n\n\n\n>> WIĘCEJ SZCZEGÓŁÓW <<
URL:https://ashtangaanyways.com/grafik/ashtanga-all-mysore-3/2025-02-12/
LOCATION:Dolnośląskie
CATEGORIES:nidra joga,praktyka
END:VEVENT
BEGIN:VEVENT
DTSTART;TZID=Europe/Warsaw:20250212T183000
DTEND;TZID=Europe/Warsaw:20250212T193000
DTSTAMP:20260423T070447
CREATED:20240813T100101Z
LAST-MODIFIED:20250120T175216Z
UID:10001927-1739385000-1739388600@ashtangaanyways.com
SUMMARY:Ashtanga joga dla początkujących
DESCRIPTION:Zajęcia odbywają się w każdą środę od 18:30 do 19:30 w Ashtanga Yoga Wrocław (ul. Trzebnicka 12/1\, 50-246 Wrocław). \n\n\n\n>> WIĘCEJ SZCZEGÓŁÓW <<
URL:https://ashtangaanyways.com/grafik/ashtanga-joga-dla-poczatkujacych-2/2025-02-12/
LOCATION:Dolnośląskie
CATEGORIES:ashtanga joga,praktyka
END:VEVENT
BEGIN:VEVENT
DTSTART;TZID=Europe/Warsaw:20250212T194500
DTEND;TZID=Europe/Warsaw:20250212T204500
DTSTAMP:20260423T070447
CREATED:20240813T100513Z
LAST-MODIFIED:20250608T073501Z
UID:10001979-1739389500-1739393100@ashtangaanyways.com
SUMMARY:Pół Pierwszej Serii Prowadzonej
DESCRIPTION:Zajęcia odbywają się w każdą środę od 19:45 do 20:45 w Ashtanga Yoga Wrocław (ul. Trzebnicka 12/1\, 50-246 Wrocław). \n\n\n\n>> WIĘCEJ SZCZEGÓŁÓW <<
URL:https://ashtangaanyways.com/grafik/yin-joga/2025-02-12/
LOCATION:Dolnośląskie
CATEGORIES:ashtanga joga,praktyka
END:VEVENT
BEGIN:VEVENT
DTSTART;TZID=Europe/Warsaw:20250213T170000
DTEND;TZID=Europe/Warsaw:20250213T183000
DTSTAMP:20260423T070447
CREATED:20240813T100816Z
LAST-MODIFIED:20250120T175955Z
UID:10002030-1739466000-1739471400@ashtangaanyways.com
SUMMARY:Mysore
DESCRIPTION:Zajęcia odbywają się w każdy czwartek o 17:00-18:30 w Ashtanga Yoga Wrocław (ul. Trzebnicka 12/1\, 50-246 Wrocław). \n\n\n\n>> WIĘCEJ SZCZEGÓŁÓW <<
URL:https://ashtangaanyways.com/grafik/mysore-3/2025-02-13/
LOCATION:Dolnośląskie
CATEGORIES:ashtanga joga,mysore,praktyka
END:VEVENT
BEGIN:VEVENT
DTSTART;TZID=Europe/Warsaw:20250213T183000
DTEND;TZID=Europe/Warsaw:20250213T194500
DTSTAMP:20260423T070447
CREATED:20240813T101125Z
LAST-MODIFIED:20241130T184235Z
UID:10000254-1739471400-1739475900@ashtangaanyways.com
SUMMARY:Pół Pierwszej Serii Prowadzonej
DESCRIPTION:Zajęcia odbywają się w każdy czwartek od 18:30 do 19:45 w Ashtanga Yoga Wrocław (ul. Trzebnicka 12/1\, 50-246 Wrocław). \n\n\n\n>> WIĘCEJ SZCZEGÓŁÓW <<
URL:https://ashtangaanyways.com/grafik/ashtanga-wstep-do-drugiej-serii/2025-02-13/
LOCATION:Dolnośląskie
CATEGORIES:ashtanga joga,praktyka
END:VEVENT
BEGIN:VEVENT
DTSTART;TZID=Europe/Warsaw:20250213T194500
DTEND;TZID=Europe/Warsaw:20250213T210000
DTSTAMP:20260423T070447
CREATED:20240813T101254Z
LAST-MODIFIED:20241130T184448Z
UID:10000184-1739475900-1739480400@ashtangaanyways.com
SUMMARY:Yin Joga
DESCRIPTION:Zajęcia odbywają się w każdy czwartek od 19:45 do 21:00 w Ashtanga Yoga Wrocław (ul. Trzebnicka 12/1\, 50-246 Wrocław). \n\n\n\n>> WIĘCEJ SZCZEGÓŁÓW <<
URL:https://ashtangaanyways.com/grafik/pol-pierwszej-serii-prowadzonej/2025-02-13/
LOCATION:Ashtanga Yoga Wrocław\, Trzebnicka 12/1\, Wrocław\, Dolnośląskie\, Poland
CATEGORIES:ashtanga joga,praktyka
END:VEVENT
BEGIN:VEVENT
DTSTART;TZID=Europe/Warsaw:20250214T173000
DTEND;TZID=Europe/Warsaw:20250214T190000
DTSTAMP:20260423T070447
CREATED:20240813T101648Z
LAST-MODIFIED:20240908T182307Z
UID:10000044-1739554200-1739559600@ashtangaanyways.com
SUMMARY:Pierwsza Seria Prowadzona
DESCRIPTION:Zajęcia odbywają się w każdy piątek od 17:30 do 19:00 w Ashtanga Yoga Wrocław (ul. Trzebnicka 12/1\, 50-246 Wrocław). \n\n\n\n >> WIĘCEJ SZCZEGÓŁÓW <<
URL:https://ashtangaanyways.com/grafik/pierwsza-seria-prowadzona-2/2025-02-14/
LOCATION:Ashtanga Yoga Wrocław\, Trzebnicka 12/1\, Wrocław\, Dolnośląskie\, Poland
CATEGORIES:ashtanga joga,praktyka
END:VEVENT
BEGIN:VEVENT
DTSTART;TZID=Europe/Warsaw:20250216T180000
DTEND;TZID=Europe/Warsaw:20250216T190000
DTSTAMP:20260423T070447
CREATED:20241130T182811Z
LAST-MODIFIED:20241201T154644Z
UID:10001179-1739728800-1739732400@ashtangaanyways.com
SUMMARY:Joga regeneracyjna i techniki relaksacji
DESCRIPTION:Łagodna\, spokojna praktyka dostosowuje się do indywidualnych potrzeb i możliwości każdego uczestnika i jest idealna dla wszystkich poszukujących spowolnienia i relaksu\, niezależnie od poziomu zaawansowania\, kondycji fizycznej czy wieku. Podczas zajęć jogi regeneracyjnej będziemy poznawać wyciszające i równoważące techniki Pranayamy a także praktykować łagodną i medytacyjną Yin jogę\, kończąc praktyki asan długim relaksem z elementami jogi Nidry. \n\n\n\n>> WIĘCEJ SZCZEGÓŁÓW <<
URL:https://ashtangaanyways.com/grafik/joga-regeneracyjna-i-techniki-relaksacji/2025-02-16/
LOCATION:Dolnośląskie
CATEGORIES:joga regeneracyjna,nidra joga,yin joga
END:VEVENT
BEGIN:VEVENT
DTSTART;TZID=Europe/Warsaw:20250218T170000
DTEND;TZID=Europe/Warsaw:20250218T183000
DTSTAMP:20260423T070447
CREATED:20240813T095331Z
LAST-MODIFIED:20250120T174433Z
UID:10001708-1739898000-1739903400@ashtangaanyways.com
SUMMARY:Mysore
DESCRIPTION:Zajęcia odbywają się w każdy wtorek o 17:00-18:30 w Ashtanga Yoga Wrocław (ul. Trzebnicka 12/1\, 50-246 Wrocław). \n\n\n\n>> WIĘCEJ SZCZEGÓŁÓW <<
URL:https://ashtangaanyways.com/grafik/mysore/2025-02-18/
LOCATION:Dolnośląskie
CATEGORIES:ashtanga joga,mysore,praktyka
END:VEVENT
BEGIN:VEVENT
DTSTART;TZID=Europe/Warsaw:20250218T183000
DTEND;TZID=Europe/Warsaw:20250218T193000
DTSTAMP:20260423T070447
CREATED:20240813T095954Z
LAST-MODIFIED:20251215T193627Z
UID:10001759-1739903400-1739907000@ashtangaanyways.com
SUMMARY:Ashtanga joga dla początkujących
DESCRIPTION:Zajęcia odbywają się w każdy wtorek od 18:30 do 19:30 w Ashtanga Yoga Wrocław (ul. Trzebnicka 12/1\, 50-246 Wrocław). \n\n\n\n>> WIĘCEJ SZCZEGÓŁÓW <<
URL:https://ashtangaanyways.com/grafik/ashtanga-joga-dla-poczatkujacych/2025-02-18/
LOCATION:Dolnośląskie
CATEGORIES:ashtanga joga,praktyka
END:VEVENT
BEGIN:VEVENT
DTSTART;TZID=Europe/Warsaw:20250218T194500
DTEND;TZID=Europe/Warsaw:20250218T210000
DTSTAMP:20260423T070447
CREATED:20240813T095625Z
LAST-MODIFIED:20250120T174817Z
UID:10001810-1739907900-1739912400@ashtangaanyways.com
SUMMARY:Pierwsza Seria Prowadzona
DESCRIPTION:Zajęcia odbywają się w każdy wtorek od 19:45 do 21:00 w Ashtanga Yoga Wrocław (ul. Trzebnicka 12/1\, 50-246 Wrocław). \n\n\n\n>> WIĘCEJ SZCZEGÓŁÓW <<
URL:https://ashtangaanyways.com/grafik/pierwsza-seria-prowadzona/2025-02-18/
LOCATION:Dolnośląskie
CATEGORIES:ashtanga joga,mysore,praktyka
END:VEVENT
BEGIN:VEVENT
DTSTART;TZID=Europe/Warsaw:20250219T070000
DTEND;TZID=Europe/Warsaw:20250219T090000
DTSTAMP:20260423T070447
CREATED:20241007T103400Z
LAST-MODIFIED:20251228T104600Z
UID:10001876-1739948400-1739955600@ashtangaanyways.com
SUMMARY:Ashtanga All – MYSORE
DESCRIPTION:Zajęcia odbywają się w każdy wtorek o 7:00-9:00 w Ashtanga Yoga Wrocław (ul. Trzebnicka 12/1\, 50-246 Wrocław). \n\n\n\n>> WIĘCEJ SZCZEGÓŁÓW <<
URL:https://ashtangaanyways.com/grafik/ashtanga-all-mysore-3/2025-02-19/
LOCATION:Dolnośląskie
CATEGORIES:nidra joga,praktyka
END:VEVENT
BEGIN:VEVENT
DTSTART;TZID=Europe/Warsaw:20250219T183000
DTEND;TZID=Europe/Warsaw:20250219T193000
DTSTAMP:20260423T070447
CREATED:20240813T100101Z
LAST-MODIFIED:20250120T175216Z
UID:10001928-1739989800-1739993400@ashtangaanyways.com
SUMMARY:Ashtanga joga dla początkujących
DESCRIPTION:Zajęcia odbywają się w każdą środę od 18:30 do 19:30 w Ashtanga Yoga Wrocław (ul. Trzebnicka 12/1\, 50-246 Wrocław). \n\n\n\n>> WIĘCEJ SZCZEGÓŁÓW <<
URL:https://ashtangaanyways.com/grafik/ashtanga-joga-dla-poczatkujacych-2/2025-02-19/
LOCATION:Dolnośląskie
CATEGORIES:ashtanga joga,praktyka
END:VEVENT
BEGIN:VEVENT
DTSTART;TZID=Europe/Warsaw:20250219T194500
DTEND;TZID=Europe/Warsaw:20250219T204500
DTSTAMP:20260423T070447
CREATED:20240813T100513Z
LAST-MODIFIED:20250608T073501Z
UID:10001980-1739994300-1739997900@ashtangaanyways.com
SUMMARY:Pół Pierwszej Serii Prowadzonej
DESCRIPTION:Zajęcia odbywają się w każdą środę od 19:45 do 20:45 w Ashtanga Yoga Wrocław (ul. Trzebnicka 12/1\, 50-246 Wrocław). \n\n\n\n>> WIĘCEJ SZCZEGÓŁÓW <<
URL:https://ashtangaanyways.com/grafik/yin-joga/2025-02-19/
LOCATION:Dolnośląskie
CATEGORIES:ashtanga joga,praktyka
END:VEVENT
BEGIN:VEVENT
DTSTART;TZID=Europe/Warsaw:20250220T170000
DTEND;TZID=Europe/Warsaw:20250220T183000
DTSTAMP:20260423T070447
CREATED:20240813T100816Z
LAST-MODIFIED:20250120T175955Z
UID:10002031-1740070800-1740076200@ashtangaanyways.com
SUMMARY:Mysore
DESCRIPTION:Zajęcia odbywają się w każdy czwartek o 17:00-18:30 w Ashtanga Yoga Wrocław (ul. Trzebnicka 12/1\, 50-246 Wrocław). \n\n\n\n>> WIĘCEJ SZCZEGÓŁÓW <<
URL:https://ashtangaanyways.com/grafik/mysore-3/2025-02-20/
LOCATION:Dolnośląskie
CATEGORIES:ashtanga joga,mysore,praktyka
END:VEVENT
BEGIN:VEVENT
DTSTART;TZID=Europe/Warsaw:20250220T183000
DTEND;TZID=Europe/Warsaw:20250220T194500
DTSTAMP:20260423T070447
CREATED:20240813T101125Z
LAST-MODIFIED:20241130T184235Z
UID:10000255-1740076200-1740080700@ashtangaanyways.com
SUMMARY:Pół Pierwszej Serii Prowadzonej
DESCRIPTION:Zajęcia odbywają się w każdy czwartek od 18:30 do 19:45 w Ashtanga Yoga Wrocław (ul. Trzebnicka 12/1\, 50-246 Wrocław). \n\n\n\n>> WIĘCEJ SZCZEGÓŁÓW <<
URL:https://ashtangaanyways.com/grafik/ashtanga-wstep-do-drugiej-serii/2025-02-20/
LOCATION:Dolnośląskie
CATEGORIES:ashtanga joga,praktyka
END:VEVENT
BEGIN:VEVENT
DTSTART;TZID=Europe/Warsaw:20250220T194500
DTEND;TZID=Europe/Warsaw:20250220T210000
DTSTAMP:20260423T070447
CREATED:20240813T101254Z
LAST-MODIFIED:20241130T184448Z
UID:10000185-1740080700-1740085200@ashtangaanyways.com
SUMMARY:Yin Joga
DESCRIPTION:Zajęcia odbywają się w każdy czwartek od 19:45 do 21:00 w Ashtanga Yoga Wrocław (ul. Trzebnicka 12/1\, 50-246 Wrocław). \n\n\n\n>> WIĘCEJ SZCZEGÓŁÓW <<
URL:https://ashtangaanyways.com/grafik/pol-pierwszej-serii-prowadzonej/2025-02-20/
LOCATION:Ashtanga Yoga Wrocław\, Trzebnicka 12/1\, Wrocław\, Dolnośląskie\, Poland
CATEGORIES:ashtanga joga,praktyka
END:VEVENT
BEGIN:VEVENT
DTSTART;TZID=Europe/Warsaw:20250221T173000
DTEND;TZID=Europe/Warsaw:20250221T190000
DTSTAMP:20260423T070447
CREATED:20240813T101648Z
LAST-MODIFIED:20240908T182307Z
UID:10000045-1740159000-1740164400@ashtangaanyways.com
SUMMARY:Pierwsza Seria Prowadzona
DESCRIPTION:Zajęcia odbywają się w każdy piątek od 17:30 do 19:00 w Ashtanga Yoga Wrocław (ul. Trzebnicka 12/1\, 50-246 Wrocław). \n\n\n\n >> WIĘCEJ SZCZEGÓŁÓW <<
URL:https://ashtangaanyways.com/grafik/pierwsza-seria-prowadzona-2/2025-02-21/
LOCATION:Ashtanga Yoga Wrocław\, Trzebnicka 12/1\, Wrocław\, Dolnośląskie\, Poland
CATEGORIES:ashtanga joga,praktyka
END:VEVENT
BEGIN:VEVENT
DTSTART;TZID=Europe/Warsaw:20250223T180000
DTEND;TZID=Europe/Warsaw:20250223T190000
DTSTAMP:20260423T070447
CREATED:20241130T182811Z
LAST-MODIFIED:20241201T154644Z
UID:10001180-1740333600-1740337200@ashtangaanyways.com
SUMMARY:Joga regeneracyjna i techniki relaksacji
DESCRIPTION:Łagodna\, spokojna praktyka dostosowuje się do indywidualnych potrzeb i możliwości każdego uczestnika i jest idealna dla wszystkich poszukujących spowolnienia i relaksu\, niezależnie od poziomu zaawansowania\, kondycji fizycznej czy wieku. Podczas zajęć jogi regeneracyjnej będziemy poznawać wyciszające i równoważące techniki Pranayamy a także praktykować łagodną i medytacyjną Yin jogę\, kończąc praktyki asan długim relaksem z elementami jogi Nidry. \n\n\n\n>> WIĘCEJ SZCZEGÓŁÓW <<
URL:https://ashtangaanyways.com/grafik/joga-regeneracyjna-i-techniki-relaksacji/2025-02-23/
LOCATION:Dolnośląskie
CATEGORIES:joga regeneracyjna,nidra joga,yin joga
END:VEVENT
BEGIN:VEVENT
DTSTART;TZID=Europe/Warsaw:20250225T170000
DTEND;TZID=Europe/Warsaw:20250225T183000
DTSTAMP:20260423T070447
CREATED:20240813T095331Z
LAST-MODIFIED:20250120T174433Z
UID:10001709-1740502800-1740508200@ashtangaanyways.com
SUMMARY:Mysore
DESCRIPTION:Zajęcia odbywają się w każdy wtorek o 17:00-18:30 w Ashtanga Yoga Wrocław (ul. Trzebnicka 12/1\, 50-246 Wrocław). \n\n\n\n>> WIĘCEJ SZCZEGÓŁÓW <<
URL:https://ashtangaanyways.com/grafik/mysore/2025-02-25/
LOCATION:Dolnośląskie
CATEGORIES:ashtanga joga,mysore,praktyka
END:VEVENT
BEGIN:VEVENT
DTSTART;TZID=Europe/Warsaw:20250225T183000
DTEND;TZID=Europe/Warsaw:20250225T193000
DTSTAMP:20260423T070447
CREATED:20240813T095954Z
LAST-MODIFIED:20251215T193627Z
UID:10001760-1740508200-1740511800@ashtangaanyways.com
SUMMARY:Ashtanga joga dla początkujących
DESCRIPTION:Zajęcia odbywają się w każdy wtorek od 18:30 do 19:30 w Ashtanga Yoga Wrocław (ul. Trzebnicka 12/1\, 50-246 Wrocław). \n\n\n\n>> WIĘCEJ SZCZEGÓŁÓW <<
URL:https://ashtangaanyways.com/grafik/ashtanga-joga-dla-poczatkujacych/2025-02-25/
LOCATION:Dolnośląskie
CATEGORIES:ashtanga joga,praktyka
END:VEVENT
BEGIN:VEVENT
DTSTART;TZID=Europe/Warsaw:20250225T194500
DTEND;TZID=Europe/Warsaw:20250225T210000
DTSTAMP:20260423T070447
CREATED:20240813T095625Z
LAST-MODIFIED:20250120T174817Z
UID:10001811-1740512700-1740517200@ashtangaanyways.com
SUMMARY:Pierwsza Seria Prowadzona
DESCRIPTION:Zajęcia odbywają się w każdy wtorek od 19:45 do 21:00 w Ashtanga Yoga Wrocław (ul. Trzebnicka 12/1\, 50-246 Wrocław). \n\n\n\n>> WIĘCEJ SZCZEGÓŁÓW <<
URL:https://ashtangaanyways.com/grafik/pierwsza-seria-prowadzona/2025-02-25/
LOCATION:Dolnośląskie
CATEGORIES:ashtanga joga,mysore,praktyka
END:VEVENT
BEGIN:VEVENT
DTSTART;TZID=Europe/Warsaw:20250226T070000
DTEND;TZID=Europe/Warsaw:20250226T090000
DTSTAMP:20260423T070447
CREATED:20241007T103400Z
LAST-MODIFIED:20251228T104600Z
UID:10001877-1740553200-1740560400@ashtangaanyways.com
SUMMARY:Ashtanga All – MYSORE
DESCRIPTION:Zajęcia odbywają się w każdy wtorek o 7:00-9:00 w Ashtanga Yoga Wrocław (ul. Trzebnicka 12/1\, 50-246 Wrocław). \n\n\n\n>> WIĘCEJ SZCZEGÓŁÓW <<
URL:https://ashtangaanyways.com/grafik/ashtanga-all-mysore-3/2025-02-26/
LOCATION:Dolnośląskie
CATEGORIES:nidra joga,praktyka
END:VEVENT
BEGIN:VEVENT
DTSTART;TZID=Europe/Warsaw:20250226T183000
DTEND;TZID=Europe/Warsaw:20250226T193000
DTSTAMP:20260423T070447
CREATED:20240813T100101Z
LAST-MODIFIED:20250120T175216Z
UID:10001929-1740594600-1740598200@ashtangaanyways.com
SUMMARY:Ashtanga joga dla początkujących
DESCRIPTION:Zajęcia odbywają się w każdą środę od 18:30 do 19:30 w Ashtanga Yoga Wrocław (ul. Trzebnicka 12/1\, 50-246 Wrocław). \n\n\n\n>> WIĘCEJ SZCZEGÓŁÓW <<
URL:https://ashtangaanyways.com/grafik/ashtanga-joga-dla-poczatkujacych-2/2025-02-26/
LOCATION:Dolnośląskie
CATEGORIES:ashtanga joga,praktyka
END:VEVENT
END:VCALENDAR