BEGIN:VCALENDAR
VERSION:2.0
PRODID:-//Ashtanga Anyways - ECPv6.15.18//NONSGML v1.0//EN
CALSCALE:GREGORIAN
METHOD:PUBLISH
X-ORIGINAL-URL:https://ashtangaanyways.com
X-WR-CALDESC:Wydarzenia dla Ashtanga Anyways
REFRESH-INTERVAL;VALUE=DURATION:PT1H
X-Robots-Tag:noindex
X-PUBLISHED-TTL:PT1H
BEGIN:VTIMEZONE
TZID:Europe/Warsaw
BEGIN:DAYLIGHT
TZOFFSETFROM:+0100
TZOFFSETTO:+0200
TZNAME:CEST
DTSTART:20240331T010000
END:DAYLIGHT
BEGIN:STANDARD
TZOFFSETFROM:+0200
TZOFFSETTO:+0100
TZNAME:CET
DTSTART:20241027T010000
END:STANDARD
BEGIN:DAYLIGHT
TZOFFSETFROM:+0100
TZOFFSETTO:+0200
TZNAME:CEST
DTSTART:20250330T010000
END:DAYLIGHT
BEGIN:STANDARD
TZOFFSETFROM:+0200
TZOFFSETTO:+0100
TZNAME:CET
DTSTART:20251026T010000
END:STANDARD
BEGIN:DAYLIGHT
TZOFFSETFROM:+0100
TZOFFSETTO:+0200
TZNAME:CEST
DTSTART:20260329T010000
END:DAYLIGHT
BEGIN:STANDARD
TZOFFSETFROM:+0200
TZOFFSETTO:+0100
TZNAME:CET
DTSTART:20261025T010000
END:STANDARD
END:VTIMEZONE
BEGIN:VEVENT
DTSTART;TZID=Europe/Warsaw:20250409T183000
DTEND;TZID=Europe/Warsaw:20250409T193000
DTSTAMP:20260423T003929
CREATED:20240813T100101Z
LAST-MODIFIED:20250120T175216Z
UID:10001935-1744223400-1744227000@ashtangaanyways.com
SUMMARY:Ashtanga joga dla początkujących
DESCRIPTION:Zajęcia odbywają się w każdą środę od 18:30 do 19:30 w Ashtanga Yoga Wrocław (ul. Trzebnicka 12/1\, 50-246 Wrocław). \n\n\n\n>> WIĘCEJ SZCZEGÓŁÓW <<
URL:https://ashtangaanyways.com/grafik/ashtanga-joga-dla-poczatkujacych-2/2025-04-09/
LOCATION:Dolnośląskie
CATEGORIES:ashtanga joga,praktyka
END:VEVENT
BEGIN:VEVENT
DTSTART;TZID=Europe/Warsaw:20250409T194500
DTEND;TZID=Europe/Warsaw:20250409T204500
DTSTAMP:20260423T003929
CREATED:20240813T100513Z
LAST-MODIFIED:20250608T073501Z
UID:10001987-1744227900-1744231500@ashtangaanyways.com
SUMMARY:Pół Pierwszej Serii Prowadzonej
DESCRIPTION:Zajęcia odbywają się w każdą środę od 19:45 do 20:45 w Ashtanga Yoga Wrocław (ul. Trzebnicka 12/1\, 50-246 Wrocław). \n\n\n\n>> WIĘCEJ SZCZEGÓŁÓW <<
URL:https://ashtangaanyways.com/grafik/yin-joga/2025-04-09/
LOCATION:Dolnośląskie
CATEGORIES:ashtanga joga,praktyka
END:VEVENT
BEGIN:VEVENT
DTSTART;TZID=Europe/Warsaw:20250410T170000
DTEND;TZID=Europe/Warsaw:20250410T183000
DTSTAMP:20260423T003929
CREATED:20240813T100816Z
LAST-MODIFIED:20250120T175955Z
UID:10002038-1744304400-1744309800@ashtangaanyways.com
SUMMARY:Mysore
DESCRIPTION:Zajęcia odbywają się w każdy czwartek o 17:00-18:30 w Ashtanga Yoga Wrocław (ul. Trzebnicka 12/1\, 50-246 Wrocław). \n\n\n\n>> WIĘCEJ SZCZEGÓŁÓW <<
URL:https://ashtangaanyways.com/grafik/mysore-3/2025-04-10/
LOCATION:Dolnośląskie
CATEGORIES:ashtanga joga,mysore,praktyka
END:VEVENT
BEGIN:VEVENT
DTSTART;TZID=Europe/Warsaw:20250410T183000
DTEND;TZID=Europe/Warsaw:20250410T194500
DTSTAMP:20260423T003929
CREATED:20240813T101125Z
LAST-MODIFIED:20241130T184235Z
UID:10000262-1744309800-1744314300@ashtangaanyways.com
SUMMARY:Pół Pierwszej Serii Prowadzonej
DESCRIPTION:Zajęcia odbywają się w każdy czwartek od 18:30 do 19:45 w Ashtanga Yoga Wrocław (ul. Trzebnicka 12/1\, 50-246 Wrocław). \n\n\n\n>> WIĘCEJ SZCZEGÓŁÓW <<
URL:https://ashtangaanyways.com/grafik/ashtanga-wstep-do-drugiej-serii/2025-04-10/
LOCATION:Dolnośląskie
CATEGORIES:ashtanga joga,praktyka
END:VEVENT
BEGIN:VEVENT
DTSTART;TZID=Europe/Warsaw:20250410T194500
DTEND;TZID=Europe/Warsaw:20250410T210000
DTSTAMP:20260423T003929
CREATED:20240813T101254Z
LAST-MODIFIED:20241130T184448Z
UID:10000192-1744314300-1744318800@ashtangaanyways.com
SUMMARY:Yin Joga
DESCRIPTION:Zajęcia odbywają się w każdy czwartek od 19:45 do 21:00 w Ashtanga Yoga Wrocław (ul. Trzebnicka 12/1\, 50-246 Wrocław). \n\n\n\n>> WIĘCEJ SZCZEGÓŁÓW <<
URL:https://ashtangaanyways.com/grafik/pol-pierwszej-serii-prowadzonej/2025-04-10/
LOCATION:Ashtanga Yoga Wrocław\, Trzebnicka 12/1\, Wrocław\, Dolnośląskie\, Poland
CATEGORIES:ashtanga joga,praktyka
END:VEVENT
BEGIN:VEVENT
DTSTART;TZID=Europe/Warsaw:20250411T173000
DTEND;TZID=Europe/Warsaw:20250411T190000
DTSTAMP:20260423T003929
CREATED:20240813T101648Z
LAST-MODIFIED:20240908T182307Z
UID:10000052-1744392600-1744398000@ashtangaanyways.com
SUMMARY:Pierwsza Seria Prowadzona
DESCRIPTION:Zajęcia odbywają się w każdy piątek od 17:30 do 19:00 w Ashtanga Yoga Wrocław (ul. Trzebnicka 12/1\, 50-246 Wrocław). \n\n\n\n >> WIĘCEJ SZCZEGÓŁÓW <<
URL:https://ashtangaanyways.com/grafik/pierwsza-seria-prowadzona-2/2025-04-11/
LOCATION:Ashtanga Yoga Wrocław\, Trzebnicka 12/1\, Wrocław\, Dolnośląskie\, Poland
CATEGORIES:ashtanga joga,praktyka
END:VEVENT
BEGIN:VEVENT
DTSTART;TZID=Europe/Warsaw:20250413T180000
DTEND;TZID=Europe/Warsaw:20250413T190000
DTSTAMP:20260423T003929
CREATED:20241130T182811Z
LAST-MODIFIED:20241201T154644Z
UID:10001187-1744567200-1744570800@ashtangaanyways.com
SUMMARY:Joga regeneracyjna i techniki relaksacji
DESCRIPTION:Łagodna\, spokojna praktyka dostosowuje się do indywidualnych potrzeb i możliwości każdego uczestnika i jest idealna dla wszystkich poszukujących spowolnienia i relaksu\, niezależnie od poziomu zaawansowania\, kondycji fizycznej czy wieku. Podczas zajęć jogi regeneracyjnej będziemy poznawać wyciszające i równoważące techniki Pranayamy a także praktykować łagodną i medytacyjną Yin jogę\, kończąc praktyki asan długim relaksem z elementami jogi Nidry. \n\n\n\n>> WIĘCEJ SZCZEGÓŁÓW <<
URL:https://ashtangaanyways.com/grafik/joga-regeneracyjna-i-techniki-relaksacji/2025-04-13/
LOCATION:Dolnośląskie
CATEGORIES:joga regeneracyjna,nidra joga,yin joga
END:VEVENT
BEGIN:VEVENT
DTSTART;TZID=Europe/Warsaw:20250415T170000
DTEND;TZID=Europe/Warsaw:20250415T183000
DTSTAMP:20260423T003929
CREATED:20240813T095331Z
LAST-MODIFIED:20250120T174433Z
UID:10001716-1744736400-1744741800@ashtangaanyways.com
SUMMARY:Mysore
DESCRIPTION:Zajęcia odbywają się w każdy wtorek o 17:00-18:30 w Ashtanga Yoga Wrocław (ul. Trzebnicka 12/1\, 50-246 Wrocław). \n\n\n\n>> WIĘCEJ SZCZEGÓŁÓW <<
URL:https://ashtangaanyways.com/grafik/mysore/2025-04-15/
LOCATION:Dolnośląskie
CATEGORIES:ashtanga joga,mysore,praktyka
END:VEVENT
BEGIN:VEVENT
DTSTART;TZID=Europe/Warsaw:20250415T183000
DTEND;TZID=Europe/Warsaw:20250415T193000
DTSTAMP:20260423T003929
CREATED:20240813T095954Z
LAST-MODIFIED:20251215T193627Z
UID:10001767-1744741800-1744745400@ashtangaanyways.com
SUMMARY:Ashtanga joga dla początkujących
DESCRIPTION:Zajęcia odbywają się w każdy wtorek od 18:30 do 19:30 w Ashtanga Yoga Wrocław (ul. Trzebnicka 12/1\, 50-246 Wrocław). \n\n\n\n>> WIĘCEJ SZCZEGÓŁÓW <<
URL:https://ashtangaanyways.com/grafik/ashtanga-joga-dla-poczatkujacych/2025-04-15/
LOCATION:Dolnośląskie
CATEGORIES:ashtanga joga,praktyka
END:VEVENT
BEGIN:VEVENT
DTSTART;TZID=Europe/Warsaw:20250415T194500
DTEND;TZID=Europe/Warsaw:20250415T210000
DTSTAMP:20260423T003929
CREATED:20240813T095625Z
LAST-MODIFIED:20250120T174817Z
UID:10001818-1744746300-1744750800@ashtangaanyways.com
SUMMARY:Pierwsza Seria Prowadzona
DESCRIPTION:Zajęcia odbywają się w każdy wtorek od 19:45 do 21:00 w Ashtanga Yoga Wrocław (ul. Trzebnicka 12/1\, 50-246 Wrocław). \n\n\n\n>> WIĘCEJ SZCZEGÓŁÓW <<
URL:https://ashtangaanyways.com/grafik/pierwsza-seria-prowadzona/2025-04-15/
LOCATION:Dolnośląskie
CATEGORIES:ashtanga joga,mysore,praktyka
END:VEVENT
BEGIN:VEVENT
DTSTART;TZID=Europe/Warsaw:20250416T070000
DTEND;TZID=Europe/Warsaw:20250416T090000
DTSTAMP:20260423T003929
CREATED:20241007T103400Z
LAST-MODIFIED:20251228T104600Z
UID:10001884-1744786800-1744794000@ashtangaanyways.com
SUMMARY:Ashtanga All – MYSORE
DESCRIPTION:Zajęcia odbywają się w każdy wtorek o 7:00-9:00 w Ashtanga Yoga Wrocław (ul. Trzebnicka 12/1\, 50-246 Wrocław). \n\n\n\n>> WIĘCEJ SZCZEGÓŁÓW <<
URL:https://ashtangaanyways.com/grafik/ashtanga-all-mysore-3/2025-04-16/
LOCATION:Dolnośląskie
CATEGORIES:nidra joga,praktyka
END:VEVENT
BEGIN:VEVENT
DTSTART;TZID=Europe/Warsaw:20250416T183000
DTEND;TZID=Europe/Warsaw:20250416T193000
DTSTAMP:20260423T003929
CREATED:20240813T100101Z
LAST-MODIFIED:20250120T175216Z
UID:10001936-1744828200-1744831800@ashtangaanyways.com
SUMMARY:Ashtanga joga dla początkujących
DESCRIPTION:Zajęcia odbywają się w każdą środę od 18:30 do 19:30 w Ashtanga Yoga Wrocław (ul. Trzebnicka 12/1\, 50-246 Wrocław). \n\n\n\n>> WIĘCEJ SZCZEGÓŁÓW <<
URL:https://ashtangaanyways.com/grafik/ashtanga-joga-dla-poczatkujacych-2/2025-04-16/
LOCATION:Dolnośląskie
CATEGORIES:ashtanga joga,praktyka
END:VEVENT
BEGIN:VEVENT
DTSTART;TZID=Europe/Warsaw:20250416T194500
DTEND;TZID=Europe/Warsaw:20250416T204500
DTSTAMP:20260423T003929
CREATED:20240813T100513Z
LAST-MODIFIED:20250608T073501Z
UID:10001988-1744832700-1744836300@ashtangaanyways.com
SUMMARY:Pół Pierwszej Serii Prowadzonej
DESCRIPTION:Zajęcia odbywają się w każdą środę od 19:45 do 20:45 w Ashtanga Yoga Wrocław (ul. Trzebnicka 12/1\, 50-246 Wrocław). \n\n\n\n>> WIĘCEJ SZCZEGÓŁÓW <<
URL:https://ashtangaanyways.com/grafik/yin-joga/2025-04-16/
LOCATION:Dolnośląskie
CATEGORIES:ashtanga joga,praktyka
END:VEVENT
BEGIN:VEVENT
DTSTART;TZID=Europe/Warsaw:20250417T170000
DTEND;TZID=Europe/Warsaw:20250417T183000
DTSTAMP:20260423T003929
CREATED:20240813T100816Z
LAST-MODIFIED:20250120T175955Z
UID:10002039-1744909200-1744914600@ashtangaanyways.com
SUMMARY:Mysore
DESCRIPTION:Zajęcia odbywają się w każdy czwartek o 17:00-18:30 w Ashtanga Yoga Wrocław (ul. Trzebnicka 12/1\, 50-246 Wrocław). \n\n\n\n>> WIĘCEJ SZCZEGÓŁÓW <<
URL:https://ashtangaanyways.com/grafik/mysore-3/2025-04-17/
LOCATION:Dolnośląskie
CATEGORIES:ashtanga joga,mysore,praktyka
END:VEVENT
BEGIN:VEVENT
DTSTART;TZID=Europe/Warsaw:20250417T183000
DTEND;TZID=Europe/Warsaw:20250417T194500
DTSTAMP:20260423T003929
CREATED:20240813T101125Z
LAST-MODIFIED:20241130T184235Z
UID:10000263-1744914600-1744919100@ashtangaanyways.com
SUMMARY:Pół Pierwszej Serii Prowadzonej
DESCRIPTION:Zajęcia odbywają się w każdy czwartek od 18:30 do 19:45 w Ashtanga Yoga Wrocław (ul. Trzebnicka 12/1\, 50-246 Wrocław). \n\n\n\n>> WIĘCEJ SZCZEGÓŁÓW <<
URL:https://ashtangaanyways.com/grafik/ashtanga-wstep-do-drugiej-serii/2025-04-17/
LOCATION:Dolnośląskie
CATEGORIES:ashtanga joga,praktyka
END:VEVENT
BEGIN:VEVENT
DTSTART;TZID=Europe/Warsaw:20250417T194500
DTEND;TZID=Europe/Warsaw:20250417T210000
DTSTAMP:20260423T003929
CREATED:20240813T101254Z
LAST-MODIFIED:20241130T184448Z
UID:10000193-1744919100-1744923600@ashtangaanyways.com
SUMMARY:Yin Joga
DESCRIPTION:Zajęcia odbywają się w każdy czwartek od 19:45 do 21:00 w Ashtanga Yoga Wrocław (ul. Trzebnicka 12/1\, 50-246 Wrocław). \n\n\n\n>> WIĘCEJ SZCZEGÓŁÓW <<
URL:https://ashtangaanyways.com/grafik/pol-pierwszej-serii-prowadzonej/2025-04-17/
LOCATION:Ashtanga Yoga Wrocław\, Trzebnicka 12/1\, Wrocław\, Dolnośląskie\, Poland
CATEGORIES:ashtanga joga,praktyka
END:VEVENT
BEGIN:VEVENT
DTSTART;TZID=Europe/Warsaw:20250418T173000
DTEND;TZID=Europe/Warsaw:20250418T190000
DTSTAMP:20260423T003929
CREATED:20240813T101648Z
LAST-MODIFIED:20240908T182307Z
UID:10000053-1744997400-1745002800@ashtangaanyways.com
SUMMARY:Pierwsza Seria Prowadzona
DESCRIPTION:Zajęcia odbywają się w każdy piątek od 17:30 do 19:00 w Ashtanga Yoga Wrocław (ul. Trzebnicka 12/1\, 50-246 Wrocław). \n\n\n\n >> WIĘCEJ SZCZEGÓŁÓW <<
URL:https://ashtangaanyways.com/grafik/pierwsza-seria-prowadzona-2/2025-04-18/
LOCATION:Ashtanga Yoga Wrocław\, Trzebnicka 12/1\, Wrocław\, Dolnośląskie\, Poland
CATEGORIES:ashtanga joga,praktyka
END:VEVENT
BEGIN:VEVENT
DTSTART;TZID=Europe/Warsaw:20250420T180000
DTEND;TZID=Europe/Warsaw:20250420T190000
DTSTAMP:20260423T003929
CREATED:20241130T182811Z
LAST-MODIFIED:20241201T154644Z
UID:10001188-1745172000-1745175600@ashtangaanyways.com
SUMMARY:Joga regeneracyjna i techniki relaksacji
DESCRIPTION:Łagodna\, spokojna praktyka dostosowuje się do indywidualnych potrzeb i możliwości każdego uczestnika i jest idealna dla wszystkich poszukujących spowolnienia i relaksu\, niezależnie od poziomu zaawansowania\, kondycji fizycznej czy wieku. Podczas zajęć jogi regeneracyjnej będziemy poznawać wyciszające i równoważące techniki Pranayamy a także praktykować łagodną i medytacyjną Yin jogę\, kończąc praktyki asan długim relaksem z elementami jogi Nidry. \n\n\n\n>> WIĘCEJ SZCZEGÓŁÓW <<
URL:https://ashtangaanyways.com/grafik/joga-regeneracyjna-i-techniki-relaksacji/2025-04-20/
LOCATION:Dolnośląskie
CATEGORIES:joga regeneracyjna,nidra joga,yin joga
END:VEVENT
BEGIN:VEVENT
DTSTART;TZID=Europe/Warsaw:20250422T170000
DTEND;TZID=Europe/Warsaw:20250422T183000
DTSTAMP:20260423T003929
CREATED:20240813T095331Z
LAST-MODIFIED:20250120T174433Z
UID:10001717-1745341200-1745346600@ashtangaanyways.com
SUMMARY:Mysore
DESCRIPTION:Zajęcia odbywają się w każdy wtorek o 17:00-18:30 w Ashtanga Yoga Wrocław (ul. Trzebnicka 12/1\, 50-246 Wrocław). \n\n\n\n>> WIĘCEJ SZCZEGÓŁÓW <<
URL:https://ashtangaanyways.com/grafik/mysore/2025-04-22/
LOCATION:Dolnośląskie
CATEGORIES:ashtanga joga,mysore,praktyka
END:VEVENT
BEGIN:VEVENT
DTSTART;TZID=Europe/Warsaw:20250422T183000
DTEND;TZID=Europe/Warsaw:20250422T193000
DTSTAMP:20260423T003929
CREATED:20240813T095954Z
LAST-MODIFIED:20251215T193627Z
UID:10001768-1745346600-1745350200@ashtangaanyways.com
SUMMARY:Ashtanga joga dla początkujących
DESCRIPTION:Zajęcia odbywają się w każdy wtorek od 18:30 do 19:30 w Ashtanga Yoga Wrocław (ul. Trzebnicka 12/1\, 50-246 Wrocław). \n\n\n\n>> WIĘCEJ SZCZEGÓŁÓW <<
URL:https://ashtangaanyways.com/grafik/ashtanga-joga-dla-poczatkujacych/2025-04-22/
LOCATION:Dolnośląskie
CATEGORIES:ashtanga joga,praktyka
END:VEVENT
BEGIN:VEVENT
DTSTART;TZID=Europe/Warsaw:20250422T194500
DTEND;TZID=Europe/Warsaw:20250422T210000
DTSTAMP:20260423T003929
CREATED:20240813T095625Z
LAST-MODIFIED:20250120T174817Z
UID:10001819-1745351100-1745355600@ashtangaanyways.com
SUMMARY:Pierwsza Seria Prowadzona
DESCRIPTION:Zajęcia odbywają się w każdy wtorek od 19:45 do 21:00 w Ashtanga Yoga Wrocław (ul. Trzebnicka 12/1\, 50-246 Wrocław). \n\n\n\n>> WIĘCEJ SZCZEGÓŁÓW <<
URL:https://ashtangaanyways.com/grafik/pierwsza-seria-prowadzona/2025-04-22/
LOCATION:Dolnośląskie
CATEGORIES:ashtanga joga,mysore,praktyka
END:VEVENT
BEGIN:VEVENT
DTSTART;TZID=Europe/Warsaw:20250423T070000
DTEND;TZID=Europe/Warsaw:20250423T090000
DTSTAMP:20260423T003929
CREATED:20241007T103400Z
LAST-MODIFIED:20251228T104600Z
UID:10001885-1745391600-1745398800@ashtangaanyways.com
SUMMARY:Ashtanga All – MYSORE
DESCRIPTION:Zajęcia odbywają się w każdy wtorek o 7:00-9:00 w Ashtanga Yoga Wrocław (ul. Trzebnicka 12/1\, 50-246 Wrocław). \n\n\n\n>> WIĘCEJ SZCZEGÓŁÓW <<
URL:https://ashtangaanyways.com/grafik/ashtanga-all-mysore-3/2025-04-23/
LOCATION:Dolnośląskie
CATEGORIES:nidra joga,praktyka
END:VEVENT
BEGIN:VEVENT
DTSTART;TZID=Europe/Warsaw:20250423T183000
DTEND;TZID=Europe/Warsaw:20250423T193000
DTSTAMP:20260423T003929
CREATED:20240813T100101Z
LAST-MODIFIED:20250120T175216Z
UID:10001937-1745433000-1745436600@ashtangaanyways.com
SUMMARY:Ashtanga joga dla początkujących
DESCRIPTION:Zajęcia odbywają się w każdą środę od 18:30 do 19:30 w Ashtanga Yoga Wrocław (ul. Trzebnicka 12/1\, 50-246 Wrocław). \n\n\n\n>> WIĘCEJ SZCZEGÓŁÓW <<
URL:https://ashtangaanyways.com/grafik/ashtanga-joga-dla-poczatkujacych-2/2025-04-23/
LOCATION:Dolnośląskie
CATEGORIES:ashtanga joga,praktyka
END:VEVENT
BEGIN:VEVENT
DTSTART;TZID=Europe/Warsaw:20250423T194500
DTEND;TZID=Europe/Warsaw:20250423T204500
DTSTAMP:20260423T003929
CREATED:20240813T100513Z
LAST-MODIFIED:20250608T073501Z
UID:10001989-1745437500-1745441100@ashtangaanyways.com
SUMMARY:Pół Pierwszej Serii Prowadzonej
DESCRIPTION:Zajęcia odbywają się w każdą środę od 19:45 do 20:45 w Ashtanga Yoga Wrocław (ul. Trzebnicka 12/1\, 50-246 Wrocław). \n\n\n\n>> WIĘCEJ SZCZEGÓŁÓW <<
URL:https://ashtangaanyways.com/grafik/yin-joga/2025-04-23/
LOCATION:Dolnośląskie
CATEGORIES:ashtanga joga,praktyka
END:VEVENT
BEGIN:VEVENT
DTSTART;TZID=Europe/Warsaw:20250424T170000
DTEND;TZID=Europe/Warsaw:20250424T183000
DTSTAMP:20260423T003929
CREATED:20240813T100816Z
LAST-MODIFIED:20250120T175955Z
UID:10002040-1745514000-1745519400@ashtangaanyways.com
SUMMARY:Mysore
DESCRIPTION:Zajęcia odbywają się w każdy czwartek o 17:00-18:30 w Ashtanga Yoga Wrocław (ul. Trzebnicka 12/1\, 50-246 Wrocław). \n\n\n\n>> WIĘCEJ SZCZEGÓŁÓW <<
URL:https://ashtangaanyways.com/grafik/mysore-3/2025-04-24/
LOCATION:Dolnośląskie
CATEGORIES:ashtanga joga,mysore,praktyka
END:VEVENT
BEGIN:VEVENT
DTSTART;TZID=Europe/Warsaw:20250424T183000
DTEND;TZID=Europe/Warsaw:20250424T194500
DTSTAMP:20260423T003929
CREATED:20240813T101125Z
LAST-MODIFIED:20241130T184235Z
UID:10000264-1745519400-1745523900@ashtangaanyways.com
SUMMARY:Pół Pierwszej Serii Prowadzonej
DESCRIPTION:Zajęcia odbywają się w każdy czwartek od 18:30 do 19:45 w Ashtanga Yoga Wrocław (ul. Trzebnicka 12/1\, 50-246 Wrocław). \n\n\n\n>> WIĘCEJ SZCZEGÓŁÓW <<
URL:https://ashtangaanyways.com/grafik/ashtanga-wstep-do-drugiej-serii/2025-04-24/
LOCATION:Dolnośląskie
CATEGORIES:ashtanga joga,praktyka
END:VEVENT
BEGIN:VEVENT
DTSTART;TZID=Europe/Warsaw:20250424T194500
DTEND;TZID=Europe/Warsaw:20250424T210000
DTSTAMP:20260423T003929
CREATED:20240813T101254Z
LAST-MODIFIED:20241130T184448Z
UID:10000194-1745523900-1745528400@ashtangaanyways.com
SUMMARY:Yin Joga
DESCRIPTION:Zajęcia odbywają się w każdy czwartek od 19:45 do 21:00 w Ashtanga Yoga Wrocław (ul. Trzebnicka 12/1\, 50-246 Wrocław). \n\n\n\n>> WIĘCEJ SZCZEGÓŁÓW <<
URL:https://ashtangaanyways.com/grafik/pol-pierwszej-serii-prowadzonej/2025-04-24/
LOCATION:Ashtanga Yoga Wrocław\, Trzebnicka 12/1\, Wrocław\, Dolnośląskie\, Poland
CATEGORIES:ashtanga joga,praktyka
END:VEVENT
BEGIN:VEVENT
DTSTART;TZID=Europe/Warsaw:20250425T173000
DTEND;TZID=Europe/Warsaw:20250425T190000
DTSTAMP:20260423T003929
CREATED:20240813T101648Z
LAST-MODIFIED:20240908T182307Z
UID:10000054-1745602200-1745607600@ashtangaanyways.com
SUMMARY:Pierwsza Seria Prowadzona
DESCRIPTION:Zajęcia odbywają się w każdy piątek od 17:30 do 19:00 w Ashtanga Yoga Wrocław (ul. Trzebnicka 12/1\, 50-246 Wrocław). \n\n\n\n >> WIĘCEJ SZCZEGÓŁÓW <<
URL:https://ashtangaanyways.com/grafik/pierwsza-seria-prowadzona-2/2025-04-25/
LOCATION:Ashtanga Yoga Wrocław\, Trzebnicka 12/1\, Wrocław\, Dolnośląskie\, Poland
CATEGORIES:ashtanga joga,praktyka
END:VEVENT
BEGIN:VEVENT
DTSTART;TZID=Europe/Warsaw:20250427T180000
DTEND;TZID=Europe/Warsaw:20250427T190000
DTSTAMP:20260423T003929
CREATED:20241130T182811Z
LAST-MODIFIED:20241201T154644Z
UID:10001189-1745776800-1745780400@ashtangaanyways.com
SUMMARY:Joga regeneracyjna i techniki relaksacji
DESCRIPTION:Łagodna\, spokojna praktyka dostosowuje się do indywidualnych potrzeb i możliwości każdego uczestnika i jest idealna dla wszystkich poszukujących spowolnienia i relaksu\, niezależnie od poziomu zaawansowania\, kondycji fizycznej czy wieku. Podczas zajęć jogi regeneracyjnej będziemy poznawać wyciszające i równoważące techniki Pranayamy a także praktykować łagodną i medytacyjną Yin jogę\, kończąc praktyki asan długim relaksem z elementami jogi Nidry. \n\n\n\n>> WIĘCEJ SZCZEGÓŁÓW <<
URL:https://ashtangaanyways.com/grafik/joga-regeneracyjna-i-techniki-relaksacji/2025-04-27/
LOCATION:Dolnośląskie
CATEGORIES:joga regeneracyjna,nidra joga,yin joga
END:VEVENT
BEGIN:VEVENT
DTSTART;TZID=Europe/Warsaw:20250429T170000
DTEND;TZID=Europe/Warsaw:20250429T183000
DTSTAMP:20260423T003929
CREATED:20240813T095331Z
LAST-MODIFIED:20250120T174433Z
UID:10001718-1745946000-1745951400@ashtangaanyways.com
SUMMARY:Mysore
DESCRIPTION:Zajęcia odbywają się w każdy wtorek o 17:00-18:30 w Ashtanga Yoga Wrocław (ul. Trzebnicka 12/1\, 50-246 Wrocław). \n\n\n\n>> WIĘCEJ SZCZEGÓŁÓW <<
URL:https://ashtangaanyways.com/grafik/mysore/2025-04-29/
LOCATION:Dolnośląskie
CATEGORIES:ashtanga joga,mysore,praktyka
END:VEVENT
END:VCALENDAR