BEGIN:VCALENDAR
VERSION:2.0
PRODID:-//Ashtanga Anyways - ECPv6.15.18//NONSGML v1.0//EN
CALSCALE:GREGORIAN
METHOD:PUBLISH
X-WR-CALNAME:Ashtanga Anyways
X-ORIGINAL-URL:https://ashtangaanyways.com
X-WR-CALDESC:Wydarzenia dla Ashtanga Anyways
REFRESH-INTERVAL;VALUE=DURATION:PT1H
X-Robots-Tag:noindex
X-PUBLISHED-TTL:PT1H
BEGIN:VTIMEZONE
TZID:Europe/Warsaw
BEGIN:DAYLIGHT
TZOFFSETFROM:+0100
TZOFFSETTO:+0200
TZNAME:CEST
DTSTART:20240331T010000
END:DAYLIGHT
BEGIN:STANDARD
TZOFFSETFROM:+0200
TZOFFSETTO:+0100
TZNAME:CET
DTSTART:20241027T010000
END:STANDARD
BEGIN:DAYLIGHT
TZOFFSETFROM:+0100
TZOFFSETTO:+0200
TZNAME:CEST
DTSTART:20250330T010000
END:DAYLIGHT
BEGIN:STANDARD
TZOFFSETFROM:+0200
TZOFFSETTO:+0100
TZNAME:CET
DTSTART:20251026T010000
END:STANDARD
BEGIN:DAYLIGHT
TZOFFSETFROM:+0100
TZOFFSETTO:+0200
TZNAME:CEST
DTSTART:20260329T010000
END:DAYLIGHT
BEGIN:STANDARD
TZOFFSETFROM:+0200
TZOFFSETTO:+0100
TZNAME:CET
DTSTART:20261025T010000
END:STANDARD
END:VTIMEZONE
BEGIN:VEVENT
DTSTART;TZID=Europe/Warsaw:20250223T180000
DTEND;TZID=Europe/Warsaw:20250223T190000
DTSTAMP:20260423T103305
CREATED:20241130T182811Z
LAST-MODIFIED:20241201T154644Z
UID:10001180-1740333600-1740337200@ashtangaanyways.com
SUMMARY:Joga regeneracyjna i techniki relaksacji
DESCRIPTION:Łagodna\, spokojna praktyka dostosowuje się do indywidualnych potrzeb i możliwości każdego uczestnika i jest idealna dla wszystkich poszukujących spowolnienia i relaksu\, niezależnie od poziomu zaawansowania\, kondycji fizycznej czy wieku. Podczas zajęć jogi regeneracyjnej będziemy poznawać wyciszające i równoważące techniki Pranayamy a także praktykować łagodną i medytacyjną Yin jogę\, kończąc praktyki asan długim relaksem z elementami jogi Nidry. \n\n\n\n>> WIĘCEJ SZCZEGÓŁÓW <<
URL:https://ashtangaanyways.com/grafik/joga-regeneracyjna-i-techniki-relaksacji/2025-02-23/
LOCATION:Dolnośląskie
CATEGORIES:joga regeneracyjna,nidra joga,yin joga
END:VEVENT
BEGIN:VEVENT
DTSTART;TZID=Europe/Warsaw:20250225T170000
DTEND;TZID=Europe/Warsaw:20250225T183000
DTSTAMP:20260423T103305
CREATED:20240813T095331Z
LAST-MODIFIED:20250120T174433Z
UID:10001709-1740502800-1740508200@ashtangaanyways.com
SUMMARY:Mysore
DESCRIPTION:Zajęcia odbywają się w każdy wtorek o 17:00-18:30 w Ashtanga Yoga Wrocław (ul. Trzebnicka 12/1\, 50-246 Wrocław). \n\n\n\n>> WIĘCEJ SZCZEGÓŁÓW <<
URL:https://ashtangaanyways.com/grafik/mysore/2025-02-25/
LOCATION:Dolnośląskie
CATEGORIES:ashtanga joga,mysore,praktyka
END:VEVENT
BEGIN:VEVENT
DTSTART;TZID=Europe/Warsaw:20250225T183000
DTEND;TZID=Europe/Warsaw:20250225T193000
DTSTAMP:20260423T103305
CREATED:20240813T095954Z
LAST-MODIFIED:20251215T193627Z
UID:10001760-1740508200-1740511800@ashtangaanyways.com
SUMMARY:Ashtanga joga dla początkujących
DESCRIPTION:Zajęcia odbywają się w każdy wtorek od 18:30 do 19:30 w Ashtanga Yoga Wrocław (ul. Trzebnicka 12/1\, 50-246 Wrocław). \n\n\n\n>> WIĘCEJ SZCZEGÓŁÓW <<
URL:https://ashtangaanyways.com/grafik/ashtanga-joga-dla-poczatkujacych/2025-02-25/
LOCATION:Dolnośląskie
CATEGORIES:ashtanga joga,praktyka
END:VEVENT
BEGIN:VEVENT
DTSTART;TZID=Europe/Warsaw:20250225T194500
DTEND;TZID=Europe/Warsaw:20250225T210000
DTSTAMP:20260423T103305
CREATED:20240813T095625Z
LAST-MODIFIED:20250120T174817Z
UID:10001811-1740512700-1740517200@ashtangaanyways.com
SUMMARY:Pierwsza Seria Prowadzona
DESCRIPTION:Zajęcia odbywają się w każdy wtorek od 19:45 do 21:00 w Ashtanga Yoga Wrocław (ul. Trzebnicka 12/1\, 50-246 Wrocław). \n\n\n\n>> WIĘCEJ SZCZEGÓŁÓW <<
URL:https://ashtangaanyways.com/grafik/pierwsza-seria-prowadzona/2025-02-25/
LOCATION:Dolnośląskie
CATEGORIES:ashtanga joga,mysore,praktyka
END:VEVENT
BEGIN:VEVENT
DTSTART;TZID=Europe/Warsaw:20250226T070000
DTEND;TZID=Europe/Warsaw:20250226T090000
DTSTAMP:20260423T103305
CREATED:20241007T103400Z
LAST-MODIFIED:20251228T104600Z
UID:10001877-1740553200-1740560400@ashtangaanyways.com
SUMMARY:Ashtanga All – MYSORE
DESCRIPTION:Zajęcia odbywają się w każdy wtorek o 7:00-9:00 w Ashtanga Yoga Wrocław (ul. Trzebnicka 12/1\, 50-246 Wrocław). \n\n\n\n>> WIĘCEJ SZCZEGÓŁÓW <<
URL:https://ashtangaanyways.com/grafik/ashtanga-all-mysore-3/2025-02-26/
LOCATION:Dolnośląskie
CATEGORIES:nidra joga,praktyka
END:VEVENT
BEGIN:VEVENT
DTSTART;TZID=Europe/Warsaw:20250226T183000
DTEND;TZID=Europe/Warsaw:20250226T193000
DTSTAMP:20260423T103305
CREATED:20240813T100101Z
LAST-MODIFIED:20250120T175216Z
UID:10001929-1740594600-1740598200@ashtangaanyways.com
SUMMARY:Ashtanga joga dla początkujących
DESCRIPTION:Zajęcia odbywają się w każdą środę od 18:30 do 19:30 w Ashtanga Yoga Wrocław (ul. Trzebnicka 12/1\, 50-246 Wrocław). \n\n\n\n>> WIĘCEJ SZCZEGÓŁÓW <<
URL:https://ashtangaanyways.com/grafik/ashtanga-joga-dla-poczatkujacych-2/2025-02-26/
LOCATION:Dolnośląskie
CATEGORIES:ashtanga joga,praktyka
END:VEVENT
BEGIN:VEVENT
DTSTART;TZID=Europe/Warsaw:20250226T194500
DTEND;TZID=Europe/Warsaw:20250226T204500
DTSTAMP:20260423T103305
CREATED:20240813T100513Z
LAST-MODIFIED:20250608T073501Z
UID:10001981-1740599100-1740602700@ashtangaanyways.com
SUMMARY:Pół Pierwszej Serii Prowadzonej
DESCRIPTION:Zajęcia odbywają się w każdą środę od 19:45 do 20:45 w Ashtanga Yoga Wrocław (ul. Trzebnicka 12/1\, 50-246 Wrocław). \n\n\n\n>> WIĘCEJ SZCZEGÓŁÓW <<
URL:https://ashtangaanyways.com/grafik/yin-joga/2025-02-26/
LOCATION:Dolnośląskie
CATEGORIES:ashtanga joga,praktyka
END:VEVENT
BEGIN:VEVENT
DTSTART;TZID=Europe/Warsaw:20250227T170000
DTEND;TZID=Europe/Warsaw:20250227T183000
DTSTAMP:20260423T103305
CREATED:20240813T100816Z
LAST-MODIFIED:20250120T175955Z
UID:10002032-1740675600-1740681000@ashtangaanyways.com
SUMMARY:Mysore
DESCRIPTION:Zajęcia odbywają się w każdy czwartek o 17:00-18:30 w Ashtanga Yoga Wrocław (ul. Trzebnicka 12/1\, 50-246 Wrocław). \n\n\n\n>> WIĘCEJ SZCZEGÓŁÓW <<
URL:https://ashtangaanyways.com/grafik/mysore-3/2025-02-27/
LOCATION:Dolnośląskie
CATEGORIES:ashtanga joga,mysore,praktyka
END:VEVENT
BEGIN:VEVENT
DTSTART;TZID=Europe/Warsaw:20250227T183000
DTEND;TZID=Europe/Warsaw:20250227T194500
DTSTAMP:20260423T103305
CREATED:20240813T101125Z
LAST-MODIFIED:20241130T184235Z
UID:10000256-1740681000-1740685500@ashtangaanyways.com
SUMMARY:Pół Pierwszej Serii Prowadzonej
DESCRIPTION:Zajęcia odbywają się w każdy czwartek od 18:30 do 19:45 w Ashtanga Yoga Wrocław (ul. Trzebnicka 12/1\, 50-246 Wrocław). \n\n\n\n>> WIĘCEJ SZCZEGÓŁÓW <<
URL:https://ashtangaanyways.com/grafik/ashtanga-wstep-do-drugiej-serii/2025-02-27/
LOCATION:Dolnośląskie
CATEGORIES:ashtanga joga,praktyka
END:VEVENT
BEGIN:VEVENT
DTSTART;TZID=Europe/Warsaw:20250227T194500
DTEND;TZID=Europe/Warsaw:20250227T210000
DTSTAMP:20260423T103305
CREATED:20240813T101254Z
LAST-MODIFIED:20241130T184448Z
UID:10000186-1740685500-1740690000@ashtangaanyways.com
SUMMARY:Yin Joga
DESCRIPTION:Zajęcia odbywają się w każdy czwartek od 19:45 do 21:00 w Ashtanga Yoga Wrocław (ul. Trzebnicka 12/1\, 50-246 Wrocław). \n\n\n\n>> WIĘCEJ SZCZEGÓŁÓW <<
URL:https://ashtangaanyways.com/grafik/pol-pierwszej-serii-prowadzonej/2025-02-27/
LOCATION:Ashtanga Yoga Wrocław\, Trzebnicka 12/1\, Wrocław\, Dolnośląskie\, Poland
CATEGORIES:ashtanga joga,praktyka
END:VEVENT
BEGIN:VEVENT
DTSTART;TZID=Europe/Warsaw:20250228T173000
DTEND;TZID=Europe/Warsaw:20250228T190000
DTSTAMP:20260423T103305
CREATED:20240813T101648Z
LAST-MODIFIED:20240908T182307Z
UID:10000046-1740763800-1740769200@ashtangaanyways.com
SUMMARY:Pierwsza Seria Prowadzona
DESCRIPTION:Zajęcia odbywają się w każdy piątek od 17:30 do 19:00 w Ashtanga Yoga Wrocław (ul. Trzebnicka 12/1\, 50-246 Wrocław). \n\n\n\n >> WIĘCEJ SZCZEGÓŁÓW <<
URL:https://ashtangaanyways.com/grafik/pierwsza-seria-prowadzona-2/2025-02-28/
LOCATION:Ashtanga Yoga Wrocław\, Trzebnicka 12/1\, Wrocław\, Dolnośląskie\, Poland
CATEGORIES:ashtanga joga,praktyka
END:VEVENT
BEGIN:VEVENT
DTSTART;TZID=Europe/Warsaw:20250302T180000
DTEND;TZID=Europe/Warsaw:20250302T190000
DTSTAMP:20260423T103305
CREATED:20241130T182811Z
LAST-MODIFIED:20241201T154644Z
UID:10001181-1740938400-1740942000@ashtangaanyways.com
SUMMARY:Joga regeneracyjna i techniki relaksacji
DESCRIPTION:Łagodna\, spokojna praktyka dostosowuje się do indywidualnych potrzeb i możliwości każdego uczestnika i jest idealna dla wszystkich poszukujących spowolnienia i relaksu\, niezależnie od poziomu zaawansowania\, kondycji fizycznej czy wieku. Podczas zajęć jogi regeneracyjnej będziemy poznawać wyciszające i równoważące techniki Pranayamy a także praktykować łagodną i medytacyjną Yin jogę\, kończąc praktyki asan długim relaksem z elementami jogi Nidry. \n\n\n\n>> WIĘCEJ SZCZEGÓŁÓW <<
URL:https://ashtangaanyways.com/grafik/joga-regeneracyjna-i-techniki-relaksacji/2025-03-02/
LOCATION:Dolnośląskie
CATEGORIES:joga regeneracyjna,nidra joga,yin joga
END:VEVENT
BEGIN:VEVENT
DTSTART;TZID=Europe/Warsaw:20250304T170000
DTEND;TZID=Europe/Warsaw:20250304T183000
DTSTAMP:20260423T103305
CREATED:20240813T095331Z
LAST-MODIFIED:20250120T174433Z
UID:10001710-1741107600-1741113000@ashtangaanyways.com
SUMMARY:Mysore
DESCRIPTION:Zajęcia odbywają się w każdy wtorek o 17:00-18:30 w Ashtanga Yoga Wrocław (ul. Trzebnicka 12/1\, 50-246 Wrocław). \n\n\n\n>> WIĘCEJ SZCZEGÓŁÓW <<
URL:https://ashtangaanyways.com/grafik/mysore/2025-03-04/
LOCATION:Dolnośląskie
CATEGORIES:ashtanga joga,mysore,praktyka
END:VEVENT
BEGIN:VEVENT
DTSTART;TZID=Europe/Warsaw:20250304T183000
DTEND;TZID=Europe/Warsaw:20250304T193000
DTSTAMP:20260423T103305
CREATED:20240813T095954Z
LAST-MODIFIED:20251215T193627Z
UID:10001761-1741113000-1741116600@ashtangaanyways.com
SUMMARY:Ashtanga joga dla początkujących
DESCRIPTION:Zajęcia odbywają się w każdy wtorek od 18:30 do 19:30 w Ashtanga Yoga Wrocław (ul. Trzebnicka 12/1\, 50-246 Wrocław). \n\n\n\n>> WIĘCEJ SZCZEGÓŁÓW <<
URL:https://ashtangaanyways.com/grafik/ashtanga-joga-dla-poczatkujacych/2025-03-04/
LOCATION:Dolnośląskie
CATEGORIES:ashtanga joga,praktyka
END:VEVENT
BEGIN:VEVENT
DTSTART;TZID=Europe/Warsaw:20250304T194500
DTEND;TZID=Europe/Warsaw:20250304T210000
DTSTAMP:20260423T103305
CREATED:20240813T095625Z
LAST-MODIFIED:20250120T174817Z
UID:10001812-1741117500-1741122000@ashtangaanyways.com
SUMMARY:Pierwsza Seria Prowadzona
DESCRIPTION:Zajęcia odbywają się w każdy wtorek od 19:45 do 21:00 w Ashtanga Yoga Wrocław (ul. Trzebnicka 12/1\, 50-246 Wrocław). \n\n\n\n>> WIĘCEJ SZCZEGÓŁÓW <<
URL:https://ashtangaanyways.com/grafik/pierwsza-seria-prowadzona/2025-03-04/
LOCATION:Dolnośląskie
CATEGORIES:ashtanga joga,mysore,praktyka
END:VEVENT
BEGIN:VEVENT
DTSTART;TZID=Europe/Warsaw:20250305T070000
DTEND;TZID=Europe/Warsaw:20250305T090000
DTSTAMP:20260423T103305
CREATED:20241007T103400Z
LAST-MODIFIED:20251228T104600Z
UID:10001878-1741158000-1741165200@ashtangaanyways.com
SUMMARY:Ashtanga All – MYSORE
DESCRIPTION:Zajęcia odbywają się w każdy wtorek o 7:00-9:00 w Ashtanga Yoga Wrocław (ul. Trzebnicka 12/1\, 50-246 Wrocław). \n\n\n\n>> WIĘCEJ SZCZEGÓŁÓW <<
URL:https://ashtangaanyways.com/grafik/ashtanga-all-mysore-3/2025-03-05/
LOCATION:Dolnośląskie
CATEGORIES:nidra joga,praktyka
END:VEVENT
BEGIN:VEVENT
DTSTART;TZID=Europe/Warsaw:20250305T183000
DTEND;TZID=Europe/Warsaw:20250305T193000
DTSTAMP:20260423T103305
CREATED:20240813T100101Z
LAST-MODIFIED:20250120T175216Z
UID:10001930-1741199400-1741203000@ashtangaanyways.com
SUMMARY:Ashtanga joga dla początkujących
DESCRIPTION:Zajęcia odbywają się w każdą środę od 18:30 do 19:30 w Ashtanga Yoga Wrocław (ul. Trzebnicka 12/1\, 50-246 Wrocław). \n\n\n\n>> WIĘCEJ SZCZEGÓŁÓW <<
URL:https://ashtangaanyways.com/grafik/ashtanga-joga-dla-poczatkujacych-2/2025-03-05/
LOCATION:Dolnośląskie
CATEGORIES:ashtanga joga,praktyka
END:VEVENT
BEGIN:VEVENT
DTSTART;TZID=Europe/Warsaw:20250305T194500
DTEND;TZID=Europe/Warsaw:20250305T204500
DTSTAMP:20260423T103305
CREATED:20240813T100513Z
LAST-MODIFIED:20250608T073501Z
UID:10001982-1741203900-1741207500@ashtangaanyways.com
SUMMARY:Pół Pierwszej Serii Prowadzonej
DESCRIPTION:Zajęcia odbywają się w każdą środę od 19:45 do 20:45 w Ashtanga Yoga Wrocław (ul. Trzebnicka 12/1\, 50-246 Wrocław). \n\n\n\n>> WIĘCEJ SZCZEGÓŁÓW <<
URL:https://ashtangaanyways.com/grafik/yin-joga/2025-03-05/
LOCATION:Dolnośląskie
CATEGORIES:ashtanga joga,praktyka
END:VEVENT
BEGIN:VEVENT
DTSTART;TZID=Europe/Warsaw:20250306T170000
DTEND;TZID=Europe/Warsaw:20250306T183000
DTSTAMP:20260423T103305
CREATED:20240813T100816Z
LAST-MODIFIED:20250120T175955Z
UID:10002033-1741280400-1741285800@ashtangaanyways.com
SUMMARY:Mysore
DESCRIPTION:Zajęcia odbywają się w każdy czwartek o 17:00-18:30 w Ashtanga Yoga Wrocław (ul. Trzebnicka 12/1\, 50-246 Wrocław). \n\n\n\n>> WIĘCEJ SZCZEGÓŁÓW <<
URL:https://ashtangaanyways.com/grafik/mysore-3/2025-03-06/
LOCATION:Dolnośląskie
CATEGORIES:ashtanga joga,mysore,praktyka
END:VEVENT
BEGIN:VEVENT
DTSTART;TZID=Europe/Warsaw:20250306T183000
DTEND;TZID=Europe/Warsaw:20250306T194500
DTSTAMP:20260423T103305
CREATED:20240813T101125Z
LAST-MODIFIED:20241130T184235Z
UID:10000257-1741285800-1741290300@ashtangaanyways.com
SUMMARY:Pół Pierwszej Serii Prowadzonej
DESCRIPTION:Zajęcia odbywają się w każdy czwartek od 18:30 do 19:45 w Ashtanga Yoga Wrocław (ul. Trzebnicka 12/1\, 50-246 Wrocław). \n\n\n\n>> WIĘCEJ SZCZEGÓŁÓW <<
URL:https://ashtangaanyways.com/grafik/ashtanga-wstep-do-drugiej-serii/2025-03-06/
LOCATION:Dolnośląskie
CATEGORIES:ashtanga joga,praktyka
END:VEVENT
BEGIN:VEVENT
DTSTART;TZID=Europe/Warsaw:20250306T194500
DTEND;TZID=Europe/Warsaw:20250306T210000
DTSTAMP:20260423T103305
CREATED:20240813T101254Z
LAST-MODIFIED:20241130T184448Z
UID:10000187-1741290300-1741294800@ashtangaanyways.com
SUMMARY:Yin Joga
DESCRIPTION:Zajęcia odbywają się w każdy czwartek od 19:45 do 21:00 w Ashtanga Yoga Wrocław (ul. Trzebnicka 12/1\, 50-246 Wrocław). \n\n\n\n>> WIĘCEJ SZCZEGÓŁÓW <<
URL:https://ashtangaanyways.com/grafik/pol-pierwszej-serii-prowadzonej/2025-03-06/
LOCATION:Ashtanga Yoga Wrocław\, Trzebnicka 12/1\, Wrocław\, Dolnośląskie\, Poland
CATEGORIES:ashtanga joga,praktyka
END:VEVENT
BEGIN:VEVENT
DTSTART;TZID=Europe/Warsaw:20250307T173000
DTEND;TZID=Europe/Warsaw:20250307T190000
DTSTAMP:20260423T103305
CREATED:20240813T101648Z
LAST-MODIFIED:20240908T182307Z
UID:10000047-1741368600-1741374000@ashtangaanyways.com
SUMMARY:Pierwsza Seria Prowadzona
DESCRIPTION:Zajęcia odbywają się w każdy piątek od 17:30 do 19:00 w Ashtanga Yoga Wrocław (ul. Trzebnicka 12/1\, 50-246 Wrocław). \n\n\n\n >> WIĘCEJ SZCZEGÓŁÓW <<
URL:https://ashtangaanyways.com/grafik/pierwsza-seria-prowadzona-2/2025-03-07/
LOCATION:Ashtanga Yoga Wrocław\, Trzebnicka 12/1\, Wrocław\, Dolnośląskie\, Poland
CATEGORIES:ashtanga joga,praktyka
END:VEVENT
BEGIN:VEVENT
DTSTART;TZID=Europe/Warsaw:20250309T180000
DTEND;TZID=Europe/Warsaw:20250309T190000
DTSTAMP:20260423T103305
CREATED:20241130T182811Z
LAST-MODIFIED:20241201T154644Z
UID:10001182-1741543200-1741546800@ashtangaanyways.com
SUMMARY:Joga regeneracyjna i techniki relaksacji
DESCRIPTION:Łagodna\, spokojna praktyka dostosowuje się do indywidualnych potrzeb i możliwości każdego uczestnika i jest idealna dla wszystkich poszukujących spowolnienia i relaksu\, niezależnie od poziomu zaawansowania\, kondycji fizycznej czy wieku. Podczas zajęć jogi regeneracyjnej będziemy poznawać wyciszające i równoważące techniki Pranayamy a także praktykować łagodną i medytacyjną Yin jogę\, kończąc praktyki asan długim relaksem z elementami jogi Nidry. \n\n\n\n>> WIĘCEJ SZCZEGÓŁÓW <<
URL:https://ashtangaanyways.com/grafik/joga-regeneracyjna-i-techniki-relaksacji/2025-03-09/
LOCATION:Dolnośląskie
CATEGORIES:joga regeneracyjna,nidra joga,yin joga
END:VEVENT
BEGIN:VEVENT
DTSTART;TZID=Europe/Warsaw:20250311T170000
DTEND;TZID=Europe/Warsaw:20250311T183000
DTSTAMP:20260423T103305
CREATED:20240813T095331Z
LAST-MODIFIED:20250120T174433Z
UID:10001711-1741712400-1741717800@ashtangaanyways.com
SUMMARY:Mysore
DESCRIPTION:Zajęcia odbywają się w każdy wtorek o 17:00-18:30 w Ashtanga Yoga Wrocław (ul. Trzebnicka 12/1\, 50-246 Wrocław). \n\n\n\n>> WIĘCEJ SZCZEGÓŁÓW <<
URL:https://ashtangaanyways.com/grafik/mysore/2025-03-11/
LOCATION:Dolnośląskie
CATEGORIES:ashtanga joga,mysore,praktyka
END:VEVENT
BEGIN:VEVENT
DTSTART;TZID=Europe/Warsaw:20250311T183000
DTEND;TZID=Europe/Warsaw:20250311T193000
DTSTAMP:20260423T103305
CREATED:20240813T095954Z
LAST-MODIFIED:20251215T193627Z
UID:10001762-1741717800-1741721400@ashtangaanyways.com
SUMMARY:Ashtanga joga dla początkujących
DESCRIPTION:Zajęcia odbywają się w każdy wtorek od 18:30 do 19:30 w Ashtanga Yoga Wrocław (ul. Trzebnicka 12/1\, 50-246 Wrocław). \n\n\n\n>> WIĘCEJ SZCZEGÓŁÓW <<
URL:https://ashtangaanyways.com/grafik/ashtanga-joga-dla-poczatkujacych/2025-03-11/
LOCATION:Dolnośląskie
CATEGORIES:ashtanga joga,praktyka
END:VEVENT
BEGIN:VEVENT
DTSTART;TZID=Europe/Warsaw:20250311T194500
DTEND;TZID=Europe/Warsaw:20250311T210000
DTSTAMP:20260423T103305
CREATED:20240813T095625Z
LAST-MODIFIED:20250120T174817Z
UID:10001813-1741722300-1741726800@ashtangaanyways.com
SUMMARY:Pierwsza Seria Prowadzona
DESCRIPTION:Zajęcia odbywają się w każdy wtorek od 19:45 do 21:00 w Ashtanga Yoga Wrocław (ul. Trzebnicka 12/1\, 50-246 Wrocław). \n\n\n\n>> WIĘCEJ SZCZEGÓŁÓW <<
URL:https://ashtangaanyways.com/grafik/pierwsza-seria-prowadzona/2025-03-11/
LOCATION:Dolnośląskie
CATEGORIES:ashtanga joga,mysore,praktyka
END:VEVENT
BEGIN:VEVENT
DTSTART;TZID=Europe/Warsaw:20250312T070000
DTEND;TZID=Europe/Warsaw:20250312T090000
DTSTAMP:20260423T103305
CREATED:20241007T103400Z
LAST-MODIFIED:20251228T104600Z
UID:10001879-1741762800-1741770000@ashtangaanyways.com
SUMMARY:Ashtanga All – MYSORE
DESCRIPTION:Zajęcia odbywają się w każdy wtorek o 7:00-9:00 w Ashtanga Yoga Wrocław (ul. Trzebnicka 12/1\, 50-246 Wrocław). \n\n\n\n>> WIĘCEJ SZCZEGÓŁÓW <<
URL:https://ashtangaanyways.com/grafik/ashtanga-all-mysore-3/2025-03-12/
LOCATION:Dolnośląskie
CATEGORIES:nidra joga,praktyka
END:VEVENT
BEGIN:VEVENT
DTSTART;TZID=Europe/Warsaw:20250312T183000
DTEND;TZID=Europe/Warsaw:20250312T193000
DTSTAMP:20260423T103305
CREATED:20240813T100101Z
LAST-MODIFIED:20250120T175216Z
UID:10001931-1741804200-1741807800@ashtangaanyways.com
SUMMARY:Ashtanga joga dla początkujących
DESCRIPTION:Zajęcia odbywają się w każdą środę od 18:30 do 19:30 w Ashtanga Yoga Wrocław (ul. Trzebnicka 12/1\, 50-246 Wrocław). \n\n\n\n>> WIĘCEJ SZCZEGÓŁÓW <<
URL:https://ashtangaanyways.com/grafik/ashtanga-joga-dla-poczatkujacych-2/2025-03-12/
LOCATION:Dolnośląskie
CATEGORIES:ashtanga joga,praktyka
END:VEVENT
BEGIN:VEVENT
DTSTART;TZID=Europe/Warsaw:20250312T194500
DTEND;TZID=Europe/Warsaw:20250312T204500
DTSTAMP:20260423T103305
CREATED:20240813T100513Z
LAST-MODIFIED:20250608T073501Z
UID:10001983-1741808700-1741812300@ashtangaanyways.com
SUMMARY:Pół Pierwszej Serii Prowadzonej
DESCRIPTION:Zajęcia odbywają się w każdą środę od 19:45 do 20:45 w Ashtanga Yoga Wrocław (ul. Trzebnicka 12/1\, 50-246 Wrocław). \n\n\n\n>> WIĘCEJ SZCZEGÓŁÓW <<
URL:https://ashtangaanyways.com/grafik/yin-joga/2025-03-12/
LOCATION:Dolnośląskie
CATEGORIES:ashtanga joga,praktyka
END:VEVENT
BEGIN:VEVENT
DTSTART;TZID=Europe/Warsaw:20250313T170000
DTEND;TZID=Europe/Warsaw:20250313T183000
DTSTAMP:20260423T103305
CREATED:20240813T100816Z
LAST-MODIFIED:20250120T175955Z
UID:10002034-1741885200-1741890600@ashtangaanyways.com
SUMMARY:Mysore
DESCRIPTION:Zajęcia odbywają się w każdy czwartek o 17:00-18:30 w Ashtanga Yoga Wrocław (ul. Trzebnicka 12/1\, 50-246 Wrocław). \n\n\n\n>> WIĘCEJ SZCZEGÓŁÓW <<
URL:https://ashtangaanyways.com/grafik/mysore-3/2025-03-13/
LOCATION:Dolnośląskie
CATEGORIES:ashtanga joga,mysore,praktyka
END:VEVENT
END:VCALENDAR