BEGIN:VCALENDAR
VERSION:2.0
PRODID:-//Ashtanga Anyways - ECPv6.15.18//NONSGML v1.0//EN
CALSCALE:GREGORIAN
METHOD:PUBLISH
X-WR-CALNAME:Ashtanga Anyways
X-ORIGINAL-URL:https://ashtangaanyways.com
X-WR-CALDESC:Wydarzenia dla Ashtanga Anyways
REFRESH-INTERVAL;VALUE=DURATION:PT1H
X-Robots-Tag:noindex
X-PUBLISHED-TTL:PT1H
BEGIN:VTIMEZONE
TZID:Europe/Warsaw
BEGIN:DAYLIGHT
TZOFFSETFROM:+0100
TZOFFSETTO:+0200
TZNAME:CEST
DTSTART:20270328T010000
END:DAYLIGHT
BEGIN:STANDARD
TZOFFSETFROM:+0200
TZOFFSETTO:+0100
TZNAME:CET
DTSTART:20271031T010000
END:STANDARD
BEGIN:DAYLIGHT
TZOFFSETFROM:+0100
TZOFFSETTO:+0200
TZNAME:CEST
DTSTART:20280326T010000
END:DAYLIGHT
BEGIN:STANDARD
TZOFFSETFROM:+0200
TZOFFSETTO:+0100
TZNAME:CET
DTSTART:20281029T010000
END:STANDARD
BEGIN:DAYLIGHT
TZOFFSETFROM:+0100
TZOFFSETTO:+0200
TZNAME:CEST
DTSTART:20290325T010000
END:DAYLIGHT
BEGIN:STANDARD
TZOFFSETFROM:+0200
TZOFFSETTO:+0100
TZNAME:CET
DTSTART:20291028T010000
END:STANDARD
END:VTIMEZONE
BEGIN:VEVENT
DTSTART;TZID=Europe/Warsaw:20280223T173000
DTEND;TZID=Europe/Warsaw:20280223T190000
DTSTAMP:20260422T061528
CREATED:20260110T204055Z
LAST-MODIFIED:20260110T204056Z
UID:10003656-1834939800-1834945200@ashtangaanyways.com
SUMMARY:Pierwsza seria prowadzona
DESCRIPTION:Zajęcia odbywają się w każdą środę od 17:30 do 19:00 w Ashtanga Yoga Wrocław (ul. Trzebnicka 12/1\, 50-246 Wrocław).
URL:https://ashtangaanyways.com/grafik/pierwsza-seria-prowadzona-5/2028-02-23/
END:VEVENT
BEGIN:VEVENT
DTSTART;TZID=Europe/Warsaw:20280301T173000
DTEND;TZID=Europe/Warsaw:20280301T190000
DTSTAMP:20260422T061528
CREATED:20260110T204055Z
LAST-MODIFIED:20260110T204056Z
UID:10003657-1835544600-1835550000@ashtangaanyways.com
SUMMARY:Pierwsza seria prowadzona
DESCRIPTION:Zajęcia odbywają się w każdą środę od 17:30 do 19:00 w Ashtanga Yoga Wrocław (ul. Trzebnicka 12/1\, 50-246 Wrocław).
URL:https://ashtangaanyways.com/grafik/pierwsza-seria-prowadzona-5/2028-03-01/
END:VEVENT
BEGIN:VEVENT
DTSTART;TZID=Europe/Warsaw:20280308T173000
DTEND;TZID=Europe/Warsaw:20280308T190000
DTSTAMP:20260422T061528
CREATED:20260110T204055Z
LAST-MODIFIED:20260110T204056Z
UID:10003658-1836149400-1836154800@ashtangaanyways.com
SUMMARY:Pierwsza seria prowadzona
DESCRIPTION:Zajęcia odbywają się w każdą środę od 17:30 do 19:00 w Ashtanga Yoga Wrocław (ul. Trzebnicka 12/1\, 50-246 Wrocław).
URL:https://ashtangaanyways.com/grafik/pierwsza-seria-prowadzona-5/2028-03-08/
END:VEVENT
BEGIN:VEVENT
DTSTART;TZID=Europe/Warsaw:20280315T173000
DTEND;TZID=Europe/Warsaw:20280315T190000
DTSTAMP:20260422T061528
CREATED:20260110T204055Z
LAST-MODIFIED:20260110T204056Z
UID:10003659-1836754200-1836759600@ashtangaanyways.com
SUMMARY:Pierwsza seria prowadzona
DESCRIPTION:Zajęcia odbywają się w każdą środę od 17:30 do 19:00 w Ashtanga Yoga Wrocław (ul. Trzebnicka 12/1\, 50-246 Wrocław).
URL:https://ashtangaanyways.com/grafik/pierwsza-seria-prowadzona-5/2028-03-15/
END:VEVENT
BEGIN:VEVENT
DTSTART;TZID=Europe/Warsaw:20280322T173000
DTEND;TZID=Europe/Warsaw:20280322T190000
DTSTAMP:20260422T061528
CREATED:20260110T204055Z
LAST-MODIFIED:20260110T204056Z
UID:10003660-1837359000-1837364400@ashtangaanyways.com
SUMMARY:Pierwsza seria prowadzona
DESCRIPTION:Zajęcia odbywają się w każdą środę od 17:30 do 19:00 w Ashtanga Yoga Wrocław (ul. Trzebnicka 12/1\, 50-246 Wrocław).
URL:https://ashtangaanyways.com/grafik/pierwsza-seria-prowadzona-5/2028-03-22/
END:VEVENT
BEGIN:VEVENT
DTSTART;TZID=Europe/Warsaw:20280329T173000
DTEND;TZID=Europe/Warsaw:20280329T190000
DTSTAMP:20260422T061528
CREATED:20260110T204055Z
LAST-MODIFIED:20260110T204056Z
UID:10003661-1837963800-1837969200@ashtangaanyways.com
SUMMARY:Pierwsza seria prowadzona
DESCRIPTION:Zajęcia odbywają się w każdą środę od 17:30 do 19:00 w Ashtanga Yoga Wrocław (ul. Trzebnicka 12/1\, 50-246 Wrocław).
URL:https://ashtangaanyways.com/grafik/pierwsza-seria-prowadzona-5/2028-03-29/
END:VEVENT
BEGIN:VEVENT
DTSTART;TZID=Europe/Warsaw:20280405T173000
DTEND;TZID=Europe/Warsaw:20280405T190000
DTSTAMP:20260422T061528
CREATED:20260110T204055Z
LAST-MODIFIED:20260110T204056Z
UID:10003662-1838568600-1838574000@ashtangaanyways.com
SUMMARY:Pierwsza seria prowadzona
DESCRIPTION:Zajęcia odbywają się w każdą środę od 17:30 do 19:00 w Ashtanga Yoga Wrocław (ul. Trzebnicka 12/1\, 50-246 Wrocław).
URL:https://ashtangaanyways.com/grafik/pierwsza-seria-prowadzona-5/2028-04-05/
END:VEVENT
BEGIN:VEVENT
DTSTART;TZID=Europe/Warsaw:20280412T173000
DTEND;TZID=Europe/Warsaw:20280412T190000
DTSTAMP:20260422T061528
CREATED:20260110T204055Z
LAST-MODIFIED:20260110T204056Z
UID:10003663-1839173400-1839178800@ashtangaanyways.com
SUMMARY:Pierwsza seria prowadzona
DESCRIPTION:Zajęcia odbywają się w każdą środę od 17:30 do 19:00 w Ashtanga Yoga Wrocław (ul. Trzebnicka 12/1\, 50-246 Wrocław).
URL:https://ashtangaanyways.com/grafik/pierwsza-seria-prowadzona-5/2028-04-12/
END:VEVENT
BEGIN:VEVENT
DTSTART;TZID=Europe/Warsaw:20280419T173000
DTEND;TZID=Europe/Warsaw:20280419T190000
DTSTAMP:20260422T061528
CREATED:20260110T204055Z
LAST-MODIFIED:20260110T204056Z
UID:10003664-1839778200-1839783600@ashtangaanyways.com
SUMMARY:Pierwsza seria prowadzona
DESCRIPTION:Zajęcia odbywają się w każdą środę od 17:30 do 19:00 w Ashtanga Yoga Wrocław (ul. Trzebnicka 12/1\, 50-246 Wrocław).
URL:https://ashtangaanyways.com/grafik/pierwsza-seria-prowadzona-5/2028-04-19/
END:VEVENT
BEGIN:VEVENT
DTSTART;TZID=Europe/Warsaw:20280426T173000
DTEND;TZID=Europe/Warsaw:20280426T190000
DTSTAMP:20260422T061528
CREATED:20260110T204055Z
LAST-MODIFIED:20260110T204056Z
UID:10003665-1840383000-1840388400@ashtangaanyways.com
SUMMARY:Pierwsza seria prowadzona
DESCRIPTION:Zajęcia odbywają się w każdą środę od 17:30 do 19:00 w Ashtanga Yoga Wrocław (ul. Trzebnicka 12/1\, 50-246 Wrocław).
URL:https://ashtangaanyways.com/grafik/pierwsza-seria-prowadzona-5/2028-04-26/
END:VEVENT
BEGIN:VEVENT
DTSTART;TZID=Europe/Warsaw:20280503T173000
DTEND;TZID=Europe/Warsaw:20280503T190000
DTSTAMP:20260422T061528
CREATED:20260110T204055Z
LAST-MODIFIED:20260110T204056Z
UID:10003666-1840987800-1840993200@ashtangaanyways.com
SUMMARY:Pierwsza seria prowadzona
DESCRIPTION:Zajęcia odbywają się w każdą środę od 17:30 do 19:00 w Ashtanga Yoga Wrocław (ul. Trzebnicka 12/1\, 50-246 Wrocław).
URL:https://ashtangaanyways.com/grafik/pierwsza-seria-prowadzona-5/2028-05-03/
END:VEVENT
BEGIN:VEVENT
DTSTART;TZID=Europe/Warsaw:20280510T173000
DTEND;TZID=Europe/Warsaw:20280510T190000
DTSTAMP:20260422T061528
CREATED:20260110T204055Z
LAST-MODIFIED:20260110T204056Z
UID:10003667-1841592600-1841598000@ashtangaanyways.com
SUMMARY:Pierwsza seria prowadzona
DESCRIPTION:Zajęcia odbywają się w każdą środę od 17:30 do 19:00 w Ashtanga Yoga Wrocław (ul. Trzebnicka 12/1\, 50-246 Wrocław).
URL:https://ashtangaanyways.com/grafik/pierwsza-seria-prowadzona-5/2028-05-10/
END:VEVENT
BEGIN:VEVENT
DTSTART;TZID=Europe/Warsaw:20280517T173000
DTEND;TZID=Europe/Warsaw:20280517T190000
DTSTAMP:20260422T061528
CREATED:20260110T204055Z
LAST-MODIFIED:20260110T204056Z
UID:10003668-1842197400-1842202800@ashtangaanyways.com
SUMMARY:Pierwsza seria prowadzona
DESCRIPTION:Zajęcia odbywają się w każdą środę od 17:30 do 19:00 w Ashtanga Yoga Wrocław (ul. Trzebnicka 12/1\, 50-246 Wrocław).
URL:https://ashtangaanyways.com/grafik/pierwsza-seria-prowadzona-5/2028-05-17/
END:VEVENT
BEGIN:VEVENT
DTSTART;TZID=Europe/Warsaw:20280524T173000
DTEND;TZID=Europe/Warsaw:20280524T190000
DTSTAMP:20260422T061528
CREATED:20260110T204055Z
LAST-MODIFIED:20260110T204056Z
UID:10003669-1842802200-1842807600@ashtangaanyways.com
SUMMARY:Pierwsza seria prowadzona
DESCRIPTION:Zajęcia odbywają się w każdą środę od 17:30 do 19:00 w Ashtanga Yoga Wrocław (ul. Trzebnicka 12/1\, 50-246 Wrocław).
URL:https://ashtangaanyways.com/grafik/pierwsza-seria-prowadzona-5/2028-05-24/
END:VEVENT
BEGIN:VEVENT
DTSTART;TZID=Europe/Warsaw:20280531T173000
DTEND;TZID=Europe/Warsaw:20280531T190000
DTSTAMP:20260422T061528
CREATED:20260110T204055Z
LAST-MODIFIED:20260110T204056Z
UID:10003670-1843407000-1843412400@ashtangaanyways.com
SUMMARY:Pierwsza seria prowadzona
DESCRIPTION:Zajęcia odbywają się w każdą środę od 17:30 do 19:00 w Ashtanga Yoga Wrocław (ul. Trzebnicka 12/1\, 50-246 Wrocław).
URL:https://ashtangaanyways.com/grafik/pierwsza-seria-prowadzona-5/2028-05-31/
END:VEVENT
BEGIN:VEVENT
DTSTART;TZID=Europe/Warsaw:20280607T173000
DTEND;TZID=Europe/Warsaw:20280607T190000
DTSTAMP:20260422T061528
CREATED:20260110T204055Z
LAST-MODIFIED:20260110T204056Z
UID:10003671-1844011800-1844017200@ashtangaanyways.com
SUMMARY:Pierwsza seria prowadzona
DESCRIPTION:Zajęcia odbywają się w każdą środę od 17:30 do 19:00 w Ashtanga Yoga Wrocław (ul. Trzebnicka 12/1\, 50-246 Wrocław).
URL:https://ashtangaanyways.com/grafik/pierwsza-seria-prowadzona-5/2028-06-07/
END:VEVENT
BEGIN:VEVENT
DTSTART;TZID=Europe/Warsaw:20280614T173000
DTEND;TZID=Europe/Warsaw:20280614T190000
DTSTAMP:20260422T061528
CREATED:20260110T204055Z
LAST-MODIFIED:20260110T204056Z
UID:10003672-1844616600-1844622000@ashtangaanyways.com
SUMMARY:Pierwsza seria prowadzona
DESCRIPTION:Zajęcia odbywają się w każdą środę od 17:30 do 19:00 w Ashtanga Yoga Wrocław (ul. Trzebnicka 12/1\, 50-246 Wrocław).
URL:https://ashtangaanyways.com/grafik/pierwsza-seria-prowadzona-5/2028-06-14/
END:VEVENT
BEGIN:VEVENT
DTSTART;TZID=Europe/Warsaw:20280621T173000
DTEND;TZID=Europe/Warsaw:20280621T190000
DTSTAMP:20260422T061528
CREATED:20260110T204055Z
LAST-MODIFIED:20260110T204056Z
UID:10003673-1845221400-1845226800@ashtangaanyways.com
SUMMARY:Pierwsza seria prowadzona
DESCRIPTION:Zajęcia odbywają się w każdą środę od 17:30 do 19:00 w Ashtanga Yoga Wrocław (ul. Trzebnicka 12/1\, 50-246 Wrocław).
URL:https://ashtangaanyways.com/grafik/pierwsza-seria-prowadzona-5/2028-06-21/
END:VEVENT
BEGIN:VEVENT
DTSTART;TZID=Europe/Warsaw:20280628T173000
DTEND;TZID=Europe/Warsaw:20280628T190000
DTSTAMP:20260422T061528
CREATED:20260110T204055Z
LAST-MODIFIED:20260110T204056Z
UID:10003674-1845826200-1845831600@ashtangaanyways.com
SUMMARY:Pierwsza seria prowadzona
DESCRIPTION:Zajęcia odbywają się w każdą środę od 17:30 do 19:00 w Ashtanga Yoga Wrocław (ul. Trzebnicka 12/1\, 50-246 Wrocław).
URL:https://ashtangaanyways.com/grafik/pierwsza-seria-prowadzona-5/2028-06-28/
END:VEVENT
BEGIN:VEVENT
DTSTART;TZID=Europe/Warsaw:20280705T173000
DTEND;TZID=Europe/Warsaw:20280705T190000
DTSTAMP:20260422T061528
CREATED:20260110T204055Z
LAST-MODIFIED:20260110T204056Z
UID:10003675-1846431000-1846436400@ashtangaanyways.com
SUMMARY:Pierwsza seria prowadzona
DESCRIPTION:Zajęcia odbywają się w każdą środę od 17:30 do 19:00 w Ashtanga Yoga Wrocław (ul. Trzebnicka 12/1\, 50-246 Wrocław).
URL:https://ashtangaanyways.com/grafik/pierwsza-seria-prowadzona-5/2028-07-05/
END:VEVENT
BEGIN:VEVENT
DTSTART;TZID=Europe/Warsaw:20280712T173000
DTEND;TZID=Europe/Warsaw:20280712T190000
DTSTAMP:20260422T061528
CREATED:20260110T204055Z
LAST-MODIFIED:20260110T204056Z
UID:10003676-1847035800-1847041200@ashtangaanyways.com
SUMMARY:Pierwsza seria prowadzona
DESCRIPTION:Zajęcia odbywają się w każdą środę od 17:30 do 19:00 w Ashtanga Yoga Wrocław (ul. Trzebnicka 12/1\, 50-246 Wrocław).
URL:https://ashtangaanyways.com/grafik/pierwsza-seria-prowadzona-5/2028-07-12/
END:VEVENT
BEGIN:VEVENT
DTSTART;TZID=Europe/Warsaw:20280719T173000
DTEND;TZID=Europe/Warsaw:20280719T190000
DTSTAMP:20260422T061528
CREATED:20260110T204055Z
LAST-MODIFIED:20260110T204056Z
UID:10003677-1847640600-1847646000@ashtangaanyways.com
SUMMARY:Pierwsza seria prowadzona
DESCRIPTION:Zajęcia odbywają się w każdą środę od 17:30 do 19:00 w Ashtanga Yoga Wrocław (ul. Trzebnicka 12/1\, 50-246 Wrocław).
URL:https://ashtangaanyways.com/grafik/pierwsza-seria-prowadzona-5/2028-07-19/
END:VEVENT
BEGIN:VEVENT
DTSTART;TZID=Europe/Warsaw:20280726T173000
DTEND;TZID=Europe/Warsaw:20280726T190000
DTSTAMP:20260422T061528
CREATED:20260110T204055Z
LAST-MODIFIED:20260110T204056Z
UID:10003678-1848245400-1848250800@ashtangaanyways.com
SUMMARY:Pierwsza seria prowadzona
DESCRIPTION:Zajęcia odbywają się w każdą środę od 17:30 do 19:00 w Ashtanga Yoga Wrocław (ul. Trzebnicka 12/1\, 50-246 Wrocław).
URL:https://ashtangaanyways.com/grafik/pierwsza-seria-prowadzona-5/2028-07-26/
END:VEVENT
BEGIN:VEVENT
DTSTART;TZID=Europe/Warsaw:20280802T173000
DTEND;TZID=Europe/Warsaw:20280802T190000
DTSTAMP:20260422T061528
CREATED:20260110T204055Z
LAST-MODIFIED:20260110T204056Z
UID:10003679-1848850200-1848855600@ashtangaanyways.com
SUMMARY:Pierwsza seria prowadzona
DESCRIPTION:Zajęcia odbywają się w każdą środę od 17:30 do 19:00 w Ashtanga Yoga Wrocław (ul. Trzebnicka 12/1\, 50-246 Wrocław).
URL:https://ashtangaanyways.com/grafik/pierwsza-seria-prowadzona-5/2028-08-02/
END:VEVENT
BEGIN:VEVENT
DTSTART;TZID=Europe/Warsaw:20280809T173000
DTEND;TZID=Europe/Warsaw:20280809T190000
DTSTAMP:20260422T061528
CREATED:20260110T204055Z
LAST-MODIFIED:20260110T204056Z
UID:10003680-1849455000-1849460400@ashtangaanyways.com
SUMMARY:Pierwsza seria prowadzona
DESCRIPTION:Zajęcia odbywają się w każdą środę od 17:30 do 19:00 w Ashtanga Yoga Wrocław (ul. Trzebnicka 12/1\, 50-246 Wrocław).
URL:https://ashtangaanyways.com/grafik/pierwsza-seria-prowadzona-5/2028-08-09/
END:VEVENT
BEGIN:VEVENT
DTSTART;TZID=Europe/Warsaw:20280816T173000
DTEND;TZID=Europe/Warsaw:20280816T190000
DTSTAMP:20260422T061528
CREATED:20260110T204055Z
LAST-MODIFIED:20260110T204056Z
UID:10003681-1850059800-1850065200@ashtangaanyways.com
SUMMARY:Pierwsza seria prowadzona
DESCRIPTION:Zajęcia odbywają się w każdą środę od 17:30 do 19:00 w Ashtanga Yoga Wrocław (ul. Trzebnicka 12/1\, 50-246 Wrocław).
URL:https://ashtangaanyways.com/grafik/pierwsza-seria-prowadzona-5/2028-08-16/
END:VEVENT
BEGIN:VEVENT
DTSTART;TZID=Europe/Warsaw:20280823T173000
DTEND;TZID=Europe/Warsaw:20280823T190000
DTSTAMP:20260422T061528
CREATED:20260110T204055Z
LAST-MODIFIED:20260110T204056Z
UID:10003682-1850664600-1850670000@ashtangaanyways.com
SUMMARY:Pierwsza seria prowadzona
DESCRIPTION:Zajęcia odbywają się w każdą środę od 17:30 do 19:00 w Ashtanga Yoga Wrocław (ul. Trzebnicka 12/1\, 50-246 Wrocław).
URL:https://ashtangaanyways.com/grafik/pierwsza-seria-prowadzona-5/2028-08-23/
END:VEVENT
BEGIN:VEVENT
DTSTART;TZID=Europe/Warsaw:20280830T173000
DTEND;TZID=Europe/Warsaw:20280830T190000
DTSTAMP:20260422T061528
CREATED:20260110T204055Z
LAST-MODIFIED:20260110T204056Z
UID:10003683-1851269400-1851274800@ashtangaanyways.com
SUMMARY:Pierwsza seria prowadzona
DESCRIPTION:Zajęcia odbywają się w każdą środę od 17:30 do 19:00 w Ashtanga Yoga Wrocław (ul. Trzebnicka 12/1\, 50-246 Wrocław).
URL:https://ashtangaanyways.com/grafik/pierwsza-seria-prowadzona-5/2028-08-30/
END:VEVENT
BEGIN:VEVENT
DTSTART;TZID=Europe/Warsaw:20280906T173000
DTEND;TZID=Europe/Warsaw:20280906T190000
DTSTAMP:20260422T061528
CREATED:20260110T204055Z
LAST-MODIFIED:20260110T204056Z
UID:10003684-1851874200-1851879600@ashtangaanyways.com
SUMMARY:Pierwsza seria prowadzona
DESCRIPTION:Zajęcia odbywają się w każdą środę od 17:30 do 19:00 w Ashtanga Yoga Wrocław (ul. Trzebnicka 12/1\, 50-246 Wrocław).
URL:https://ashtangaanyways.com/grafik/pierwsza-seria-prowadzona-5/2028-09-06/
END:VEVENT
BEGIN:VEVENT
DTSTART;TZID=Europe/Warsaw:20280913T173000
DTEND;TZID=Europe/Warsaw:20280913T190000
DTSTAMP:20260422T061528
CREATED:20260110T204055Z
LAST-MODIFIED:20260110T204056Z
UID:10003685-1852479000-1852484400@ashtangaanyways.com
SUMMARY:Pierwsza seria prowadzona
DESCRIPTION:Zajęcia odbywają się w każdą środę od 17:30 do 19:00 w Ashtanga Yoga Wrocław (ul. Trzebnicka 12/1\, 50-246 Wrocław).
URL:https://ashtangaanyways.com/grafik/pierwsza-seria-prowadzona-5/2028-09-13/
END:VEVENT
END:VCALENDAR